BEGIN:VCALENDAR
VERSION:2.0
PRODID:-//Downtown Wabash, Inc. - ECPv6.15.17.1//NONSGML v1.0//EN
CALSCALE:GREGORIAN
METHOD:PUBLISH
X-ORIGINAL-URL:https://downtownwabash.org
X-WR-CALDESC:Events for Downtown Wabash, Inc.
REFRESH-INTERVAL;VALUE=DURATION:PT1H
X-Robots-Tag:noindex
X-PUBLISHED-TTL:PT1H
BEGIN:VTIMEZONE
TZID:America/Indiana/Indianapolis
BEGIN:DAYLIGHT
TZOFFSETFROM:-0500
TZOFFSETTO:-0400
TZNAME:EDT
DTSTART:20250309T070000
END:DAYLIGHT
BEGIN:STANDARD
TZOFFSETFROM:-0400
TZOFFSETTO:-0500
TZNAME:EST
DTSTART:20251102T060000
END:STANDARD
BEGIN:DAYLIGHT
TZOFFSETFROM:-0500
TZOFFSETTO:-0400
TZNAME:EDT
DTSTART:20260308T070000
END:DAYLIGHT
BEGIN:STANDARD
TZOFFSETFROM:-0400
TZOFFSETTO:-0500
TZNAME:EST
DTSTART:20261101T060000
END:STANDARD
BEGIN:DAYLIGHT
TZOFFSETFROM:-0500
TZOFFSETTO:-0400
TZNAME:EDT
DTSTART:20270314T070000
END:DAYLIGHT
BEGIN:STANDARD
TZOFFSETFROM:-0400
TZOFFSETTO:-0500
TZNAME:EST
DTSTART:20271107T060000
END:STANDARD
END:VTIMEZONE
BEGIN:VEVENT
DTSTART;TZID=America/Indiana/Indianapolis:20260904T193000
DTEND;TZID=America/Indiana/Indianapolis:20260904T213000
DTSTAMP:20260423T200224
CREATED:20251203T192833Z
LAST-MODIFIED:20251203T192833Z
UID:10211-1788550200-1788557400@downtownwabash.org
SUMMARY:Peter Antoniou
DESCRIPTION:From a childhood fascination with a simple tarot deck to stages around the world\, Peter Antoniou has built a career on turning the impossible into unforgettable theatre. Guided by his fortune-telling aunt\, he honed his mind-reading skills with the childhood goal of being recruited by the X-Men. Over the last 18 years\, he has toured internationally for sold-out crowds. His performances blend razor-sharp comedy\, audience connection\, and moments that feel like an episode of The Twilight Zone.
URL:https://downtownwabash.org/event/peter-antoniou/
END:VEVENT
BEGIN:VEVENT
DTSTART;TZID=America/Indiana/Indianapolis:20260911T193000
DTEND;TZID=America/Indiana/Indianapolis:20260911T213000
DTSTAMP:20260423T200224
CREATED:20251203T192846Z
LAST-MODIFIED:20251203T192846Z
UID:10212-1789155000-1789162200@downtownwabash.org
SUMMARY:Napoleon Dynamite Live: 20th Anniversary Celebration
DESCRIPTION:The beloved indie classic “Napoleon Dynamite” was released 20 years ago. Appealing to the inner-teenager in everyone\, the story\, and more importantly\, the dialogue\, make “Napoleon Dynamite” one of the most quoted movies of all time. This unique evening includes a full screening of the movie followed by an interactive experience with fan-favorite cast members: Jon Heder (Napoleon Dynamite)\, Jon Gries (Uncle Rico)\, and Efren Ramirez (Pedro). The live show is a blend of Q&A\, comedy improv\, game show\, and party\, with plenty of audience participation.
URL:https://downtownwabash.org/event/napoleon-dynamite-live-20th-anniversary-celebration/
END:VEVENT
BEGIN:VEVENT
DTSTART;TZID=America/Indiana/Indianapolis:20260916T090000
DTEND;TZID=America/Indiana/Indianapolis:20260916T100000
DTSTAMP:20260423T200224
CREATED:20260211T134520Z
LAST-MODIFIED:20260211T134520Z
UID:10370-1789549200-1789552800@downtownwabash.org
SUMMARY:Sensory Story Hour
DESCRIPTION:On the third Wednesday of every month\, the Museum will dim the lights and sounds to host a sensory-focused experience from 9AM to 10AM.
URL:https://downtownwabash.org/event/sensory-story-hour-7/
ATTACH;FMTTYPE=image/png:https://downtownwabash.org/wp-content/uploads/2025-Wix-Event-Image-Base-21-9be9e6fea76c95eda0fa685e1b1ad28f.png
END:VEVENT
BEGIN:VEVENT
DTSTART;TZID=America/Indiana/Indianapolis:20260918T193000
DTEND;TZID=America/Indiana/Indianapolis:20260918T213000
DTSTAMP:20260423T200224
CREATED:20260414T182019Z
LAST-MODIFIED:20260414T182019Z
UID:10721-1789759800-1789767000@downtownwabash.org
SUMMARY:Michael Palascak
DESCRIPTION:See hometown favorite and stand-up comedian Michael Palascak as he returns to the same theater where he held a sold-out show and filmed his 2024 streaming special\, He’s Friendly. As seen and heard on The Bob & Tom Show\, Nateland Presents\, Dry Bar Comedy\, and with his Comedy Central: The Half Hour special streaming on Paramount+\, Michael has been touring the country and making people laugh with his clean stand-up comedy.
URL:https://downtownwabash.org/event/michael-palascak-3/
END:VEVENT
BEGIN:VEVENT
DTSTART;TZID=America/Indiana/Indianapolis:20260919T193000
DTEND;TZID=America/Indiana/Indianapolis:20260919T213000
DTSTAMP:20260423T200224
CREATED:20260414T182027Z
LAST-MODIFIED:20260414T182027Z
UID:10722-1789846200-1789853400@downtownwabash.org
SUMMARY:That Arena Rock Show
DESCRIPTION:That Arena Rock Show is the ultimate high-energy\, theatrical tribute to classic rock ‘n’ roll. The band performs legendary rock anthems that ruled the airwaves in the ’70s and ’80s\, featuring artists like Led Zeppelin\, Aerosmith\, AC/DC\, Bon Jovi\, and Guns N’ Roses. This rock show is more than just music–it’s an experience!
URL:https://downtownwabash.org/event/that-arena-rock-show/
END:VEVENT
BEGIN:VEVENT
DTSTART;TZID=America/Indiana/Indianapolis:20260925T193000
DTEND;TZID=America/Indiana/Indianapolis:20260925T213000
DTSTAMP:20260423T200224
CREATED:20260414T182037Z
LAST-MODIFIED:20260414T182037Z
UID:10723-1790364600-1790371800@downtownwabash.org
SUMMARY:Rolling Thunder Revisited
DESCRIPTION:Celebrate the music of Rock & Roll Hall of Famer Bob Dylan with Rolling Thunder Revisited. Led by Fort Wayne\, IN\, musician Phil Schurger and Summit City veterans\, the group recreates the ’70s Rolling Thunder Revue with songs like “Tangled Up in Blue\,” “Hurricane\,” and “Knockin’ on Heaven’s Door.” Terrapin Flyer delivers authentic interpretations of the Grateful Dead catalog\, including “Casey Jones” and “Scarlet Begonias\,” and has toured with members of the Dead family.
URL:https://downtownwabash.org/event/rolling-thunder-revisited/
END:VEVENT
END:VCALENDAR