BEGIN:VCALENDAR
VERSION:2.0
PRODID:-//Downtown Wabash, Inc. - ECPv6.15.17.1//NONSGML v1.0//EN
CALSCALE:GREGORIAN
METHOD:PUBLISH
X-ORIGINAL-URL:https://downtownwabash.org
X-WR-CALDESC:Events for Downtown Wabash, Inc.
REFRESH-INTERVAL;VALUE=DURATION:PT1H
X-Robots-Tag:noindex
X-PUBLISHED-TTL:PT1H
BEGIN:VTIMEZONE
TZID:America/Indiana/Indianapolis
BEGIN:DAYLIGHT
TZOFFSETFROM:-0500
TZOFFSETTO:-0400
TZNAME:EDT
DTSTART:20250309T070000
END:DAYLIGHT
BEGIN:STANDARD
TZOFFSETFROM:-0400
TZOFFSETTO:-0500
TZNAME:EST
DTSTART:20251102T060000
END:STANDARD
BEGIN:DAYLIGHT
TZOFFSETFROM:-0500
TZOFFSETTO:-0400
TZNAME:EDT
DTSTART:20260308T070000
END:DAYLIGHT
BEGIN:STANDARD
TZOFFSETFROM:-0400
TZOFFSETTO:-0500
TZNAME:EST
DTSTART:20261101T060000
END:STANDARD
BEGIN:DAYLIGHT
TZOFFSETFROM:-0500
TZOFFSETTO:-0400
TZNAME:EDT
DTSTART:20270314T070000
END:DAYLIGHT
BEGIN:STANDARD
TZOFFSETFROM:-0400
TZOFFSETTO:-0500
TZNAME:EST
DTSTART:20271107T060000
END:STANDARD
END:VTIMEZONE
BEGIN:VEVENT
DTSTART;TZID=America/Indiana/Indianapolis:20260709T190000
DTEND;TZID=America/Indiana/Indianapolis:20260709T210000
DTSTAMP:20260423T162702
CREATED:20251203T192804Z
LAST-MODIFIED:20251203T192804Z
UID:10208-1783623600-1783630800@downtownwabash.org
SUMMARY:Skillet
DESCRIPTION:After nearly three decades\, eleven albums\, and thousands of shows worldwide\, Skillet returns louder\, harder\, and more rebellious than ever. The multiplatinum\, two-time GRAMMY-nominated hard rock quartet\, featuring band members John Cooper\, Korey Cooper\, Jen Ledger\, and Seth Morrison\, is known for anthems like “Monster\,” “Hero\,” “Awake and Alive\,” and “Feel Invincible.” With electrifying riffs and powerful lyrics\, Skillet proves its unstoppable legacy\, inviting fans to sing alongside them.
URL:https://downtownwabash.org/event/skillet/
END:VEVENT
BEGIN:VEVENT
DTSTART;TZID=America/Indiana/Indianapolis:20260715T090000
DTEND;TZID=America/Indiana/Indianapolis:20260715T100000
DTSTAMP:20260423T162702
CREATED:20260211T134451Z
LAST-MODIFIED:20260211T134451Z
UID:10366-1784106000-1784109600@downtownwabash.org
SUMMARY:Sensory Story Hour
DESCRIPTION:On the third Wednesday of every month\, the Museum will dim the lights and sounds to host a sensory-focused experience from 9AM to 10AM.
URL:https://downtownwabash.org/event/sensory-story-hour-7/
ATTACH;FMTTYPE=image/png:https://downtownwabash.org/wp-content/uploads/2025-Wix-Event-Image-Base-21-e2518a2be6dcf7bfbd112f7ee5a374a0.png
END:VEVENT
END:VCALENDAR