BEGIN:VCALENDAR
VERSION:2.0
PRODID:-//Downtown Wabash, Inc. - ECPv6.15.17.1//NONSGML v1.0//EN
CALSCALE:GREGORIAN
METHOD:PUBLISH
X-ORIGINAL-URL:https://downtownwabash.org
X-WR-CALDESC:Events for Downtown Wabash, Inc.
REFRESH-INTERVAL;VALUE=DURATION:PT1H
X-Robots-Tag:noindex
X-PUBLISHED-TTL:PT1H
BEGIN:VTIMEZONE
TZID:America/Indiana/Indianapolis
BEGIN:DAYLIGHT
TZOFFSETFROM:-0500
TZOFFSETTO:-0400
TZNAME:EDT
DTSTART:20240310T070000
END:DAYLIGHT
BEGIN:STANDARD
TZOFFSETFROM:-0400
TZOFFSETTO:-0500
TZNAME:EST
DTSTART:20241103T060000
END:STANDARD
BEGIN:DAYLIGHT
TZOFFSETFROM:-0500
TZOFFSETTO:-0400
TZNAME:EDT
DTSTART:20250309T070000
END:DAYLIGHT
BEGIN:STANDARD
TZOFFSETFROM:-0400
TZOFFSETTO:-0500
TZNAME:EST
DTSTART:20251102T060000
END:STANDARD
BEGIN:DAYLIGHT
TZOFFSETFROM:-0500
TZOFFSETTO:-0400
TZNAME:EDT
DTSTART:20260308T070000
END:DAYLIGHT
BEGIN:STANDARD
TZOFFSETFROM:-0400
TZOFFSETTO:-0500
TZNAME:EST
DTSTART:20261101T060000
END:STANDARD
END:VTIMEZONE
BEGIN:VEVENT
DTSTART;TZID=America/Indiana/Indianapolis:20250502T080000
DTEND;TZID=America/Indiana/Indianapolis:20250601T170000
DTSTAMP:20260424T050609
CREATED:20250327T223927Z
LAST-MODIFIED:20250327T223927Z
UID:9669-1746172800-1748797200@downtownwabash.org
SUMMARY:Justin Johnson: Elegies of Unrest
DESCRIPTION:War and conflict in the Middle East have profoundly impacted Justin’s motivation. The destruction of antiquity and the suffering of religious communities and minorities inspire his abstract works\, which aim to “describe the indescribable.” Influenced by Robert Motherwell’s “Elegies to the Spanish Republic\,” his art reflects on the constant state of war and the silence of victims. His hope is that these works will gently urge the audience to understand the greater world and reflect on these tragedies. On display mon-fri 8am-5pm.
URL:https://downtownwabash.org/event/justin-johnson-elegies-of-unrest/
ATTACH;FMTTYPE=image/jpeg:https://downtownwabash.org/wp-content/uploads/Justin-Johnson-0a53c5e4dfd750ac4af5435b56b99035.jpg
END:VEVENT
BEGIN:VEVENT
DTSTART;TZID=America/Indiana/Indianapolis:20250602T180000
DTEND;TZID=America/Indiana/Indianapolis:20250602T210000
DTSTAMP:20260424T050609
CREATED:20250519T161144Z
LAST-MODIFIED:20250519T161144Z
UID:9768-1748887200-1748898000@downtownwabash.org
SUMMARY:Art Camp for Adults - Alcohol Ink Coaster
DESCRIPTION:Unleash your creativity in a fun\, relaxed atmosphere! Adult Art Camp offers hands-on workshops where you’ll explore new techniques\, create beautiful projects\, and connect with fellow art enthusiasts — no experience needed. \nAlcohol Ink Coasters\nCreate a vibrant set of custom coasters using the mesmerizing art of alcohol ink! Experiment with color blending and organic designs as you learn techniques to make stunning\, one-of-a-kind pieces that are both functional and beautiful. \nSupplies will be provided to make a set of four coasters. \nRegister for all 5 days for only $125
URL:https://downtownwabash.org/event/art-camp-for-adults-alcohol-ink-coaster/
END:VEVENT
BEGIN:VEVENT
DTSTART;TZID=America/Indiana/Indianapolis:20250603T080000
DTEND;TZID=America/Indiana/Indianapolis:20250706T170000
DTSTAMP:20260424T050609
CREATED:20250519T161120Z
LAST-MODIFIED:20250519T161120Z
UID:9766-1748937600-1751821200@downtownwabash.org
SUMMARY:Charles Yang: Fermata Exhibit
DESCRIPTION:Charles Yang is a violinist for Time for Three and faculty mentor for the Honeywell Arts Academy. Through his perspective as a touring musician\, he also explores photography\, and his debut exhibit will feature a collection of ever-changing landscapes\, fleeting connections\, and untold stories of life on the road. From bustling cities to quiet highways\, each image reflects the unique perspective of an artist experiencing the world one stop at a time.
URL:https://downtownwabash.org/event/charles-yang-fermata-exhibit/
END:VEVENT
BEGIN:VEVENT
DTSTART;TZID=America/Indiana/Indianapolis:20250603T180000
DTEND;TZID=America/Indiana/Indianapolis:20250603T210000
DTSTAMP:20260424T050609
CREATED:20250519T161157Z
LAST-MODIFIED:20250519T161157Z
UID:9769-1748973600-1748984400@downtownwabash.org
SUMMARY:Art Camp for Adults - Macrame Wall Hanging
DESCRIPTION:Unleash your creativity in a fun\, relaxed atmosphere! Adult Art Camp offers hands-on workshops where you’ll explore new techniques\, create beautiful projects\, and connect with fellow art enthusiasts — no experience needed. \nMacramé Wall Hanging\nLearn the art of macramé as you knot your way to a beautiful\, boho-style wall hanging. Perfect for beginners and seasoned crafters alike\, this workshop will add texture and charm to any space. \nRegister for all five days for $125
URL:https://downtownwabash.org/event/art-camp-for-adults-macrame-wall-hanging/
END:VEVENT
BEGIN:VEVENT
DTSTART;TZID=America/Indiana/Indianapolis:20250604T173000
DTEND;TZID=America/Indiana/Indianapolis:20250604T183000
DTSTAMP:20260424T050609
CREATED:20250519T161132Z
LAST-MODIFIED:20250519T161132Z
UID:9767-1749058200-1749061800@downtownwabash.org
SUMMARY:Charles Yang: Fermata Reception
DESCRIPTION:Charles Yang is a violinist for Time for Three and faculty mentor for the Honeywell Arts Academy. Through his perspective as a touring musician\, he also explores photography\, and his debut exhibit will feature a collection of ever-changing landscapes\, fleeting connections\, and untold stories of life on the road. From bustling cities to quiet highways\, each image reflects the unique perspective of an artist experiencing the world one stop at a time. Opening Reception on Wed. June 4 at 5:30. RSVPs are appreciated.
URL:https://downtownwabash.org/event/charles-yang-fermata-reception/
END:VEVENT
BEGIN:VEVENT
DTSTART;TZID=America/Indiana/Indianapolis:20250604T180000
DTEND;TZID=America/Indiana/Indianapolis:20250604T210000
DTSTAMP:20260424T050609
CREATED:20250519T161215Z
LAST-MODIFIED:20250519T161215Z
UID:9770-1749060000-1749070800@downtownwabash.org
SUMMARY:Art Camp for Adults - 3D Paper Cut Light Box
DESCRIPTION:Unleash your creativity in a fun\, relaxed atmosphere! Adult Art Camp offers hands-on workshops where you’ll explore new techniques\, create beautiful projects\, and connect with fellow art enthusiasts — no experience needed. \n3D Paper Cut Light Box\nCraft an enchanting layered paper light box! Explore depth\, design\, and shadow as you create a glowing\, three-dimensional artwork that’s both magical and mesmerizing. \nSupplies provided to create one light box. \nRegister for all five days for $125
URL:https://downtownwabash.org/event/art-camp-for-adults-3d-paper-cut-light-box/
END:VEVENT
BEGIN:VEVENT
DTSTART;TZID=America/Indiana/Indianapolis:20250605T170000
DTEND;TZID=America/Indiana/Indianapolis:20250605T190000
DTSTAMP:20260424T050609
CREATED:20250507T132217Z
LAST-MODIFIED:20250507T132217Z
UID:9728-1749142800-1749150000@downtownwabash.org
SUMMARY:Honeywell Summer Plaza Music Series: Kids That Fly
DESCRIPTION:FREE outdoor concerts\nThursdays in June\nCarpenter Plaza – Honeywell Center\nDon’t forget a lawn chair or blanket!
URL:https://downtownwabash.org/event/honeywell-summer-plaza-music-series-kids-that-fly/
ATTACH;FMTTYPE=image/jpeg:https://downtownwabash.org/wp-content/uploads/Honeywell_SummerPlaza-5-606fb2a5aba7fd2bb4e403bba4756533.jpeg
END:VEVENT
BEGIN:VEVENT
DTSTART;TZID=America/Indiana/Indianapolis:20250605T180000
DTEND;TZID=America/Indiana/Indianapolis:20250605T210000
DTSTAMP:20260424T050609
CREATED:20250519T161234Z
LAST-MODIFIED:20250519T161234Z
UID:9771-1749146400-1749157200@downtownwabash.org
SUMMARY:Art Camp for Adults - Wood Burned Decor
DESCRIPTION:Unleash your creativity in a fun\, relaxed atmosphere! Adult Art Camp offers hands-on workshops where you’ll explore new techniques\, create beautiful projects\, and connect with fellow art enthusiasts — no experience needed. \nWood Burned Decor\nGet hands-on with wood burning techniques to create your choice of a variety of objects! Learn to safely etch designs into wood for a natural\, textured piece you’ll be proud to display. \nAll supplies will be provided to make coasters\, Christmas ornaments\, small wall hangings\, etc. \nRegister for all five days for $125
URL:https://downtownwabash.org/event/art-camp-for-adults-wood-burned-decor/
END:VEVENT
BEGIN:VEVENT
DTSTART;TZID=America/Indiana/Indianapolis:20250606T180000
DTEND;TZID=America/Indiana/Indianapolis:20250606T210000
DTSTAMP:20260424T050609
CREATED:20250519T161248Z
LAST-MODIFIED:20250519T161248Z
UID:9772-1749232800-1749243600@downtownwabash.org
SUMMARY:Art Camp for Adults - Needle Felted Landscape
DESCRIPTION:Unleash your creativity in a fun\, relaxed atmosphere! Adult Art Camp offers hands-on workshops where you’ll explore new techniques\, create beautiful projects\, and connect with fellow art enthusiasts — no experience needed. \nNeedle Felted Landscape\nCreate a cozy\, colorful landscape using the art of needle felting! Blend wool fibers into beautiful scenes\, learning techniques to shape\, shade\, and layer your very own soft-textured masterpiece. You will select from a variety of patterns. \nRegister for all five days for $125
URL:https://downtownwabash.org/event/art-camp-for-adults-needle-felted-landscape/
END:VEVENT
BEGIN:VEVENT
DTSTART;TZID=America/Indiana/Indianapolis:20250606T193000
DTEND;TZID=America/Indiana/Indianapolis:20250606T213000
DTSTAMP:20260424T050609
CREATED:20250415T123755Z
LAST-MODIFIED:20250415T123755Z
UID:9698-1749238200-1749245400@downtownwabash.org
SUMMARY:Resonance Live
DESCRIPTION:Resonance scholars are at the intersection of the pristine technical training of classical musicians and cross-genre fluidity\, resulting in an indescribable musical experience. Resonance features faculty mentors Pianist Peter Dugan and members of the GRAMMY-winning trio Time for Three – Nicolas Kendall\, Charles Yang\, and Ranaan Meyer. Concluding the performance\, guests are invited to a meet and greet reception to mingle with the artists and faculty mentors.
URL:https://downtownwabash.org/event/resonance-live-3/
ATTACH;FMTTYPE=image/jpeg:https://downtownwabash.org/wp-content/uploads/Show_Resonance_large-6cb016639723718cbeec078829481f5e-scaled.jpg
END:VEVENT
BEGIN:VEVENT
DTSTART;TZID=America/Indiana/Indianapolis:20250607T083000
DTEND;TZID=America/Indiana/Indianapolis:20250607T120000
DTSTAMP:20260424T050609
CREATED:20250212T154745Z
LAST-MODIFIED:20250212T154745Z
UID:9605-1749285000-1749297600@downtownwabash.org
SUMMARY:Wabash Run The River Half Marathon\, 10k\, 5k
DESCRIPTION:Back for its fourth year\, Wabash Run The River is a chip-timed race that starts in the heart of Wabash County and runs along the Wabash River! From competitive athletes to leisure runners\, this event appeals to everyone! Choose run options from a 13.1 half marathon\, 10k\, or 5k that will take you along the scenic WABASH RIVER TRAIL located along the Wabash River. Cash prizes will be awarded to the top male and female half-marathon\, 10K\, and 5K finishers.
URL:https://downtownwabash.org/event/wabash-run-the-river-half-marathon-10k-5k/
CATEGORIES:Wabash Community Event
ATTACH;FMTTYPE=image/jpeg:https://downtownwabash.org/wp-content/uploads/WRTR-4-9c9e03240706ecdc7660a1c96a6d9ceb.jpg
END:VEVENT
BEGIN:VEVENT
DTSTART;TZID=America/Indiana/Indianapolis:20250607T180000
DTEND;TZID=America/Indiana/Indianapolis:20250607T210000
DTSTAMP:20260424T050609
CREATED:20250506T170944Z
LAST-MODIFIED:20250506T170944Z
UID:9716-1749319200-1749330000@downtownwabash.org
SUMMARY:Hoosier Shakes: Hamlet
DESCRIPTION:Hoosier Shakes brings Shakespeare to life using original practices including minimal sets and costumes\, a poetic delivery of dialogue\, and lively interaction between actors and audience. \nGrab a lawn chair and join us for an unforgettable outdoor performance on the Honeywell Plaza\, all under the comfort of a large shade tent!
URL:https://downtownwabash.org/event/hoosier-shakes-hamlet/
ATTACH;FMTTYPE=image/jpeg:https://downtownwabash.org/wp-content/uploads/hamlet-Hoosier-Shakes-ced852146359352edc8609564aeb47eb.jpeg
END:VEVENT
BEGIN:VEVENT
DTSTART;TZID=America/Indiana/Indianapolis:20250607T190000
DTEND;TZID=America/Indiana/Indianapolis:20250607T210000
DTSTAMP:20260424T050609
CREATED:20250507T210138Z
LAST-MODIFIED:20250507T210138Z
UID:9753-1749322800-1749330000@downtownwabash.org
SUMMARY:Indiana Ballet Conservatory Presents: The Phantom of the Opera
DESCRIPTION:Prepare to be captivated as the smash hit\, The Phantom of the Opera\, returns to Indiana for an unforgettable performance at the historic Eagles Theatre. This electric full-length story ballet\, an original masterpiece by Indiana Ballet Conservatory’s Founder and Artistic Director Alyona Yakovleva\, will have you on the edge of your seat. Also featuring dancers of Wabash Valley Dance Theater!
URL:https://downtownwabash.org/event/indiana-ballet-conservatory-presents-the-phantom-of-the-opera/
END:VEVENT
BEGIN:VEVENT
DTSTART;TZID=America/Indiana/Indianapolis:20250608T180000
DTEND;TZID=America/Indiana/Indianapolis:20250608T210000
DTSTAMP:20260424T050609
CREATED:20250506T170907Z
LAST-MODIFIED:20250506T170907Z
UID:9720-1749405600-1749416400@downtownwabash.org
SUMMARY:Hoosier Shakes: Love's Labour's Lost
DESCRIPTION:Hoosier Shakes brings Shakespeare to life using original practices including minimal sets and costumes\, a poetic delivery of dialogue\, and lively interaction between actors and audience. \nGrab a lawn chair and join us for an unforgettable outdoor performance on the Honeywell Plaza\, all under the comfort of a large shade tent!
URL:https://downtownwabash.org/event/hoosier-shakes-loves-labours-lost/
ATTACH;FMTTYPE=image/jpeg:https://downtownwabash.org/wp-content/uploads/Love-labours-lost-hoosier-shakes-2ea1f0cc11d554c38068ed8476abf49a.jpeg
END:VEVENT
BEGIN:VEVENT
DTSTART;TZID=America/Indiana/Indianapolis:20250609T180000
DTEND;TZID=America/Indiana/Indianapolis:20250609T210000
DTSTAMP:20260424T050609
CREATED:20250506T170929Z
LAST-MODIFIED:20250506T170929Z
UID:9718-1749492000-1749502800@downtownwabash.org
SUMMARY:Hoosier Shakes: Hamlet
DESCRIPTION:Hoosier Shakes brings Shakespeare to life using original practices including minimal sets and costumes\, a poetic delivery of dialogue\, and lively interaction between actors and audience. \nGrab a lawn chair and join us for an unforgettable outdoor performance on the Honeywell Plaza\, all under the comfort of a large shade tent!
URL:https://downtownwabash.org/event/hoosier-shakes-hamlet/
ATTACH;FMTTYPE=image/jpeg:https://downtownwabash.org/wp-content/uploads/hamlet-Hoosier-Shakes-613102697ad877330399884bff7ee515.jpeg
END:VEVENT
BEGIN:VEVENT
DTSTART;TZID=America/Indiana/Indianapolis:20250610T180000
DTEND;TZID=America/Indiana/Indianapolis:20250610T210000
DTSTAMP:20260424T050609
CREATED:20250506T170843Z
LAST-MODIFIED:20250506T170843Z
UID:9722-1749578400-1749589200@downtownwabash.org
SUMMARY:Hoosier Shakes: Love's Labour's Lost
DESCRIPTION:Hoosier Shakes brings Shakespeare to life using original practices including minimal sets and costumes\, a poetic delivery of dialogue\, and lively interaction between actors and audience. \nGrab a lawn chair and join us for an unforgettable outdoor performance on the Honeywell Plaza\, all under the comfort of a large shade tent!
URL:https://downtownwabash.org/event/hoosier-shakes-loves-labours-lost/
ATTACH;FMTTYPE=image/jpeg:https://downtownwabash.org/wp-content/uploads/Love-labours-lost-hoosier-shakes-1fed89204bb203246092145785e08933.jpeg
END:VEVENT
BEGIN:VEVENT
DTSTART;TZID=America/Indiana/Indianapolis:20250611T173000
DTEND;TZID=America/Indiana/Indianapolis:20250611T183000
DTSTAMP:20260424T050609
CREATED:20250327T223638Z
LAST-MODIFIED:20250327T223638Z
UID:9671-1749663000-1749666600@downtownwabash.org
SUMMARY:Circus Stars
DESCRIPTION:Honeywell Summer Campers in grades 1-4 will present This fun-filled journey of circus workers as they travel across the country with a message of friendship and believing in yourself.
URL:https://downtownwabash.org/event/circus-stars/
ATTACH;FMTTYPE=image/jpeg:https://downtownwabash.org/wp-content/uploads/circus-stars-1eb674da974c84d4d49fccc51a238611.jpg
END:VEVENT
BEGIN:VEVENT
DTSTART;TZID=America/Indiana/Indianapolis:20250612T173000
DTEND;TZID=America/Indiana/Indianapolis:20250612T193000
DTSTAMP:20260424T050609
CREATED:20250507T133914Z
LAST-MODIFIED:20250507T133914Z
UID:9731-1749749400-1749756600@downtownwabash.org
SUMMARY:Honeywell Summer Plaza Music Series: Todd Harold Band
DESCRIPTION:FREE outdoor concerts\nThursdays in June\nCarpenter Plaza – Honeywell Center\nDon’t forget a lawn chair or blanket!
URL:https://downtownwabash.org/event/honeywell-summer-plaza-music-series-todd-harold-band/
ATTACH;FMTTYPE=image/jpeg:https://downtownwabash.org/wp-content/uploads/Honeywell_SummerPlaza-5-9af9f479b9025f23182442f90dd60fe1.jpeg
END:VEVENT
BEGIN:VEVENT
DTSTART;TZID=America/Indiana/Indianapolis:20250612T190000
DTEND;TZID=America/Indiana/Indianapolis:20250612T200000
DTSTAMP:20260424T050609
CREATED:20250130T194436Z
LAST-MODIFIED:20250130T194436Z
UID:9548-1749754800-1749758400@downtownwabash.org
SUMMARY:Dream Lover! Vintage Songs of Love
DESCRIPTION:Enjoy a lively performance by Chicago duo Nostalgia Entertains\, featuring pop hits from the 1920s to the 1960s with vocals\, keyboards\, costumes\, and dance. This playful\, flirty show includes favorites like “Dream Lover\,” “Pretty Woman\,” and “Blue Moon.” This refreshing\, upbeat take on classic love songs will leave you smiling and feeling the joy of music through the decades. Free admission\, with reservations required due to limited seating.
URL:https://downtownwabash.org/event/dream-lover-vintage-songs-of-love/
END:VEVENT
BEGIN:VEVENT
DTSTART;TZID=America/Indiana/Indianapolis:20250613T193000
DTEND;TZID=America/Indiana/Indianapolis:20250613T213000
DTSTAMP:20260424T050609
CREATED:20250415T124555Z
LAST-MODIFIED:20250415T124555Z
UID:9700-1749843000-1749850200@downtownwabash.org
SUMMARY:Soundboard Live
DESCRIPTION:Soundboard scholars are international pianists with a focus on standard repertoire. Soundboard is led by faculty mentors Matti Raekaillo and Peter Dugan as they stretch these classically trained musicians’ boundaries to include jazz\, funk\, and more. Concluding the performance\, guests are invited to a meet and greet reception to mingle with the artists and faculty mentors.
URL:https://downtownwabash.org/event/soundboard-live-3/
ATTACH;FMTTYPE=image/jpeg:https://downtownwabash.org/wp-content/uploads/Show_Soundboard_Small-adc1409fb25a1b24ced3b27ac07b8a2f.jpg
END:VEVENT
BEGIN:VEVENT
DTSTART;TZID=America/Indiana/Indianapolis:20250619T173000
DTEND;TZID=America/Indiana/Indianapolis:20250619T193000
DTSTAMP:20260424T050609
CREATED:20250507T133824Z
LAST-MODIFIED:20250507T133824Z
UID:9733-1750354200-1750361400@downtownwabash.org
SUMMARY:Honeywell Summer Plaza Music Series: Warren & Flick
DESCRIPTION:FREE outdoor concerts\nThursdays in June\nCarpenter Plaza – Honeywell Center\nDon’t forget a lawn chair or blanket!
URL:https://downtownwabash.org/event/honeywell-summer-plaza-music-series-warren-flick/
ATTACH;FMTTYPE=image/jpeg:https://downtownwabash.org/wp-content/uploads/Honeywell_SummerPlaza-5-0dc8b5a8852754144e7763c567cfb78c.jpeg
END:VEVENT
BEGIN:VEVENT
DTSTART;TZID=America/Indiana/Indianapolis:20250620T170000
DTEND;TZID=America/Indiana/Indianapolis:20250620T183000
DTSTAMP:20260424T050609
CREATED:20250327T223911Z
LAST-MODIFIED:20250327T223911Z
UID:9673-1750438800-1750444200@downtownwabash.org
SUMMARY:Music Man Jr.
DESCRIPTION:Honeywell Summer Campers in grades 5-8 will present the musical tale of a charming conman as he swindles a small town into believing they need a boys’ band\, only to have the town librarian help him change his ways.
URL:https://downtownwabash.org/event/music-man-jr/
ATTACH;FMTTYPE=image/jpeg:https://downtownwabash.org/wp-content/uploads/Music-man-jr-fc4a1186a93b96e18cb1732159d662ce.jpg
END:VEVENT
BEGIN:VEVENT
DTSTART;TZID=America/Indiana/Indianapolis:20250620T193000
DTEND;TZID=America/Indiana/Indianapolis:20250620T210000
DTSTAMP:20260424T050609
CREATED:20250327T223830Z
LAST-MODIFIED:20250327T223830Z
UID:9677-1750447800-1750453200@downtownwabash.org
SUMMARY:Anything Goes
DESCRIPTION:Honeywell Summer Campers in grades 9-12 will set sail board an ocean liner\, where mistaken identities and musical numbers unfold as a cast of characters navigate mischief and adventure on the high seas.
URL:https://downtownwabash.org/event/anything-goes/
ATTACH;FMTTYPE=image/jpeg:https://downtownwabash.org/wp-content/uploads/Anything-Goes-af7b38bc42099d80ce81558ba851447d.jpg
END:VEVENT
BEGIN:VEVENT
DTSTART;TZID=America/Indiana/Indianapolis:20250620T193000
DTEND;TZID=America/Indiana/Indianapolis:20250620T213000
DTSTAMP:20260424T050609
CREATED:20250415T124647Z
LAST-MODIFIED:20250415T124647Z
UID:9702-1750447800-1750455000@downtownwabash.org
SUMMARY:Wabass Live
DESCRIPTION:Wabass scholars will dazzle you with the double bass. Faculty mentors Eric Larson\, Ranaan Meyer\, and Hal Robinson curate a wonderful evening of musicianship and personality. Concluding the performance\, guests are invited to a meet and greet reception to mingle with the artists and faculty mentors.
URL:https://downtownwabash.org/event/wabass-live-3/
ATTACH;FMTTYPE=image/jpeg:https://downtownwabash.org/wp-content/uploads/Show_Wabass_Small-966147b79e8d2debbd483a207c4d39d5.jpg
END:VEVENT
BEGIN:VEVENT
DTSTART;TZID=America/Indiana/Indianapolis:20250621T170000
DTEND;TZID=America/Indiana/Indianapolis:20250621T183000
DTSTAMP:20260424T050609
CREATED:20250327T223850Z
LAST-MODIFIED:20250327T223850Z
UID:9675-1750525200-1750530600@downtownwabash.org
SUMMARY:Music Man Jr.
DESCRIPTION:Honeywell Summer Campers in grades 5-8 will present the musical tale of a charming conman as he swindles a small town into believing they need a boys’ band\, only to have the town librarian help him change his ways.
URL:https://downtownwabash.org/event/music-man-jr/
ATTACH;FMTTYPE=image/jpeg:https://downtownwabash.org/wp-content/uploads/Music-man-jr-0855efbae2d5bc10b79bc39b271c3d12.jpg
END:VEVENT
BEGIN:VEVENT
DTSTART;TZID=America/Indiana/Indianapolis:20250621T193000
DTEND;TZID=America/Indiana/Indianapolis:20250621T210000
DTSTAMP:20260424T050609
CREATED:20250327T223759Z
LAST-MODIFIED:20250327T223759Z
UID:9679-1750534200-1750539600@downtownwabash.org
SUMMARY:Anything Goes
DESCRIPTION:Honeywell Summer Campers in grades 9-12 will set sail board an ocean liner\, where mistaken identities and musical numbers unfold as a cast of characters navigate mischief and adventure on the high seas.
URL:https://downtownwabash.org/event/anything-goes/
ATTACH;FMTTYPE=image/jpeg:https://downtownwabash.org/wp-content/uploads/Anything-Goes-74dc208c596d32385b896850e42ad574.jpg
END:VEVENT
BEGIN:VEVENT
DTSTART;TZID=America/Indiana/Indianapolis:20250625T180000
DTEND;TZID=America/Indiana/Indianapolis:20250625T193000
DTSTAMP:20260424T050609
CREATED:20250519T161058Z
LAST-MODIFIED:20250519T161058Z
UID:9765-1750874400-1750879800@downtownwabash.org
SUMMARY:Acoustic Guitar Jam
DESCRIPTION:Bring your acoustic guitar to the Eagles Theatre stage and play music with other guitarists! Here’s your chance to meet other local musicians\, jam\, and share your favorite guitar licks. All ages and abilities are welcome.
URL:https://downtownwabash.org/event/acoustic-guitar-jam/
END:VEVENT
BEGIN:VEVENT
DTSTART;TZID=America/Indiana/Indianapolis:20250626T190000
DTEND;TZID=America/Indiana/Indianapolis:20250626T200000
DTSTAMP:20260424T050609
CREATED:20250130T194444Z
LAST-MODIFIED:20250130T194444Z
UID:9549-1750964400-1750968000@downtownwabash.org
SUMMARY:Robert Delaunay and the Paris of the Belle Époque
DESCRIPTION:Discover the vibrant world of Robert Delaunay (1885-1941)\, a modern French painter renowned for his avant-garde creations in pre-World War I Paris. Join Anne Greeley\, Associate Professor and Chair of Art and Design at Indiana Wesleyan University\, as she delves into Delaunay’s work during the Belle Époque\, revealing how the era’s cultural and technological innovations sparked his bold experiments with color and form. Free admission\, with reservations required due to limited seating.
URL:https://downtownwabash.org/event/robert-delaunay-and-the-paris-of-the-belle-epoque/
END:VEVENT
BEGIN:VEVENT
DTSTART;TZID=America/Indiana/Indianapolis:20250626T190000
DTEND;TZID=America/Indiana/Indianapolis:20250626T210000
DTSTAMP:20260424T050609
CREATED:20250507T133807Z
LAST-MODIFIED:20250507T133807Z
UID:9735-1750964400-1750971600@downtownwabash.org
SUMMARY:Honeywell Summer Plaza Music Series: Mississinewa Valley Band Patriotic Pops
DESCRIPTION:FREE concerts\nThursdays in June\nBonus Show: Mississinewa valley Band Patriotic Pops in the Ford Theater
URL:https://downtownwabash.org/event/honeywell-summer-plaza-music-series-mississinewa-valley-band-patriotic-pops/
ATTACH;FMTTYPE=image/jpeg:https://downtownwabash.org/wp-content/uploads/Honeywell_SummerPlaza-5-810dfb4ae03a7d1ef8425fee80280cfe.jpeg
END:VEVENT
BEGIN:VEVENT
DTSTART;TZID=America/Indiana/Indianapolis:20250630T190000
DTEND;TZID=America/Indiana/Indianapolis:20250630T203000
DTSTAMP:20260424T050609
CREATED:20250519T161300Z
LAST-MODIFIED:20250519T161300Z
UID:9773-1751310000-1751315400@downtownwabash.org
SUMMARY:United States Army Field Band Jazz Ambassadors
DESCRIPTION:Known as America’s Big Band\, the Jazz Ambassadors are the premier touring jazz orchestra of the United States Army. Formed in 1969\, this 19-piece ensemble has received critical acclaim throughout the United States and abroad performing America’s original art form\, jazz. Concerts include classic big band standards\, instrumental and vocal solo features\, patriotic favorites\, contemporary jazz works\, and original arrangements and compositions by past and present members of the Jazz Ambassadors.
URL:https://downtownwabash.org/event/united-states-army-field-band-jazz-ambassadors/
END:VEVENT
END:VCALENDAR