BEGIN:VCALENDAR
VERSION:2.0
PRODID:-//Downtown Wabash, Inc. - ECPv6.15.17.1//NONSGML v1.0//EN
CALSCALE:GREGORIAN
METHOD:PUBLISH
X-WR-CALNAME:Downtown Wabash, Inc.
X-ORIGINAL-URL:https://downtownwabash.org
X-WR-CALDESC:Events for Downtown Wabash, Inc.
REFRESH-INTERVAL;VALUE=DURATION:PT1H
X-Robots-Tag:noindex
X-PUBLISHED-TTL:PT1H
BEGIN:VTIMEZONE
TZID:America/Indiana/Indianapolis
BEGIN:DAYLIGHT
TZOFFSETFROM:-0500
TZOFFSETTO:-0400
TZNAME:EDT
DTSTART:20240310T070000
END:DAYLIGHT
BEGIN:STANDARD
TZOFFSETFROM:-0400
TZOFFSETTO:-0500
TZNAME:EST
DTSTART:20241103T060000
END:STANDARD
BEGIN:DAYLIGHT
TZOFFSETFROM:-0500
TZOFFSETTO:-0400
TZNAME:EDT
DTSTART:20250309T070000
END:DAYLIGHT
BEGIN:STANDARD
TZOFFSETFROM:-0400
TZOFFSETTO:-0500
TZNAME:EST
DTSTART:20251102T060000
END:STANDARD
BEGIN:DAYLIGHT
TZOFFSETFROM:-0500
TZOFFSETTO:-0400
TZNAME:EDT
DTSTART:20260308T070000
END:DAYLIGHT
BEGIN:STANDARD
TZOFFSETFROM:-0400
TZOFFSETTO:-0500
TZNAME:EST
DTSTART:20261101T060000
END:STANDARD
END:VTIMEZONE
BEGIN:VEVENT
DTSTART;TZID=America/Indiana/Indianapolis:20250206T100000
DTEND;TZID=America/Indiana/Indianapolis:20250206T113000
DTSTAMP:20260424T120036
CREATED:20250130T194740Z
LAST-MODIFIED:20250130T194740Z
UID:9576-1738836000-1738841400@downtownwabash.org
SUMMARY:The Thursday Parlay: History of Early Gospel Music
DESCRIPTION:Join us for coffee and a treat\, provided by our sponsor Bob Evans Restaurant and Imagine One 85. The Still Standing Duo are a couple of vintage gentlemen from Warsaw\, Indiana who enjoy playing vintage music together. As retired art professors\, they specialize in performing Western\, Folk\, Classic Country\, Blues\, Bluegrass and Old Time Gospel. Their repertoire\, performed within its appropriate historical context means their goal is not only to entertain but to educate audiences with a little background and colorful history behind the music they perform. The duo will join the Parlay to celebrate the joyful sounds of America’s early gospel music. “The Thursday Parlay” will take place from 10 to 11:30 am on Thursday\, February 6th.
URL:https://downtownwabash.org/event/the-thursday-parlay-history-of-early-gospel-music/
ATTACH;FMTTYPE=image/png:https://downtownwabash.org/wp-content/uploads/2_34-a4571300ccef5ba5abfcfbcd84032295.png
END:VEVENT
BEGIN:VEVENT
DTSTART;TZID=America/Indiana/Indianapolis:20250206T190000
DTEND;TZID=America/Indiana/Indianapolis:20250206T210000
DTSTAMP:20260424T120036
CREATED:20240802T162522Z
LAST-MODIFIED:20240802T162522Z
UID:9162-1738868400-1738875600@downtownwabash.org
SUMMARY:Dirty Dancing in Concert
DESCRIPTION:Join us for Dirty Dancing in Concert\, the classic film’s first live film-to-concert experience. Enjoy the digitally remastered hit film like never before on a full-size cinema screen\, with a live band and singers performing the film’s iconic songs. With a soundtrack that marked a generation\, Dirty Dancing in Concert promises to bring a thrilling new and unique experience to the 80s classic. Directly following the film\, the band and singers will throw an encore party that will surely take you back to the time of your life as you sing and dance along to your favorite Dirty Dancing songs. Immerse yourself in the timeless romance and experience one of the most memorable movies of the past 35 years – now live!
URL:https://downtownwabash.org/event/dirty-dancing-in-concert/
LOCATION:Wabash\, IN\, 46992\, United States
ATTACH;FMTTYPE=image/jpeg:https://downtownwabash.org/wp-content/uploads/DirtyDancing-643fb475b94be80b8768991edad64877.jpg
END:VEVENT
BEGIN:VEVENT
DTSTART;TZID=America/Indiana/Indianapolis:20250207T180000
DTEND;TZID=America/Indiana/Indianapolis:20250207T203000
DTSTAMP:20260424T120036
CREATED:20250130T194152Z
LAST-MODIFIED:20250130T194152Z
UID:9555-1738951200-1738960200@downtownwabash.org
SUMMARY:Workshop: Partner Portraits
DESCRIPTION:Join us for a fun and light hearted “Paint Your Date” party! No experience needed—just bring your sense of fun and enjoy a guided session where you’ll paint a one of a kind portrait of your special someone. Supplies and a gourmet charcuterie grazing table (from Two Board Sisters Charcuterie Boards & Grazescapes) included\, making this the perfect fun date night. Wine will be available for sale.
URL:https://downtownwabash.org/event/workshop-partner-portraits/
ATTACH;FMTTYPE=image/jpeg:https://downtownwabash.org/wp-content/uploads/partner-painting-63283104a17f66369af1a779878a69c0.jpeg
END:VEVENT
BEGIN:VEVENT
DTSTART;TZID=America/Indiana/Indianapolis:20250207T193000
DTEND;TZID=America/Indiana/Indianapolis:20250207T213000
DTSTAMP:20260424T120036
CREATED:20240625T164008Z
LAST-MODIFIED:20240625T164008Z
UID:8779-1738956600-1738963800@downtownwabash.org
SUMMARY:Dean Z: The Ultimate Elvis
DESCRIPTION:If you love the king of rock and roll\, you’ll be blown away by Dean Z! He’s performed around the world for nearly two decades and even received the honor of being named World’s Greatest Elvis Tribute by Elvis Presley Enterprises. Join us for an evening of music from all eras of Elvis’ legendary career.
URL:https://downtownwabash.org/event/dean-z-the-ultimate-elvis/
LOCATION:Wabash\, IN\, 46992\, United States
ATTACH;FMTTYPE=image/jpeg:https://downtownwabash.org/wp-content/uploads/DeanZ-c78011c803200500ff600f5f73359858.jpg
END:VEVENT
BEGIN:VEVENT
DTSTART;TZID=America/Indiana/Indianapolis:20250213T190000
DTEND;TZID=America/Indiana/Indianapolis:20250213T210000
DTSTAMP:20260424T120036
CREATED:20241205T141430Z
LAST-MODIFIED:20241205T141438Z
UID:9395-1739473200-1739480400@downtownwabash.org
SUMMARY:Fort Wayne Ballet Presents Love Notes
DESCRIPTION:This Valentine’s Day\, celebrate the gifts of the heart with Fort Wayne Ballet and this special evening of romance\, passion\, and heartfelt movement. Whether you’re bringing a date\, attending with friends\, or simply looking for a splendid evening out\, Fort Wayne Ballet will sweep you off your feet with stories of love.
URL:https://downtownwabash.org/event/fort-wayne-ballet-presents-love-notes/
ATTACH;FMTTYPE=image/jpeg:https://downtownwabash.org/wp-content/uploads/Show_LoveNotes-4f40bb8bf17ecf287e353c25076d93fc-scaled.jpg
END:VEVENT
BEGIN:VEVENT
DTSTART;TZID=America/Indiana/Indianapolis:20250213T190000
DTEND;TZID=America/Indiana/Indianapolis:20250213T210000
DTSTAMP:20260424T120036
CREATED:20241209T135442Z
LAST-MODIFIED:20241209T135442Z
UID:9494-1739473200-1739480400@downtownwabash.org
SUMMARY:The All New Wizard of Oz On Ice
DESCRIPTION:From the visionary team behind acclaimed ice spectacles like Peter Pan On Ice\, Cinderella On Ice\, and Beauty & The Beast On Ice comes a fresh and exhilarating reimagining of L. Frank Baum’s timeless story. This all-new production\, Wizard of Oz On Ice\, promises to dazzle audiences of all ages with stunning choreography\, state-of-the-art special effects\, and vibrant costumes that bring the Land of Oz to life in ways never seen before\, enchanting both the young and the young at heart.
URL:https://downtownwabash.org/event/the-all-new-wizard-of-oz-on-ice/
ATTACH;FMTTYPE=image/jpeg:https://downtownwabash.org/wp-content/uploads/Show_OzOnIce_Small-af129a2a78d8ab03c271c9e48aaa9335.jpg
END:VEVENT
BEGIN:VEVENT
DTSTART;TZID=America/Indiana/Indianapolis:20250214T193000
DTEND;TZID=America/Indiana/Indianapolis:20250214T213000
DTSTAMP:20260424T120036
CREATED:20240625T163950Z
LAST-MODIFIED:20240625T163950Z
UID:8781-1739561400-1739568600@downtownwabash.org
SUMMARY:Forever Seger
DESCRIPTION:FOREVER SEGER creates a dynamic journey through the timeless music of Bob Seger and The Silver Bullet Band. With authentic vocals and commanding performances\, FOREVER SEGER’s fast-growing reputation as THE Bob Seger tribute experience has propelled the band onto the top-ranking concert stages. From the opening notes of the timeless classic “Turn the Page” to anthems such as “Hollywood Nights\,” “Old Time Rock & Roll\,” and “Night Moves\,” it’s clear why Bob Seger fans are calling FOREVER SEGER a true concert experience.
URL:https://downtownwabash.org/event/forever-seger/
LOCATION:Wabash\, IN\, 46992\, United States
ATTACH;FMTTYPE=image/jpeg:https://downtownwabash.org/wp-content/uploads/ForeverSeger-dfd115fa2727bba74cd5e1107e8a821f.jpg
END:VEVENT
BEGIN:VEVENT
DTSTART;TZID=America/Indiana/Indianapolis:20250215T200000
DTEND;TZID=America/Indiana/Indianapolis:20250215T220000
DTSTAMP:20260424T120036
CREATED:20250115T020316Z
LAST-MODIFIED:20250115T020316Z
UID:9519-1739649600-1739656800@downtownwabash.org
SUMMARY:An Evening With Beatrix
DESCRIPTION:Skip the usual Valentine’s Day routine and enjoy an evening with Beatrix\, featuring the rising star’s raw emotion\, darkly poetic lyrics\, and haunting piano-driven melodies. The Parkview Ballroom will be transformed into a club-like atmosphere with table seating\, intimate lighting\, and cocktails and desserts available for purchase. Treat your Valentine or gather a group. Come early to mingle! \nBeatrix delves into the disorienting experiences of growing up\, love\, fear\, and life’s uncertainties. Her sound is defined by powerful yet delicate vocals\, conveying a depth of feeling\, rarely found in contemporary music. Beatrix’s debut album Vertigo illustrates the balance between falling in love and the fear of vulnerability\, using circus imagery to depict her emotional tightrope walk. She is an alumni of the Honeywell Arts Academy and is now based in Los Angeles as she embarks on a flourishing solo career.
URL:https://downtownwabash.org/event/an-evening-with-beatrix/
ATTACH;FMTTYPE=image/jpeg:https://downtownwabash.org/wp-content/uploads/Show_Beatrix_Small-cc12b17a6a9396e2151953270f026d40.jpg
END:VEVENT
BEGIN:VEVENT
DTSTART;TZID=America/Indiana/Indianapolis:20250219T100000
DTEND;TZID=America/Indiana/Indianapolis:20250219T130000
DTSTAMP:20260424T120036
CREATED:20240625T163852Z
LAST-MODIFIED:20240625T163852Z
UID:8737-1739959200-1739970000@downtownwabash.org
SUMMARY:A Year with Frog & Toad
DESCRIPTION:A Honeywell Arts In Education Student Matinee\nBased on the beloved children’s books and featuring a jazzy\, upbeat score\, A Year with Frog & Toad is an enchanting experience. This whimsical musical follows two friends – the cheerful Frog and curmudgeon Toad – through four seasons\, meeting new friends along the way. Waking from hibernation in the Spring\, Frog and Toad plant gardens\, swim\, rake leaves\, go sledding\, and learn life lessons along the way as they celebrate their differences that make them unique and special. Student matinees are held during the school day as field trip opportunities\, but are open to the public as well. Shows at 10am and 12pm.
URL:https://downtownwabash.org/event/a-year-with-frog-toad/
LOCATION:Wabash\, IN\, 46992\, United States
ATTACH;FMTTYPE=image/jpeg:https://downtownwabash.org/wp-content/uploads/Show_MatineeFrogToad_Large-097e7427256a3725ce60bfdc531cd5b1.jpg
END:VEVENT
BEGIN:VEVENT
DTSTART;TZID=America/Indiana/Indianapolis:20250220T190000
DTEND;TZID=America/Indiana/Indianapolis:20250220T210000
DTSTAMP:20260424T120036
CREATED:20240802T162559Z
LAST-MODIFIED:20240802T162559Z
UID:9164-1740078000-1740085200@downtownwabash.org
SUMMARY:The Barricade Boys
DESCRIPTION:The Barricade Boys are taking the world by storm with their electrifying show that will have you belting out your favorite tunes and grinning from ear to ear. From the heart-wrenching emotion of Les Misérables to the toe-tapping harmonies of the Jersey Boys and a mix of the greatest pop\, rock\, swing\, and Motown hits of all time\, The Barricade Boys create the ultimate Broadway Party musical mashup. The performers will also share hilarious and inspiring stories from their time on stage.
URL:https://downtownwabash.org/event/the-barricade-boys/
LOCATION:Wabash\, IN\, 46992\, United States
ATTACH;FMTTYPE=image/jpeg:https://downtownwabash.org/wp-content/uploads/BarricadeBoys-163c9a038682d2fd004efe61269969dc.jpg
END:VEVENT
BEGIN:VEVENT
DTSTART;TZID=America/Indiana/Indianapolis:20250222T190000
DTEND;TZID=America/Indiana/Indianapolis:20250222T210000
DTSTAMP:20260424T120036
CREATED:20241122T152845Z
LAST-MODIFIED:20241122T152854Z
UID:9378-1740250800-1740258000@downtownwabash.org
SUMMARY:An Evening With Steven Curtis Chapman
DESCRIPTION:In a career that has spanned more than three decades\, Steven Curtis Chapman is the most-awarded artist in Christian music history. He has sold more than sixteen million albums with 60 Gospel Music Association (GMA) Dove Awards\, five GRAMMY Awards\, an American Music Award\, and a historic 50 number-one singles. Chapman is known for hits like “Cinderella\,” “I Will Be Here\,” and “The Great Adventure.” He has collaborated with artists like Amy Grant\, Casting Crowns\, Brad Paisley\, and more. His newest album\, Still\, includes the number-one hit “Don’t Lose Heart.”
URL:https://downtownwabash.org/event/an-evening-with-steven-curtis-chapman/
ATTACH;FMTTYPE=image/jpeg:https://downtownwabash.org/wp-content/uploads/Show_StevenCurtisChapman_Small-ace07e8eb0794e33e8eff57f1acf7d12.jpg
END:VEVENT
BEGIN:VEVENT
DTSTART;TZID=America/Indiana/Indianapolis:20250225T190000
DTEND;TZID=America/Indiana/Indianapolis:20250225T200000
DTSTAMP:20260424T120036
CREATED:20250130T194056Z
LAST-MODIFIED:20250130T194056Z
UID:9541-1740510000-1740513600@downtownwabash.org
SUMMARY:History of the Iconic St. Elmo Steak House
DESCRIPTION:How is a famous Indiana steak house known for shrimp cocktail? Chris Ratay\, Honeywell Vice President of Hospitality and former General Manager of St. Elmo\, will take guests through the history\, beginning in 1902 through his personal journey which included managing the restaurant during the 2012 NFL Super Bowl in Indianapolis. The evening will include\, of course\, “the” sinus-clearing experience! $10 includes a two-piece shrimp cocktail.
URL:https://downtownwabash.org/event/history-of-the-iconic-st-elmo-steak-house/
ATTACH;FMTTYPE=image/jpeg:https://downtownwabash.org/wp-content/uploads/st-elmo-8036943669f10b93ca2f97d350616fdb.jpg
END:VEVENT
BEGIN:VEVENT
DTSTART;TZID=America/Indiana/Indianapolis:20250228T193000
DTEND;TZID=America/Indiana/Indianapolis:20250228T213000
DTSTAMP:20260424T120036
CREATED:20241023T160414Z
LAST-MODIFIED:20241023T160414Z
UID:9339-1740771000-1740778200@downtownwabash.org
SUMMARY:Son of a Gun: Tribute to Guns N' Roses
DESCRIPTION:Son of a Gun\, the Guns N’ Roses tribute band\, has performed across the United States for over five years. Featuring Ari Kamin\, frontman from Steven Adler’s (Guns N’ Roses) solo band\, the band will perform hits like “Knockin’ on Heaven’s Door\,” “Sweet Child o’ Mine\,” “November Rain\,” and more.
URL:https://downtownwabash.org/event/son-of-a-gun-tribute-to-guns-n-roses/
ATTACH;FMTTYPE=image/jpeg:https://downtownwabash.org/wp-content/uploads/SonOfAGun-80a2fff0c4d6853a766a5d6924057a93.jpg
END:VEVENT
END:VCALENDAR