BEGIN:VCALENDAR
VERSION:2.0
PRODID:-//Downtown Wabash, Inc. - ECPv6.15.17.1//NONSGML v1.0//EN
CALSCALE:GREGORIAN
METHOD:PUBLISH
X-ORIGINAL-URL:https://downtownwabash.org
X-WR-CALDESC:Events for Downtown Wabash, Inc.
REFRESH-INTERVAL;VALUE=DURATION:PT1H
X-Robots-Tag:noindex
X-PUBLISHED-TTL:PT1H
BEGIN:VTIMEZONE
TZID:America/Indiana/Indianapolis
BEGIN:DAYLIGHT
TZOFFSETFROM:-0500
TZOFFSETTO:-0400
TZNAME:EDT
DTSTART:20240310T070000
END:DAYLIGHT
BEGIN:STANDARD
TZOFFSETFROM:-0400
TZOFFSETTO:-0500
TZNAME:EST
DTSTART:20241103T060000
END:STANDARD
BEGIN:DAYLIGHT
TZOFFSETFROM:-0500
TZOFFSETTO:-0400
TZNAME:EDT
DTSTART:20250309T070000
END:DAYLIGHT
BEGIN:STANDARD
TZOFFSETFROM:-0400
TZOFFSETTO:-0500
TZNAME:EST
DTSTART:20251102T060000
END:STANDARD
BEGIN:DAYLIGHT
TZOFFSETFROM:-0500
TZOFFSETTO:-0400
TZNAME:EDT
DTSTART:20260308T070000
END:DAYLIGHT
BEGIN:STANDARD
TZOFFSETFROM:-0400
TZOFFSETTO:-0500
TZNAME:EST
DTSTART:20261101T060000
END:STANDARD
END:VTIMEZONE
BEGIN:VEVENT
DTSTART;TZID=America/Indiana/Indianapolis:20250102T100000
DTEND;TZID=America/Indiana/Indianapolis:20250102T170000
DTSTAMP:20260424T134156
CREATED:20241205T142413Z
LAST-MODIFIED:20241205T142413Z
UID:9451-1735812000-1735837200@downtownwabash.org
SUMMARY:Indoor Sock Skating & Polar Plunge Slide
DESCRIPTION:Join us at the Museum this holiday season where kids ages 2 – 12 can visit Gipe’s Pond\, our indoor synthetic sock skating rink! Skaters can enter the rink on the first floor or venture to the second floor to slide down our Polar Plunge Slide. Skating time is unlimited and includes access to the full museum. \nDidn’t bring clean socks? Not a problem. Our gift shop is stocked with several holiday themed socks that can be purchased to use for skating.
URL:https://downtownwabash.org/event/indoor-sock-skating-polar-plunge-slide/
ATTACH;FMTTYPE=image/png:https://downtownwabash.org/wp-content/uploads/700x700-Sock-Skating-408f4e91933981dbf40000c8abae3ff5.png
END:VEVENT
BEGIN:VEVENT
DTSTART;TZID=America/Indiana/Indianapolis:20250102T103000
DTEND;TZID=America/Indiana/Indianapolis:20250102T113000
DTSTAMP:20260424T134156
CREATED:20241205T142431Z
LAST-MODIFIED:20241205T142431Z
UID:9457-1735813800-1735817400@downtownwabash.org
SUMMARY:Once Upon a Story Hour: Read with Royalty
DESCRIPTION:Join us for our third Winter @ the Museum Program of the season: Once Upon a Story Hour: Read with Royalty! Wear your favorite princess/prince costume\, and listen to stories being read by Wabash Co Fair Queen\, Kierra Wilson\, and Miss Wabash County Festivals Queen\, Ella Satterthwaite.
URL:https://downtownwabash.org/event/once-upon-a-story-hour-read-with-royalty/
ATTACH;FMTTYPE=image/png:https://downtownwabash.org/wp-content/uploads/700x700-Read-with-Royalty-84bb3e45d6dc3bfecf658f89806b83ff.png
END:VEVENT
BEGIN:VEVENT
DTSTART;TZID=America/Indiana/Indianapolis:20250103T100000
DTEND;TZID=America/Indiana/Indianapolis:20250103T170000
DTSTAMP:20260424T134156
CREATED:20241205T142419Z
LAST-MODIFIED:20241205T142419Z
UID:9453-1735898400-1735923600@downtownwabash.org
SUMMARY:Indoor Sock Skating & Polar Plunge Slide
DESCRIPTION:Join us at the Museum this holiday season where kids ages 2 – 12 can visit Gipe’s Pond\, our indoor synthetic sock skating rink! Skaters can enter the rink on the first floor or venture to the second floor to slide down our Polar Plunge Slide. Skating time is unlimited and includes access to the full museum. \nDidn’t bring clean socks? Not a problem. Our gift shop is stocked with several holiday themed socks that can be purchased to use for skating.
URL:https://downtownwabash.org/event/indoor-sock-skating-polar-plunge-slide/
ATTACH;FMTTYPE=image/png:https://downtownwabash.org/wp-content/uploads/700x700-Sock-Skating-ce6f6d23533c374a692c317d6a6c33ea.png
END:VEVENT
BEGIN:VEVENT
DTSTART;TZID=America/Indiana/Indianapolis:20250103T103000
DTEND;TZID=America/Indiana/Indianapolis:20250103T113000
DTSTAMP:20260424T134156
CREATED:20241205T142438Z
LAST-MODIFIED:20241205T142438Z
UID:9459-1735900200-1735903800@downtownwabash.org
SUMMARY:Once Upon a Story Hour: Pajama Pals Storytime
DESCRIPTION:Join us for our last Winter @ the Museum Program for the season: Once Upon a Story Hour: Pajama Pals Storytime! Wear PJs\, bring your stuffed friend\, make a craft\, and listen to stories being read by Laura Beutler from the Wabash Carnegie Public Library.
URL:https://downtownwabash.org/event/once-upon-a-story-hour-pajama-pals-storytime/
ATTACH;FMTTYPE=image/png:https://downtownwabash.org/wp-content/uploads/700x700-Pajama-Pals-Storytime-7844450de22d466455221c19bafbb704.png
END:VEVENT
BEGIN:VEVENT
DTSTART;TZID=America/Indiana/Indianapolis:20250117T183000
DTEND;TZID=America/Indiana/Indianapolis:20250117T203000
DTSTAMP:20260424T134156
CREATED:20240802T163411Z
LAST-MODIFIED:20240802T163411Z
UID:9054-1737138600-1737145800@downtownwabash.org
SUMMARY:Mark Honeywell Birthday Dinner
DESCRIPTION:Bon jour! Honeywell House will celebrate Mr. Honeywell’s 150th birthday with a French dinner. The Honeywells loved everything French\, so it’s appropriate to enjoy French cuisine\, music\, and festivities at this special event.
URL:https://downtownwabash.org/event/mark-honeywell-birthday-dinner/
LOCATION:Wabash\, IN\, 46992\, United States
ATTACH;FMTTYPE=image/png:https://downtownwabash.org/wp-content/uploads/MCH-7363676b84f4cc731807b453059297bf.png
END:VEVENT
BEGIN:VEVENT
DTSTART;TZID=America/Indiana/Indianapolis:20250118T193000
DTEND;TZID=America/Indiana/Indianapolis:20250118T213000
DTSTAMP:20260424T134156
CREATED:20240625T164032Z
LAST-MODIFIED:20240625T164032Z
UID:8777-1737228600-1737235800@downtownwabash.org
SUMMARY:Hotel California: A Salute to the Eagles
DESCRIPTION:A spirited blend of originality and the pursuit of excellence have taken Hotel California – A Salute to the Eagles to a level of recognition normally reserved for Gold and Platinum recording artists. By respectfully and accurately reproducing the GRAMMY award-winning sounds of the Eagles\, this legendary Southern California group has touched the hearts of fans all over the world.
URL:https://downtownwabash.org/event/hotel-california-a-salute-to-the-eagles/
LOCATION:Wabash\, IN\, 46992\, United States
ATTACH;FMTTYPE=image/jpeg:https://downtownwabash.org/wp-content/uploads/HotelCalifornia-19649742815822c4f2d5886c2989758b.jpg
END:VEVENT
BEGIN:VEVENT
DTSTART;TZID=America/Indiana/Indianapolis:20250124T193000
DTEND;TZID=America/Indiana/Indianapolis:20250124T213000
DTSTAMP:20260424T134156
CREATED:20240802T163004Z
LAST-MODIFIED:20240802T163004Z
UID:9060-1737747000-1737754200@downtownwabash.org
SUMMARY:Rock the Dock
DESCRIPTION:Rock the Dock\, featuring Ambrosia\, John Ford Coley\, and Peter Beckett (The Voice of Player)\, delivers a magical night performing all of their 1970s and 1980s Billboard Top 40 Hits. The GRAMMY-winning artists will perform YACHT ROCK hits like Ambrosia’s “How Much I Feel\,” John Ford Coley’s “I’d Really Love to See You Tonight\,” and Peter Beckett’s “Baby Come Back.” Don’t miss some of the most iconic songs from one of rock’s greatest eras\, and get ready to ROCK THE DOCK!
URL:https://downtownwabash.org/event/rock-the-dock/
LOCATION:Wabash\, IN\, 46992\, United States
ATTACH;FMTTYPE=image/jpeg:https://downtownwabash.org/wp-content/uploads/RocktheDock-d743d204ae1efb5a789bca4052ab260b.jpg
END:VEVENT
END:VCALENDAR