BEGIN:VCALENDAR
VERSION:2.0
PRODID:-//Downtown Wabash, Inc. - ECPv6.15.17.1//NONSGML v1.0//EN
CALSCALE:GREGORIAN
METHOD:PUBLISH
X-ORIGINAL-URL:https://downtownwabash.org
X-WR-CALDESC:Events for Downtown Wabash, Inc.
REFRESH-INTERVAL;VALUE=DURATION:PT1H
X-Robots-Tag:noindex
X-PUBLISHED-TTL:PT1H
BEGIN:VTIMEZONE
TZID:America/Indiana/Indianapolis
BEGIN:DAYLIGHT
TZOFFSETFROM:-0500
TZOFFSETTO:-0400
TZNAME:EDT
DTSTART:20230312T070000
END:DAYLIGHT
BEGIN:STANDARD
TZOFFSETFROM:-0400
TZOFFSETTO:-0500
TZNAME:EST
DTSTART:20231105T060000
END:STANDARD
BEGIN:DAYLIGHT
TZOFFSETFROM:-0500
TZOFFSETTO:-0400
TZNAME:EDT
DTSTART:20240310T070000
END:DAYLIGHT
BEGIN:STANDARD
TZOFFSETFROM:-0400
TZOFFSETTO:-0500
TZNAME:EST
DTSTART:20241103T060000
END:STANDARD
BEGIN:DAYLIGHT
TZOFFSETFROM:-0500
TZOFFSETTO:-0400
TZNAME:EDT
DTSTART:20250309T070000
END:DAYLIGHT
BEGIN:STANDARD
TZOFFSETFROM:-0400
TZOFFSETTO:-0500
TZNAME:EST
DTSTART:20251102T060000
END:STANDARD
END:VTIMEZONE
BEGIN:VEVENT
DTSTART;TZID=America/Indiana/Indianapolis:20240106T190000
DTEND;TZID=America/Indiana/Indianapolis:20240106T220000
DTSTAMP:20260424T213334
CREATED:20231130T151202Z
LAST-MODIFIED:20231130T151202Z
UID:6615-1704567600-1704578400@downtownwabash.org
SUMMARY:Dakota Parker
DESCRIPTION:Dakota Ray Parker performs many varieties of music including classic country (Merle Haggard\, Hank Williams\, Johnny Cash)\, some classic rock (Neil Diamond\, Eric Clapton\, Bruce Springsteen)\, Folk music (The Avett Brothers\, Bob Dylan\, Tom T Hall)\, Elvis Presley\, Adele\, Justin Bieber and so much more. He also writes his own music with more than 35 original songs. He won The Voice of Wabash County in 2018 and opened for Aaron Barker at the Eagles Theater.
URL:https://downtownwabash.org/event/dakota-parker/
LOCATION:Wabash\, IN\, 46992\, United States
ATTACH;FMTTYPE=image/jpeg:https://downtownwabash.org/wp-content/uploads/Dakota-Parker-2023-fd4ddfc39452897bfdf90e946de6beaf.jpg
END:VEVENT
BEGIN:VEVENT
DTSTART;TZID=America/Indiana/Indianapolis:20240109T120000
DTEND;TZID=America/Indiana/Indianapolis:20240109T130000
DTSTAMP:20260424T213335
CREATED:20240102T175703Z
LAST-MODIFIED:20240102T175703Z
UID:7087-1704801600-1704805200@downtownwabash.org
SUMMARY:January 2024 Board Meeting
DESCRIPTION:
URL:https://downtownwabash.org/event/january-2024-board-meeting/
LOCATION:Wabash\, IN\, 46992\, United States
CATEGORIES:Board Member Meeting
ORGANIZER;CN="Downtown Wabash":MAILTO:(260) 563-0975
END:VEVENT
BEGIN:VEVENT
DTSTART;TZID=America/Indiana/Indianapolis:20240112T173000
DTEND;TZID=America/Indiana/Indianapolis:20240112T203000
DTSTAMP:20260424T213335
CREATED:20240102T172651Z
LAST-MODIFIED:20240102T172651Z
UID:6982-1705080600-1705091400@downtownwabash.org
SUMMARY:Sea to Sea Shrimp Dinner
DESCRIPTION:Delight in a three-course fine dining experience featuring shrimp sourced from waters along the gulf coast and Asia. The appetizer and entree courses will be accompanied by wine tastings from Fess Parker located in Santa Barbara\, CA. Cocktails\, beer\, and wine will be available for purchase. \nAppetizer: \nChoice of shrimp cocktail or shrimp ceviche \nPaired with 2022 Fess Parker Riesling \n​ \nEntrée: \nChoice of Asian chili garlic shrimp or shrimp and grits \nPaired with 2022 Fess Parker Chardonnay \n​ \nDessert: \nChoice of key lime pie or macerated berry tiramisu
URL:https://downtownwabash.org/event/sea-to-sea-shrimp-dinner/
LOCATION:Wabash\, IN\, 46992\, United States
ATTACH;FMTTYPE=image/jpeg:https://downtownwabash.org/wp-content/uploads/HoneywellCenter-a9802ee6ff1d40673bdcd2647b2a2af6.jpg
END:VEVENT
BEGIN:VEVENT
DTSTART;TZID=America/Indiana/Indianapolis:20240112T193000
DTEND;TZID=America/Indiana/Indianapolis:20240113T213000
DTSTAMP:20260424T213335
CREATED:20231009T175541Z
LAST-MODIFIED:20231009T175541Z
UID:6105-1705087800-1705181400@downtownwabash.org
SUMMARY:Fire Line Productions - Murder on the Orient Express
DESCRIPTION:Fire Line Productions of Wabash features local talent in this production of Murder On the Orient Express. Just after midnight\, a snowdrift stops the Orient Express in its tracks. The luxurious train is surprisingly full for the time of the year\, but by the morning\, it is one passenger fewer. Isolated and with a killer in their midst\, the passengers rely on Detective Hercule Poirot to identify the murderer – in case the killer decides to strike again.
URL:https://downtownwabash.org/event/fire-line-productions-murder-on-the-orient-express/
LOCATION:Wabash\, IN\, 46992\, United States
ATTACH;FMTTYPE=image/jpeg:https://downtownwabash.org/wp-content/uploads/Murder-on-the-Orient-Express-2e11b6ea57ae0eb8331646c97a1af1b7.jpg
END:VEVENT
BEGIN:VEVENT
DTSTART;TZID=America/Indiana/Indianapolis:20240113T190000
DTEND;TZID=America/Indiana/Indianapolis:20240113T220000
DTSTAMP:20260424T213335
CREATED:20231130T150912Z
LAST-MODIFIED:20231130T150912Z
UID:6624-1705172400-1705183200@downtownwabash.org
SUMMARY:Mike Almon
DESCRIPTION:With more than 300 shows scheduled each year\, Mike Almon has been playing guitar and writing music since he was 14. This year he plans to release his first studio-recorded album “Had a Good Run” featuring a mix of his originals\, along with two bonus track parodies “Last Fence” and “Detour Land.”
URL:https://downtownwabash.org/event/mike-almon/
LOCATION:Wabash\, IN\, 46992\, United States
ATTACH;FMTTYPE=image/jpeg:https://downtownwabash.org/wp-content/uploads/Mike-Almon-2021-2-24c07387ad96ca584e1f540041a249a4.jpg
END:VEVENT
BEGIN:VEVENT
DTSTART;TZID=America/Indiana/Indianapolis:20240118T190000
DTEND;TZID=America/Indiana/Indianapolis:20240118T220000
DTSTAMP:20260424T213335
CREATED:20230809T150353Z
LAST-MODIFIED:20230809T153312Z
UID:5637-1705604400-1705615200@downtownwabash.org
SUMMARY:An Acoustic Evening with Nelson
DESCRIPTION:Nelson\, an American rock band founded by singer/songwriters Matthew and Gunnar Nelson\, achieved success from their 1990s debut album After the Rain\, which included “(Can’t Live Without Your) Love and Affection.” The twin brothers are listed in the Guinness Book of World Records as the only family to reach number one record status in three successive generations. With their chart-topping hits like “After the Rain” and “More Than Ever\,” the duo captivates audiences with a sound that blends rock attitude\, pop hooks\, and brotherly harmonies.
URL:https://downtownwabash.org/event/an-acoustic-evening-with-nelson/
CATEGORIES:Wabash Community Event,Wabash Cultural District
ATTACH;FMTTYPE=image/jpeg:https://downtownwabash.org/wp-content/uploads/ET-Eagles-Theatre-29d033c87e32438e253ae16a6637a762.jpg
END:VEVENT
BEGIN:VEVENT
DTSTART;TZID=America/Indiana/Indianapolis:20240119T183000
DTEND;TZID=America/Indiana/Indianapolis:20240119T203000
DTSTAMP:20260424T213335
CREATED:20230724T144956Z
LAST-MODIFIED:20230724T152427Z
UID:5505-1705689000-1705696200@downtownwabash.org
SUMMARY:Mark Honeywell’s Birthday Dinner
DESCRIPTION:Enjoy the fun\, beauty and music of Greece as we celebrate Mark Honeywell’s 149th birthday. Greek food and culture will make this an evening to remember! $45 per person (includes tax and gratuity).
URL:https://downtownwabash.org/event/mark-honeywells-birthday-dinner/
CATEGORIES:Wabash Community Event
ATTACH;FMTTYPE=image/jpeg:https://downtownwabash.org/wp-content/uploads/HoneywellHouse-1364e25fbafd8cf8220b6c8102ed6cd0.jpg
END:VEVENT
BEGIN:VEVENT
DTSTART;TZID=America/Indiana/Indianapolis:20240119T193000
DTEND;TZID=America/Indiana/Indianapolis:20240119T223000
DTSTAMP:20260424T213335
CREATED:20240102T172811Z
LAST-MODIFIED:20240102T172811Z
UID:6984-1705692600-1705703400@downtownwabash.org
SUMMARY:The Little Mermen
DESCRIPTION:The Little Mermen is the ultimate Disney tribute concert for Disney fanatics of all ages. The band’s repertoire covers nearly a century of musical canon\, including favorites from The Little Mermaid\, Mary Poppins\, Frozen\, and Encanto. The group performs in full costume\, with band members dressing up as characters from the films. The Little Mermen invite you to be their guest for a magical experience jam-packed with nostalgic fun and rockin’ sing-alongs!
URL:https://downtownwabash.org/event/the-little-mermen/
LOCATION:Wabash\, IN\, 46992\, United States
ATTACH;FMTTYPE=image/jpeg:https://downtownwabash.org/wp-content/uploads/ET-Eagles-Theatre-55ff7c743ae88e4e2c1af960df2ba202.jpg
END:VEVENT
BEGIN:VEVENT
DTSTART;TZID=America/Indiana/Indianapolis:20240120T190000
DTEND;TZID=America/Indiana/Indianapolis:20240120T220000
DTSTAMP:20260424T213335
CREATED:20231130T150704Z
LAST-MODIFIED:20231130T150704Z
UID:6634-1705777200-1705788000@downtownwabash.org
SUMMARY:Abbie Thomas
DESCRIPTION:Fresh off of her 2023 JMA Artist of the Year award at The Grand Ole Opry\, Abbie Thomas\, is a rising singer songwriter who is gaining international attention and nominations for live performances\, lyricism and visual content. Mixing genre-bending arrangements with soulful vocals and hints of Blues\, Jazz\, and a vibe from the songwriters of the 70’s\, she is currently touring regionally; most recently opening for Clint Black\, Laine Hardy\, and Girl Named Tom. Influenced by artists such as Carole King\, Lauryn Hill\, John Mayer and Ella Fitzgerald\, versatility has her playing throughout Midwest USA in acoustic listening rooms to clubs with her full backing band\, recently dubbed ‘The Crazy Hearts’; who were just nominated for a 2023 Hollywood Independent Music Award for Best Live Performance for Thomas’ original\, “Try.” You can listen to Thomas’ original music on all major streaming platforms.
URL:https://downtownwabash.org/event/abbie-thomas/
LOCATION:Wabash\, IN\, 46992\, United States
ATTACH;FMTTYPE=image/jpeg:https://downtownwabash.org/wp-content/uploads/Abbie-Thomas-2023-web-e1530ff329d87a08807a83fd44fade65-scaled.jpg
END:VEVENT
BEGIN:VEVENT
DTSTART;TZID=America/Indiana/Indianapolis:20240120T193000
DTEND;TZID=America/Indiana/Indianapolis:20240120T220000
DTSTAMP:20260424T213335
CREATED:20230809T150650Z
LAST-MODIFIED:20230809T153319Z
UID:5639-1705779000-1705788000@downtownwabash.org
SUMMARY:Thunderstruck
DESCRIPTION:Thunderstruck expertly recreates the AC/DC live concert experience just the way fans remember it. Each member obsesses over the tones and structures of each song\, the energy of each performance\, as well as every piece of gear\, to bring the power and entertainment of a genuine AC/DC show back to the stage.
URL:https://downtownwabash.org/event/thunderstruck/
CATEGORIES:Wabash Community Event,Wabash Cultural District
ATTACH;FMTTYPE=image/jpeg:https://downtownwabash.org/wp-content/uploads/Thunderstruck-432b34cabd3f685cb2af47d816d18f31.jpg
END:VEVENT
BEGIN:VEVENT
DTSTART;TZID=America/Indiana/Indianapolis:20240126T190000
DTEND;TZID=America/Indiana/Indianapolis:20240126T213000
DTSTAMP:20260424T213335
CREATED:20230809T151001Z
LAST-MODIFIED:20230809T153328Z
UID:5641-1706295600-1706304600@downtownwabash.org
SUMMARY:Dinosaur World Live
DESCRIPTION:Grab your compass and join the fearless explorer across uncharted territories to discover a pre-historic world of astonishing (and remarkably life-like) dinosaurs. Meet a host of impressive creatures\, including every child’s favorite flesh-eating giant\, the Tyrannosaurus Rex\, Triceratops\, Giraffatitan\, Microraptor\, and Segnosaurus! Don’t miss this entertaining and mind-expanding jurassic adventure live on stage.
URL:https://downtownwabash.org/event/dinosaur-world-live/
CATEGORIES:Wabash Community Event,Wabash Cultural District
ATTACH;FMTTYPE=image/jpeg:https://downtownwabash.org/wp-content/uploads/HC-Ford-Theater-adf55e3902d561aad9254434721397c4.jpg
END:VEVENT
BEGIN:VEVENT
DTSTART;TZID=America/Indiana/Indianapolis:20240126T190000
DTEND;TZID=America/Indiana/Indianapolis:20240126T220000
DTSTAMP:20260424T213335
CREATED:20240102T172926Z
LAST-MODIFIED:20240102T172926Z
UID:6986-1706295600-1706306400@downtownwabash.org
SUMMARY:Dinosaur World Live
DESCRIPTION:Grab your compass and join the fearless explorer across uncharted territories to discover a pre-historic world of astonishing (and remarkably life-like) dinosaurs. Meet a host of impressive creatures\, including every child’s favorite flesh-eating giant\, the Tyrannosaurus Rex\, Triceratops\, Giraffatitan\, Microraptor\, and Segnosaurus! Don’t miss this entertaining and mind-expanding jurassic adventure live on stage.
URL:https://downtownwabash.org/event/dinosaur-world-live/
LOCATION:Wabash\, IN\, 46992\, United States
ATTACH;FMTTYPE=image/jpeg:https://downtownwabash.org/wp-content/uploads/HC-Ford-Theater-4133cdddc656b7af7ffc4f98c651bb24.jpg
END:VEVENT
BEGIN:VEVENT
DTSTART;TZID=America/Indiana/Indianapolis:20240127T190000
DTEND;TZID=America/Indiana/Indianapolis:20240127T220000
DTSTAMP:20260424T213335
CREATED:20231130T150513Z
LAST-MODIFIED:20231130T150513Z
UID:6640-1706382000-1706392800@downtownwabash.org
SUMMARY:Conner Noble
DESCRIPTION:Connor Noble\, from Wabash\, Indiana\, has been playing music for the past 11 years. He has played across Indiana on radio talk shows\, and has had original music featured in films\, including Night of the Living Dead\, The Blood Moon\, First Harvest\, and more. Noble is currently the lead guitarist for Rejected Iris– having written and produced two albums for the band. His inspiration comes from the music of the 1990s-2000s\, spanning a variety of genres from rock to blues\, jazz to pop and even punk. Noble brings something that everyone can enjoy.
URL:https://downtownwabash.org/event/conner-noble/
LOCATION:Wabash\, IN\, 46992\, United States
ATTACH;FMTTYPE=image/jpeg:https://downtownwabash.org/wp-content/uploads/Devon-Noble-e30f54afdc6061d24109251c4c137944.jpg
END:VEVENT
BEGIN:VEVENT
DTSTART;TZID=America/Indiana/Indianapolis:20240128T190000
DTEND;TZID=America/Indiana/Indianapolis:20240128T213000
DTSTAMP:20260424T213335
CREATED:20240102T173038Z
LAST-MODIFIED:20240102T173038Z
UID:6988-1706468400-1706477400@downtownwabash.org
SUMMARY:The Wizard of Oz 85th Anniversary
DESCRIPTION:In this classic musical fantasy\, Judy Garland stars as Dorothy Gale\, a young Kansas farm girl who dreams of a land “somewhere over the rainbow.” Dorothy’s dream comes true when she\, her dog Toto\, and her family’s house are transported by a tornado to a bright and magical world unlike anything she has seen before. Unfortunately\, she makes a mortal enemy of a wicked witch when the house falls on the hag’s sister. Now\, befriended by a scarecrow without a brain\, a tin man with no heart and a cowardly lion–and protected by a pair of enchanted ruby slippers–Dorothy sets off along a yellow brick road for the Emerald City to beseech the all-powerful Wizard of Oz for his help to return home. This special 85th anniversary event includes exclusive insight from Leonard Maltin.
URL:https://downtownwabash.org/event/the-wizard-of-oz-85th-anniversary/
LOCATION:Wabash\, IN\, 46992\, United States
ATTACH;FMTTYPE=image/jpeg:https://downtownwabash.org/wp-content/uploads/ET-Eagles-Theatre-5a7494677ce682eaf4ba08187b13c047.jpg
END:VEVENT
BEGIN:VEVENT
DTSTART;TZID=America/Indiana/Indianapolis:20240129T190000
DTEND;TZID=America/Indiana/Indianapolis:20240129T213000
DTSTAMP:20260424T213335
CREATED:20240102T173057Z
LAST-MODIFIED:20240102T173057Z
UID:6990-1706554800-1706563800@downtownwabash.org
SUMMARY:The Wizard of Oz 85th Anniversary
DESCRIPTION:In this classic musical fantasy\, Judy Garland stars as Dorothy Gale\, a young Kansas farm girl who dreams of a land “somewhere over the rainbow.” Dorothy’s dream comes true when she\, her dog Toto\, and her family’s house are transported by a tornado to a bright and magical world unlike anything she has seen before. Unfortunately\, she makes a mortal enemy of a wicked witch when the house falls on the hag’s sister. Now\, befriended by a scarecrow without a brain\, a tin man with no heart and a cowardly lion–and protected by a pair of enchanted ruby slippers–Dorothy sets off along a yellow brick road for the Emerald City to beseech the all-powerful Wizard of Oz for his help to return home. This special 85th anniversary event includes exclusive insight from Leonard Maltin.
URL:https://downtownwabash.org/event/the-wizard-of-oz-85th-anniversary/
LOCATION:Wabash\, IN\, 46992\, United States
ATTACH;FMTTYPE=image/jpeg:https://downtownwabash.org/wp-content/uploads/ET-Eagles-Theatre-59c03726f021d685e127178db32717a9.jpg
END:VEVENT
BEGIN:VEVENT
DTSTART;TZID=America/Indiana/Indianapolis:20240131T190000
DTEND;TZID=America/Indiana/Indianapolis:20240131T213000
DTSTAMP:20260424T213335
CREATED:20240102T173110Z
LAST-MODIFIED:20240102T173110Z
UID:6992-1706727600-1706736600@downtownwabash.org
SUMMARY:The Wizard of Oz 85th Anniversary
DESCRIPTION:In this classic musical fantasy\, Judy Garland stars as Dorothy Gale\, a young Kansas farm girl who dreams of a land “somewhere over the rainbow.” Dorothy’s dream comes true when she\, her dog Toto\, and her family’s house are transported by a tornado to a bright and magical world unlike anything she has seen before. Unfortunately\, she makes a mortal enemy of a wicked witch when the house falls on the hag’s sister. Now\, befriended by a scarecrow without a brain\, a tin man with no heart and a cowardly lion–and protected by a pair of enchanted ruby slippers–Dorothy sets off along a yellow brick road for the Emerald City to beseech the all-powerful Wizard of Oz for his help to return home. This special 85th anniversary event includes exclusive insight from Leonard Maltin.
URL:https://downtownwabash.org/event/the-wizard-of-oz-85th-anniversary/
LOCATION:Wabash\, IN\, 46992\, United States
ATTACH;FMTTYPE=image/jpeg:https://downtownwabash.org/wp-content/uploads/ET-Ferguson-Theatre-494f301e5cefc1f4eb12c5aa2a3a65a8.jpg
END:VEVENT
END:VCALENDAR