BEGIN:VCALENDAR
VERSION:2.0
PRODID:-//Downtown Wabash, Inc. - ECPv6.15.17.1//NONSGML v1.0//EN
CALSCALE:GREGORIAN
METHOD:PUBLISH
X-WR-CALNAME:Downtown Wabash, Inc.
X-ORIGINAL-URL:https://downtownwabash.org
X-WR-CALDESC:Events for Downtown Wabash, Inc.
REFRESH-INTERVAL;VALUE=DURATION:PT1H
X-Robots-Tag:noindex
X-PUBLISHED-TTL:PT1H
BEGIN:VTIMEZONE
TZID:America/Indiana/Indianapolis
BEGIN:DAYLIGHT
TZOFFSETFROM:-0500
TZOFFSETTO:-0400
TZNAME:EDT
DTSTART:20220313T070000
END:DAYLIGHT
BEGIN:STANDARD
TZOFFSETFROM:-0400
TZOFFSETTO:-0500
TZNAME:EST
DTSTART:20221106T060000
END:STANDARD
BEGIN:DAYLIGHT
TZOFFSETFROM:-0500
TZOFFSETTO:-0400
TZNAME:EDT
DTSTART:20230312T070000
END:DAYLIGHT
BEGIN:STANDARD
TZOFFSETFROM:-0400
TZOFFSETTO:-0500
TZNAME:EST
DTSTART:20231105T060000
END:STANDARD
BEGIN:DAYLIGHT
TZOFFSETFROM:-0500
TZOFFSETTO:-0400
TZNAME:EDT
DTSTART:20240310T070000
END:DAYLIGHT
BEGIN:STANDARD
TZOFFSETFROM:-0400
TZOFFSETTO:-0500
TZNAME:EST
DTSTART:20241103T060000
END:STANDARD
END:VTIMEZONE
BEGIN:VEVENT
DTSTART;TZID=America/Indiana/Indianapolis:20230504T100000
DTEND;TZID=America/Indiana/Indianapolis:20230504T113000
DTSTAMP:20260424T081711
CREATED:20230321T164157Z
LAST-MODIFIED:20230330T163417Z
UID:4701-1683194400-1683199800@downtownwabash.org
SUMMARY:Wabash County Museum's Thursday Parlay
DESCRIPTION:Join us for another rendition of our “Thursday Parlay” as speaker Ray Boomhower\, editor of Indiana Historical Society’s magazine\, transports us back to 1967 as he talks about Gus Grissom and Apollo 1. \n“The Thursday Parlay” will take place in the Porter Room at the Wabash County Museum from 10:00 am to 11:30am on May the 4th. Refreshments are provided by our sponsor\, Bob Evans Restaurant\, and will take place with conversation from 10 – 10:30 am\, followed by the presentation. Hurry and RSVP to secure your spot before liftoff and May the 4th be with you.
URL:https://downtownwabash.org/event/wabash-county-museums-thursday-parlay-1/
LOCATION:Wabash\, IN\, 46992\, United States
CATEGORIES:Wabash Community Event,Wabash Cultural District
ATTACH;FMTTYPE=image/jpeg:https://downtownwabash.org/wp-content/uploads/The-Thursday-Parley-Flyer-5-×-7-in-7-×-5-in-1.jpg
END:VEVENT
BEGIN:VEVENT
DTSTART;TZID=America/Indiana/Indianapolis:20230505T170000
DTEND;TZID=America/Indiana/Indianapolis:20230505T200000
DTSTAMP:20260424T081711
CREATED:20230421T183724Z
LAST-MODIFIED:20230810T024711Z
UID:4793-1683306000-1683316800@downtownwabash.org
SUMMARY:May First Friday: Meet the Boutiques!
DESCRIPTION:Meet the Boutiques! A boutique is defined as a small store selling fashionable clothes or accessories. For May’s First Friday in Downtown Wabash\, Indiana\, we’re shining the light on some of the most popular shopping spots in the district! Meet Downtown Wabash boutiques with a specially curated stamping map to visit each one during First Friday! \nEnjoy additional springtime fun in the Downtown District with additional outdoor vendors\, things to do\, food trucks and more! \n2023 Downtown Wabash First Fridays are presented by MetalX. \nAdditional 2023 First Friday support comes from Top Level Sponsors: Pettit Printing and Crossroads Bank; and Mid Level Sponsor: 95.9 KISS FM. May’s First Friday is generously sponsored by Renewal By Andersen. \nWabash First Fridays are events made possible by Downtown Wabash\, Inc.\, a 501(c)(3) nonprofit dedicated to a downtown district that is vibrant every day and night.
URL:https://downtownwabash.org/event/may-first-friday-meet-the-boutiques/
LOCATION:Wabash\, IN\, 46992\, United States
CATEGORIES:First Friday,Wabash Community Event,Wabash Cultural District
ATTACH;FMTTYPE=image/jpeg:https://downtownwabash.org/wp-content/uploads/IMG_9320.jpg
ORGANIZER;CN="Downtown Wabash":MAILTO:(260) 563-0975
END:VEVENT
BEGIN:VEVENT
DTSTART;TZID=America/Indiana/Indianapolis:20230506T074500
DTEND;TZID=America/Indiana/Indianapolis:20230506T090000
DTSTAMP:20260424T081711
CREATED:20230502T200844Z
LAST-MODIFIED:20230502T200844Z
UID:4830-1683359100-1683363600@downtownwabash.org
SUMMARY:Wabash River Run Club
DESCRIPTION:Open to anyone who would like to enjoy a weekly run and get in a little training and social time. Free and for all ages and running levels. Please meet at Alley Cat Outfitters at 100 Berry St\, Wabash. Arrive by 7:45 AM with feet hitting the street at 8 AM sharp. Whether you are training for the Wabash – Run the River Half Marathon\, on June 10\, or just want to run for fun\, these weekly runs are meant to bring people together over the love of running.
URL:https://downtownwabash.org/event/wabash-river-run-club/
LOCATION:Wabash\, IN\, 46992\, United States
CATEGORIES:Wabash Community Event
ATTACH;FMTTYPE=image/jpeg:https://downtownwabash.org/wp-content/uploads/Voted-Must-DoAnnual-Events-75.jpg
ORGANIZER;CN="Downtown Wabash":MAILTO:(260) 563-0975
END:VEVENT
BEGIN:VEVENT
DTSTART;TZID=America/Indiana/Indianapolis:20230506T090000
DTEND;TZID=America/Indiana/Indianapolis:20230506T100000
DTSTAMP:20260424T081711
CREATED:20230504T183229Z
LAST-MODIFIED:20230504T203755Z
UID:4880-1683363600-1683367200@downtownwabash.org
SUMMARY:Liking for Biking Club
DESCRIPTION:Open to anyone who would like to enjoy a weekly 60-minute group ride. Free and for all ages and riding levels. Helmets are required and no registration is needed. Check the Band App/WABASH COUNTY ADVENTURE SERIES FACEBOOK page for weekly start locations.  Arrive by 8:45 AM with wheels rolling at 9 AM sharp.\nSpikes and Bikes is a local bike club that volunteers their time to lead each of the weekly rides. They are a group of outdoor adventure enthusiasts who like to connect people with cycling in a fun and energetic environment.\nAll participants will receive a Liking for Biking t-shirt and will be given the opportunity to earn incentives for regular attendance. Attendance is tracked using the Band App. Weekly check-ins are required on the app in order to qualify for the incentive gifts.
URL:https://downtownwabash.org/event/liking-for-biking-club/
CATEGORIES:Wabash Community Event,Wabash Cultural District
ATTACH;FMTTYPE=image/jpeg:https://downtownwabash.org/wp-content/uploads/IMG_3558-1-b399cd536f792b97a1c69af948addfa4.jpg
END:VEVENT
BEGIN:VEVENT
DTSTART;TZID=America/Indiana/Indianapolis:20230506T200000
DTEND;TZID=America/Indiana/Indianapolis:20230506T230000
DTSTAMP:20260424T081711
CREATED:20221209T184143Z
LAST-MODIFIED:20221212T154317Z
UID:3985-1683403200-1683414000@downtownwabash.org
SUMMARY:Mike Almon
DESCRIPTION:With more than 300 shows scheduled each year\, Mike Almon has been playing guitar and writing music since he was 14. This year he plans to release his first studio-recorded album “Had a Good Run” featuring a mix of his originals\, along with two bonus track parodies “Last Fence” and “Detour Land.”
URL:https://downtownwabash.org/event/mike-almon/
CATEGORIES:Wabash Community Event
ATTACH;FMTTYPE=image/jpeg:https://downtownwabash.org/wp-content/uploads/Mike-Almon-2021-2-a072e932c4cf2001a2979c757a261bc9.jpg
END:VEVENT
BEGIN:VEVENT
DTSTART;TZID=America/Indiana/Indianapolis:20230509T120000
DTEND;TZID=America/Indiana/Indianapolis:20230509T130000
DTSTAMP:20260424T081711
CREATED:20230105T193443Z
LAST-MODIFIED:20230105T193443Z
UID:4096-1683633600-1683637200@downtownwabash.org
SUMMARY:May Board Meeting
DESCRIPTION:
URL:https://downtownwabash.org/event/may-board-meeting/
LOCATION:Wabash\, IN\, 46992\, United States
CATEGORIES:Board Member Meeting
ORGANIZER;CN="Downtown Wabash":MAILTO:(260) 563-0975
END:VEVENT
BEGIN:VEVENT
DTSTART;TZID=America/Indiana/Indianapolis:20230510T120000
DTEND;TZID=America/Indiana/Indianapolis:20230510T130000
DTSTAMP:20260424T081711
CREATED:20230228T171324Z
LAST-MODIFIED:20230228T173341Z
UID:4431-1683720000-1683723600@downtownwabash.org
SUMMARY:Lunch & Learn - Mandala Art
DESCRIPTION:Pack a lunch and join us on select Wednesdays for fun and free presentations and workshops in the Education and Resource Center.
URL:https://downtownwabash.org/event/lunch-learn-mandala-art/
CATEGORIES:Wabash Community Event
ATTACH;FMTTYPE=image/jpeg:https://downtownwabash.org/wp-content/uploads/Gardens-9472d54f5f1bf56f72f175f77619ee92.jpg
END:VEVENT
BEGIN:VEVENT
DTSTART;TZID=America/Indiana/Indianapolis:20230513T080000
DTEND;TZID=America/Indiana/Indianapolis:20230513T120000
DTSTAMP:20260424T081711
CREATED:20230512T220542Z
LAST-MODIFIED:20230518T030923Z
UID:4906-1683964800-1683979200@downtownwabash.org
SUMMARY:Downtown Wabash Farmers Market
DESCRIPTION:Spend your Saturday mornings at the Downtown Wabash Farmers Market in Downtown Wabash\, Indiana! Start your weekend with wholesome\, enriching\, locally sourced products from some of our most unique vendors in Wabash and surrounding counties. \nFind handmade\, homemade & homegrown products like fresh produce\, organic meats\, homemade ice cream\, hand-poured candles & soaps\, cotton candy\, pottery\, wood & metal works and so much more. \nAll dogs welcome!
URL:https://downtownwabash.org/event/downtown-wabash-farmers-market-2/
LOCATION:Wabash\, IN\, 46992\, United States
CATEGORIES:Farmers Market,Wabash Cultural District
ATTACH;FMTTYPE=image/jpeg:https://downtownwabash.org/wp-content/uploads/IMG_7329.jpg
ORGANIZER;CN="Downtown Wabash":MAILTO:(260) 563-0975
END:VEVENT
BEGIN:VEVENT
DTSTART;TZID=America/Indiana/Indianapolis:20230513T200000
DTEND;TZID=America/Indiana/Indianapolis:20230513T230000
DTSTAMP:20260424T081711
CREATED:20221209T173717Z
LAST-MODIFIED:20221212T154223Z
UID:3963-1684008000-1684018800@downtownwabash.org
SUMMARY:Dakota Parker
DESCRIPTION:Dakota Ray Parker performs many varieties of music including classic country (Merle Haggard\, Hank Williams\, Johnny Cash)\, some classic rock (Neil Diamond\, Eric Clapton\, Bruce Springsteen)\, Folk music (The Avett Brothers\, Bob Dylan\, Tom T Hall)\, Elvis Presley\, Adele\, Justin Bieber and so much more. He also writes his own music with more than 35 original songs. He won The Voice of Wabash County in 2018 and opened for Aaron Barker at the Eagles Theater.
URL:https://downtownwabash.org/event/dakota-parker/
CATEGORIES:Wabash Community Event
ATTACH;FMTTYPE=image/jpeg:https://downtownwabash.org/wp-content/uploads/Dakota-Parker-2021-746000ec7a349b1814b28b4e0233c9f2.jpg
END:VEVENT
BEGIN:VEVENT
DTSTART;TZID=America/Indiana/Indianapolis:20230514T103000
DTEND;TZID=America/Indiana/Indianapolis:20230514T130000
DTSTAMP:20260424T081711
CREATED:20230228T164858Z
LAST-MODIFIED:20230228T165814Z
UID:4410-1684060200-1684069200@downtownwabash.org
SUMMARY:Mother's Day Brunch
DESCRIPTION:Enjoy our classic brunch buffet featuring breakfast classics\, entrée selections\, a chef-attended carving station\, side accompaniments\, and desserts.
URL:https://downtownwabash.org/event/mothers-day-brunch/
CATEGORIES:Wabash Community Event
ATTACH;FMTTYPE=image/jpeg:https://downtownwabash.org/wp-content/uploads/HoneywellCenter-169a9dacf1bc8048d1aa52175d4bc084.jpg
END:VEVENT
BEGIN:VEVENT
DTSTART;TZID=America/Indiana/Indianapolis:20230516T193000
DTEND;TZID=America/Indiana/Indianapolis:20230516T220000
DTSTAMP:20260424T081711
CREATED:20221018T175630Z
LAST-MODIFIED:20221026T024644Z
UID:3747-1684265400-1684274400@downtownwabash.org
SUMMARY:STRYPER
DESCRIPTION:Christian rockers Stryper burst on the 80s scene with their groundbreaking “heavenly metal” genre. The group sold more than 10 million albums worldwide and garnered Top 40 hits like “Calling on You\,” “Honestly\,” and “Always There for You.”
URL:https://downtownwabash.org/event/stryper/
CATEGORIES:Wabash Community Event
ATTACH;FMTTYPE=image/jpeg:https://downtownwabash.org/wp-content/uploads/EaglesTheatre-97b07493c4eeaf07897abee53f9bbd93.jpg
END:VEVENT
BEGIN:VEVENT
DTSTART;TZID=America/Indiana/Indianapolis:20230520T200000
DTEND;TZID=America/Indiana/Indianapolis:20230520T200000
DTSTAMP:20260424T081711
CREATED:20221209T184614Z
LAST-MODIFIED:20221212T154346Z
UID:3991-1684612800-1684612800@downtownwabash.org
SUMMARY:Jon Shoulders
DESCRIPTION:Performing throughout the region year-round\, Jon Shoulders puts on a high-energy acoustic show that spans many genres and styles.
URL:https://downtownwabash.org/event/jon-shoulders/
CATEGORIES:Wabash Community Event
ATTACH;FMTTYPE=image/jpeg:https://downtownwabash.org/wp-content/uploads/Jon-Shoulders-2020-b7ec8a3919ef31edfd343518dfe1093f.jpg
END:VEVENT
BEGIN:VEVENT
DTSTART;TZID=America/Indiana/Indianapolis:20230523T140000
DTEND;TZID=America/Indiana/Indianapolis:20230523T170000
DTSTAMP:20260424T081711
CREATED:20220922T195647Z
LAST-MODIFIED:20220922T200714Z
UID:3642-1684850400-1684861200@downtownwabash.org
SUMMARY:Frank Ferrante in An Evening with Groucho
DESCRIPTION:Award-winning actor and director Frank Ferrante ignites his acclaimed portrayal of legendary comedian Groucho Marx in this fast paced 90 minutes of hilarity. The two-act comedy consists of the funniest Groucho one-liners\, anecdotes and songs including “Hooray for Captain Spalding\,” and “Lydia\, the Tattooed Lady.” The audience becomes part of the show as Ferrante ad-libs his way throughout the performance in grand Groucho style. Accompanied by his onstage pianist\, Ferrante portrays the young Groucho of stage and film and reacquaints us with the likes of brothers Harpo\, Chico\, Zeppo and Gummo\, Charlie Chaplin\, W.C. Fields and Marx foil Margaret Dumont. A show perfect for comedy fans of all ages!
URL:https://downtownwabash.org/event/frank-ferrante-in-an-evening-with-groucho/
CATEGORIES:Wabash Community Event
ATTACH;FMTTYPE=image/jpeg:https://downtownwabash.org/wp-content/uploads/An-Evening-with-Groucho-5da7f9b3ad4a52ae5cbb1ed853116177.jpg
END:VEVENT
BEGIN:VEVENT
DTSTART;TZID=America/Indiana/Indianapolis:20230523T193000
DTEND;TZID=America/Indiana/Indianapolis:20230523T220000
DTSTAMP:20260424T081711
CREATED:20220922T195814Z
LAST-MODIFIED:20221011T175809Z
UID:3644-1684870200-1684879200@downtownwabash.org
SUMMARY:Frank Ferrante in An Evening with Groucho
DESCRIPTION:Award-winning actor and director Frank Ferrante ignites his acclaimed portrayal of legendary comedian Groucho Marx in this fast paced 90 minutes of hilarity. The two-act comedy consists of the funniest Groucho one-liners\, anecdotes and songs including “Hooray for Captain Spalding\,” and “Lydia\, the Tattooed Lady.” The audience becomes part of the show as Ferrante ad-libs his way throughout the performance in grand Groucho style. Accompanied by his onstage pianist\, Ferrante portrays the young Groucho of stage and film and reacquaints us with the likes of brothers Harpo\, Chico\, Zeppo and Gummo\, Charlie Chaplin\, W.C. Fields and Marx foil Margaret Dumont. A show perfect for comedy fans of all ages!
URL:https://downtownwabash.org/event/frank-ferrante-in-an-evening-with-groucho/
LOCATION:Wabash\, IN\, 46992\, United States
CATEGORIES:Holiday Events,Wabash Community Event
ATTACH;FMTTYPE=image/jpeg:https://downtownwabash.org/wp-content/uploads/An-Evening-with-Groucho-ece8156abecf4b3d3e895002cdba32fc.jpg
END:VEVENT
BEGIN:VEVENT
DTSTART;TZID=America/Indiana/Indianapolis:20230525T173000
DTEND;TZID=America/Indiana/Indianapolis:20230525T193000
DTSTAMP:20260424T081711
CREATED:20230228T165242Z
LAST-MODIFIED:20230228T165822Z
UID:4412-1685035800-1685043000@downtownwabash.org
SUMMARY:Bloody Mary BBQ
DESCRIPTION:Enjoy your grilled favorites like St. Louis ribs\, brats\, BBQ chicken\, carved brisket\, summer sides\, and desserts along with a special bloody mary bar. Come early\, grab a drink\, and enjoy our lounge area before you’re seated!
URL:https://downtownwabash.org/event/bloody-mary-bbq/
CATEGORIES:Wabash Community Event
ATTACH;FMTTYPE=image/jpeg:https://downtownwabash.org/wp-content/uploads/ET-Ballroom-fccfa6f55b6c48324b9b2c6bed4ae6b5.jpg
END:VEVENT
BEGIN:VEVENT
DTSTART;TZID=America/Indiana/Indianapolis:20230530T190000
DTEND;TZID=America/Indiana/Indianapolis:20230530T203000
DTSTAMP:20260424T081711
CREATED:20230128T215618Z
LAST-MODIFIED:20230130T154525Z
UID:4263-1685473200-1685478600@downtownwabash.org
SUMMARY:Honeywell Arts In Education - Presented by Kristi Unger
DESCRIPTION:Honeywell Arts in Education is a collection of programs created for educators to reap the benefits of the arts. Last year\, Honeywell education programs provided nearly 42\,000 arts-infused learning opportunities for students in 88 schools in 15 counties. Join us as Kristi Unger\, Honeywell Director of Education\, shares the impact of the programs and the plans for growth.
URL:https://downtownwabash.org/event/honeywell-arts-in-education-presented-by-kristi-unger/
CATEGORIES:Wabash Community Event
ATTACH;FMTTYPE=image/jpeg:https://downtownwabash.org/wp-content/uploads/Honeywell-Arts-In-Education-10cdbb74a8c2419ae42334472568fd17.jpg
END:VEVENT
END:VCALENDAR