BEGIN:VCALENDAR
VERSION:2.0
PRODID:-//Downtown Wabash, Inc. - ECPv6.15.17.1//NONSGML v1.0//EN
CALSCALE:GREGORIAN
METHOD:PUBLISH
X-WR-CALNAME:Downtown Wabash, Inc.
X-ORIGINAL-URL:https://downtownwabash.org
X-WR-CALDESC:Events for Downtown Wabash, Inc.
REFRESH-INTERVAL;VALUE=DURATION:PT1H
X-Robots-Tag:noindex
X-PUBLISHED-TTL:PT1H
BEGIN:VTIMEZONE
TZID:America/Indiana/Indianapolis
BEGIN:DAYLIGHT
TZOFFSETFROM:-0500
TZOFFSETTO:-0400
TZNAME:EDT
DTSTART:20210314T070000
END:DAYLIGHT
BEGIN:STANDARD
TZOFFSETFROM:-0400
TZOFFSETTO:-0500
TZNAME:EST
DTSTART:20211107T060000
END:STANDARD
BEGIN:DAYLIGHT
TZOFFSETFROM:-0500
TZOFFSETTO:-0400
TZNAME:EDT
DTSTART:20220313T070000
END:DAYLIGHT
BEGIN:STANDARD
TZOFFSETFROM:-0400
TZOFFSETTO:-0500
TZNAME:EST
DTSTART:20221106T060000
END:STANDARD
BEGIN:DAYLIGHT
TZOFFSETFROM:-0500
TZOFFSETTO:-0400
TZNAME:EDT
DTSTART:20230312T070000
END:DAYLIGHT
BEGIN:STANDARD
TZOFFSETFROM:-0400
TZOFFSETTO:-0500
TZNAME:EST
DTSTART:20231105T060000
END:STANDARD
END:VTIMEZONE
BEGIN:VEVENT
DTSTART;TZID=America/Indiana/Indianapolis:20221001T190000
DTEND;TZID=America/Indiana/Indianapolis:20221001T220000
DTSTAMP:20260423T195636
CREATED:20220812T162923Z
LAST-MODIFIED:20220812T173932Z
UID:3497-1664650800-1664661600@downtownwabash.org
SUMMARY:LIVE MUSIC: Jon Shoulders
DESCRIPTION:Performing throughout the region year-round\, Jon Shoulders puts on a high-energy acoustic show that spans many genres and styles.
URL:https://downtownwabash.org/event/jon-shoulders/
CATEGORIES:Wabash Community Event
ATTACH;FMTTYPE=image/jpeg:https://downtownwabash.org/wp-content/uploads/Jon-Shoulders-2020-5c2722481167c1cb38891ef106704c19.jpg
END:VEVENT
BEGIN:VEVENT
DTSTART;TZID=America/Indiana/Indianapolis:20221001T193000
DTEND;TZID=America/Indiana/Indianapolis:20221001T213000
DTSTAMP:20260423T195636
CREATED:20220428T155409Z
LAST-MODIFIED:20220509T182625Z
UID:2326-1664652600-1664659800@downtownwabash.org
SUMMARY:Daniel O'Donnell
DESCRIPTION:For over three decades\, Irish singer Daniel O’Donnell has performed folk songs\, ballads\, and pop classics for millions of his fans worldwide in his own inimitable style. The cultural icon combines his talent and charming on-stage persona for exhilarating live performances!
URL:https://downtownwabash.org/event/daniel-odonnell/
LOCATION:Wabash\, IN\, 46992\, United States
CATEGORIES:Wabash Community Event
ATTACH;FMTTYPE=image/jpeg:https://downtownwabash.org/wp-content/uploads/HC-Ford-Theater-9002072e1f9066b2f7a0bb65d650435b.jpg
END:VEVENT
BEGIN:VEVENT
DTSTART;TZID=America/Indiana/Indianapolis:20221002T180000
DTEND;TZID=America/Indiana/Indianapolis:20221002T200000
DTSTAMP:20260423T195636
CREATED:20220615T140759Z
LAST-MODIFIED:20220615T141129Z
UID:3118-1664733600-1664740800@downtownwabash.org
SUMMARY:MasterChef Junior Live!
DESCRIPTION:America’s favorite cooking show is now on tour! MasterChef Junior Live! is a high-energy\, interactive stage production that brings the culinary hit TV show to fans and foodies alike. Watch season 8’s winner\, finalist\, and fan favorites as they take to the stage in head-to-head cooking demonstrations and fun (sometimes messy!) challenges in this immersive experience perfect for all ages.
URL:https://downtownwabash.org/event/masterchef-junior-live/
CATEGORIES:Wabash Community Event
ATTACH;FMTTYPE=image/jpeg:https://downtownwabash.org/wp-content/uploads/HC-Ford-Theater-e64b64b66f2c71470033d5c212df1627.jpg
END:VEVENT
BEGIN:VEVENT
DTSTART;TZID=America/Indiana/Indianapolis:20221004T190000
DTEND;TZID=America/Indiana/Indianapolis:20221004T200000
DTSTAMP:20260423T195636
CREATED:20220914T144148Z
LAST-MODIFIED:20220915T143113Z
UID:3576-1664910000-1664913600@downtownwabash.org
SUMMARY:Happenings in Wabash County
DESCRIPTION:Do you wonder what is going on at the corner of highways 13 and 24? Are you curious what Imagine One 85 is about? Are you interested in what is happening and developing in Wabash County? Come hear Keith Gillenwater\, president of Grow Wabash County\, talk about all of these things and more. There will be a Q & A time also.
URL:https://downtownwabash.org/event/happenings-in-wabash-county/
CATEGORIES:Wabash Community Event
ATTACH;FMTTYPE=image/jpeg:https://downtownwabash.org/wp-content/uploads/HoneywellHouse-60b4af74ab89034ef6c703cdf8600c79.jpg
END:VEVENT
BEGIN:VEVENT
DTSTART;TZID=America/Indiana/Indianapolis:20221005T090000
DTEND;TZID=America/Indiana/Indianapolis:20221005T100000
DTSTAMP:20260423T195636
CREATED:20220216T012333Z
LAST-MODIFIED:20220216T204104Z
UID:1143-1664960400-1664964000@downtownwabash.org
SUMMARY:Downtown Wabash Merchant Meetings
DESCRIPTION:The monthly meeting held every first Wednesday for all small businesses in Downtown Wabash to stay current with information from Downtown Wabash\, Inc.
URL:https://downtownwabash.org/event/downtown-wabash-merchant-meetings-8/
LOCATION:Wabash\, IN\, 46992\, United States
CATEGORIES:Merchant Meetings
ATTACH;FMTTYPE=image/jpeg:https://downtownwabash.org/wp-content/uploads/Merchant-Meetings-in-Downtown-Wabash-14.jpg
END:VEVENT
BEGIN:VEVENT
DTSTART;TZID=America/Indiana/Indianapolis:20221005T183000
DTEND;TZID=America/Indiana/Indianapolis:20221005T200000
DTSTAMP:20260423T195636
CREATED:20220516T190423Z
LAST-MODIFIED:20220516T203955Z
UID:2700-1664994600-1665000000@downtownwabash.org
SUMMARY:Disney Junior Live On Tour: Costume Palooza
DESCRIPTION:The Pollstar nominated Disney Junior tour is back with an ALL-NEW show\, Disney Junior Live On Tour: Costume Palooza! This show brings beloved Disney Junior characters and favorite Marvel Super Heroes together live on stage for a jam-packed\, concert-style show with singing\, dancing\, acrobatics\, and more. It will feature favorite songs from hit Disney Junior series\, as well as new original music. Mickey\, Minnie\, and their pals are getting ready to throw a huge costume party but mysterious green rain\, wind\, and smoke keep interrupting the fun. Can Spidey and his Amazing Friends help save the Costume Palooza? Come join the party!
URL:https://downtownwabash.org/event/disney-junior-live-on-tour-costume-palooza/
CATEGORIES:Wabash Community Event
ATTACH;FMTTYPE=image/jpeg:https://downtownwabash.org/wp-content/uploads/HC-Ford-Theater-1084f89fb0ccee76db30e79c40d6100d.jpg
END:VEVENT
BEGIN:VEVENT
DTSTART;TZID=America/Indiana/Indianapolis:20221007T160000
DTEND;TZID=America/Indiana/Indianapolis:20221007T200000
DTSTAMP:20260423T195636
CREATED:20220920T021146Z
LAST-MODIFIED:20220920T141204Z
UID:3614-1665158400-1665172800@downtownwabash.org
SUMMARY:Pop Up Haunted Mini Golf @ the Museum
DESCRIPTION:The Wabash County Museum is excited to share that we are bringing Pop Up Mini Golf at the Museum back this October…but this year\, it’s haunted!  Play our regulation 9-hole course plus a sand hazard which runs through the entire Museum.  This year’s theme is Halloween Inspired with decorations created by our 10 hole sponsors.  \nHaunted Pop Up Mini Golf at the Museum will kick off on First Friday\, Oct. 7th and run through Sat\, Oct 29th.
URL:https://downtownwabash.org/event/pop-up-haunted-mini-golf-the-museum/
CATEGORIES:Wabash Community Event
ATTACH;FMTTYPE=image/jpeg:https://downtownwabash.org/wp-content/uploads/October-First-Friday-5a08e91e30261b47ad3f2129496aad6d.jpg
END:VEVENT
BEGIN:VEVENT
DTSTART;TZID=America/Indiana/Indianapolis:20221007T170000
DTEND;TZID=America/Indiana/Indianapolis:20221007T200000
DTSTAMP:20260423T195636
CREATED:20220215T220359Z
LAST-MODIFIED:20221005T194923Z
UID:1078-1665162000-1665172800@downtownwabash.org
SUMMARY:Downtown Wabash First Friday
DESCRIPTION:Monthly street festival jam-packed with food trucks\, vendors\, downtown shopping and more. \nHarvest & Hops: A fall-inspired First Friday in Downtown Wabash with beer (alcoholic & non-alcoholic) and cider specials\, a FREE community concert\, local shopping specials\, food trucks and more! \nDowntown Wabash First Fridays are sponsored by Crossroads Bank\, 95.9 KISS FM\, Pettit Printing\, Beacon Credit Union and the Wabash County Museum.
URL:https://downtownwabash.org/event/downtown-wabash-first-friday-8/
LOCATION:Wabash\, IN\, 46992\, United States
CATEGORIES:First Friday
ATTACH;FMTTYPE=image/jpeg:https://downtownwabash.org/wp-content/uploads/October-First-Friday-in-Downtown-Wabash.jpg
END:VEVENT
BEGIN:VEVENT
DTSTART;TZID=America/Indiana/Indianapolis:20221007T193000
DTEND;TZID=America/Indiana/Indianapolis:20221007T213000
DTSTAMP:20260423T195636
CREATED:20220615T152255Z
LAST-MODIFIED:20220616T150201Z
UID:3129-1665171000-1665178200@downtownwabash.org
SUMMARY:Celebrate the Music of Neil Diamond\, I Am... He Said
DESCRIPTION:Matt Vee and band present a celebration of Neil Diamond’s greatest hits including “Cracklin’ Rosie\,” “Song Sung Blue\,” “America\,” “Sweet Caroline” and more. \nShow night dining available
URL:https://downtownwabash.org/event/celebrate-the-music-of-neil-diamond-i-am-he-said/
CATEGORIES:Wabash Community Event
ATTACH;FMTTYPE=image/jpeg:https://downtownwabash.org/wp-content/uploads/HC-Ford-Theater-23474a06de3fe6c23f51f27d15e63bad.jpg
END:VEVENT
BEGIN:VEVENT
DTSTART;TZID=America/Indiana/Indianapolis:20221008T190000
DTEND;TZID=America/Indiana/Indianapolis:20221008T220000
DTSTAMP:20260423T195636
CREATED:20220812T154948Z
LAST-MODIFIED:20220812T173720Z
UID:3473-1665255600-1665266400@downtownwabash.org
SUMMARY:LIVE MUSIC: Dakota Parker
DESCRIPTION:Dakota Ray Parker performs many varieties of music including classic country (Merle Haggard\, Hank Williams\, Johnny Cash)\, some classic rock (Neil Diamond\, Eric Clapton\, Bruce Springsteen)\, Folk music (The Avett Brothers\, Bob Dylan\, Tom T Hall)\, Elvis Presley\, Adele\, Justin Bieber and so much more. He also writes his own music with more than 35 original songs. He won The Voice of Wabash County in 2018 and opened for Aaron Barker at the Eagles Theater.
URL:https://downtownwabash.org/event/dakota-parker/
CATEGORIES:Wabash Community Event
ATTACH;FMTTYPE=image/jpeg:https://downtownwabash.org/wp-content/uploads/Dakota-Parker-2021-31e6555e5c303537a00d0d2b4e674a5d.jpg
END:VEVENT
BEGIN:VEVENT
DTSTART;TZID=America/Indiana/Indianapolis:20221011T100000
DTEND;TZID=America/Indiana/Indianapolis:20221028T170000
DTSTAMP:20260423T195636
CREATED:20220920T021530Z
LAST-MODIFIED:20220920T141214Z
UID:3616-1665482400-1666976400@downtownwabash.org
SUMMARY:Pop Up Haunted Mini Golf @ the Museum
DESCRIPTION:he Wabash County Museum is excited to share that we are bringing Pop Up Mini Golf at the Museum back this October…but this year\, it’s haunted!   Haunted Pop Up Mini Golf at the Museum will run from First Friday\, Oct. 7th through Sat\, Oct 29th. Guests can play during regular hours from 10 am – 5 pm on Tues through Fri and 10 am – 2 pm on Saturdays.  \nJust as last year\, the full course will run through the entire Museum. This a fundraiser to support the operations\, programming\, and the preservation of our collection.  \nWe will also offer a few special\, extra spooky evening events on Fri\, Oct 21 & Sat\, Oct 22  and Fri\, Oct 28 from 7 – 9 pm. These will be “lights down” with spooky lighting and fog.. A cash bar will be available on these nights.  And finally\, our last day will be on Sat\, Oct. 29th from 5 – 7 pm during Downtown Wabash trick-or-treating.
URL:https://downtownwabash.org/event/pop-up-haunted-mini-golf-the-museum/
CATEGORIES:Wabash Community Event
ATTACH;FMTTYPE=image/jpeg:https://downtownwabash.org/wp-content/uploads/Pop-Up-Haunted-Mini-Golf-10.22-9534bee02fba7d9e43d4094641c31548.jpg
END:VEVENT
BEGIN:VEVENT
DTSTART;TZID=America/Indiana/Indianapolis:20221011T120000
DTEND;TZID=America/Indiana/Indianapolis:20221011T130000
DTSTAMP:20260423T195636
CREATED:20220307T060525Z
LAST-MODIFIED:20220307T063404Z
UID:1758-1665489600-1665493200@downtownwabash.org
SUMMARY:Board Meeting - October 2022
DESCRIPTION:
URL:https://downtownwabash.org/event/board-meeting-october-2022/
LOCATION:Wabash\, IN\, 46992\, United States
CATEGORIES:Board Member Meeting
ORGANIZER;CN="Downtown Wabash":MAILTO:(260) 563-0975
END:VEVENT
BEGIN:VEVENT
DTSTART;TZID=America/Indiana/Indianapolis:20221011T140000
DTEND;TZID=America/Indiana/Indianapolis:20221011T160000
DTSTAMP:20260423T195636
CREATED:20220428T190801Z
LAST-MODIFIED:20220509T182612Z
UID:2429-1665496800-1665504000@downtownwabash.org
SUMMARY:Todd Oliver and Irving the Talking Dog
DESCRIPTION:Comedian and ventriloquist Todd Oliver will take the stage with his two funny\, furry\, and talkative companions – his dogs Irving and Lucy! When they get behind the microphone they turn everyday K-9 experiences into knockout comedy. This family-friendly show also features a cast of characters including Pops\, a crazy confused old timer; Miss Lilly\, his lifelong love; and Joey\, the lovable bad boy. This clean comedy show will leave you howling for more!
URL:https://downtownwabash.org/event/todd-oliver-and-irving-the-talking-dog/
LOCATION:Wabash\, IN\, 46992\, United States
CATEGORIES:Wabash Community Event
ATTACH;FMTTYPE=image/jpeg:https://downtownwabash.org/wp-content/uploads/EaglesTheatre-e71052333b5f92a1773da7f035076fc8.jpg
END:VEVENT
BEGIN:VEVENT
DTSTART;TZID=America/Indiana/Indianapolis:20221012T193000
DTEND;TZID=America/Indiana/Indianapolis:20221012T213000
DTSTAMP:20260423T195636
CREATED:20220725T181155Z
LAST-MODIFIED:20220726T142617Z
UID:3357-1665603000-1665610200@downtownwabash.org
SUMMARY:REO Speedwagon
DESCRIPTION:REO Speedwagon has sold more than 40 million albums around the globe. The band continues to electrify audiences with live performances featuring hits like “Can’t Fight this Feeling\,” “Time for Me to Fly\,” “Roll with the Changes\,” “Keep On Loving You\,” “Take it on the Run\,” and more. \n*VIP Packages Available
URL:https://downtownwabash.org/event/reo-speedwagon/
CATEGORIES:Wabash Community Event
ATTACH;FMTTYPE=image/jpeg:https://downtownwabash.org/wp-content/uploads/HC-Ford-Theater-1ea89f3b0a4aaa29c050f272d1cdcbac.jpg
END:VEVENT
BEGIN:VEVENT
DTSTART;TZID=America/Indiana/Indianapolis:20221014T183000
DTEND;TZID=America/Indiana/Indianapolis:20221015T000000
DTSTAMP:20260423T195636
CREATED:20220914T151124Z
LAST-MODIFIED:20220915T143122Z
UID:3577-1665772200-1665792000@downtownwabash.org
SUMMARY:Spooky Nights at the Drive-in
DESCRIPTION:Don’t miss Halloween double features at the 13-24 Drive In from Oct. 14-22! Fridays will feature two family-friendly movies\, with Saturdays offering two showings for the grown-ups (including a bar!) $15 carloads. \nGates open at 6:30pm Movies starts at 7:30pm 15 min intermission\nConcessions and bar (sat only) will close after intermission\nFri 10/14 Casper and The Addams Family (1991)\nSat 10/15 The Conjuring and The Amityville Horror
URL:https://downtownwabash.org/event/spooky-nights-at-the-drive-in/
CATEGORIES:Wabash Community Event
END:VEVENT
BEGIN:VEVENT
DTSTART;TZID=America/Indiana/Indianapolis:20221015T190000
DTEND;TZID=America/Indiana/Indianapolis:20221015T220000
DTSTAMP:20260423T195636
CREATED:20220812T161419Z
LAST-MODIFIED:20220812T173823Z
UID:3483-1665860400-1665871200@downtownwabash.org
SUMMARY:LIVE MUSIC: Abbie Thomas
DESCRIPTION:Influenced by an eclectic mix\, from The Beatles and Karen Carpenter\, to Lauren Hill and John Mayer\, singer songwriter with a pop-soul flair\, Abbie Thomas mixes catchy melodies with hard-hitting\, life inspired lyrics. She was a songwriting finalist at The Acorn Theater in June 2019\, and is now building a resume as an opening act for touring musicians (ex. Callaghan\, Billy Gilman). Thomas released her first of a series of singles\, “Those 3 Words” in April 2020\, available on iTunes and Spotify. In May 2022\, she released her first self-produced EP “Dirty Little Things.”
URL:https://downtownwabash.org/event/abbie-thomas/
CATEGORIES:Wabash Community Event
ATTACH;FMTTYPE=image/jpeg:https://downtownwabash.org/wp-content/uploads/Abbie-Thomas-3-0494aef204d6e380f29daff06e52c797.jpg
END:VEVENT
BEGIN:VEVENT
DTSTART;TZID=America/Indiana/Indianapolis:20221015T193000
DTEND;TZID=America/Indiana/Indianapolis:20221015T213000
DTSTAMP:20260423T195636
CREATED:20220428T155455Z
LAST-MODIFIED:20220509T182606Z
UID:2328-1665862200-1665869400@downtownwabash.org
SUMMARY:Joe Satriani
DESCRIPTION:Guitar virtuoso Joe Satriani’s career spans 35 years and includes multiple GRAMMY nominations\, multiple gold and platinum album awards\, and collaborations with Alice Cooper\, Mick Jagger\, Steve Vai\, Sammy Hagar\, John Petrucci and more. He will be joined on stage by a full band.
URL:https://downtownwabash.org/event/joe-satriani/
LOCATION:Wabash\, IN\, 46992\, United States
CATEGORIES:Wabash Community Event
ATTACH;FMTTYPE=image/jpeg:https://downtownwabash.org/wp-content/uploads/HC-Ford-Theater-3205ed47f4d1c8b0e4c32e9bdfd5999d.jpg
END:VEVENT
BEGIN:VEVENT
DTSTART;TZID=America/Indiana/Indianapolis:20221019T123000
DTEND;TZID=America/Indiana/Indianapolis:20221019T130000
DTSTAMP:20260423T195636
CREATED:20220725T180555Z
LAST-MODIFIED:20220726T142603Z
UID:3353-1666182600-1666184400@downtownwabash.org
SUMMARY:Resist Technique Painting
DESCRIPTION:Using a surprise canvas of roofing felt\, create a unique\, colorful piece of artwork for your home or garden. $10 per person.
URL:https://downtownwabash.org/event/resist-technique-painting/
CATEGORIES:Wabash Community Event
ATTACH;FMTTYPE=image/jpeg:https://downtownwabash.org/wp-content/uploads/Gardens-3a82fe6b9996c33131c8e72d591e6c7c.jpg
END:VEVENT
BEGIN:VEVENT
DTSTART;TZID=America/Indiana/Indianapolis:20221021T183000
DTEND;TZID=America/Indiana/Indianapolis:20221022T000000
DTSTAMP:20260423T195636
CREATED:20220914T151624Z
LAST-MODIFIED:20220915T143129Z
UID:3578-1666377000-1666396800@downtownwabash.org
SUMMARY:Spooky Nights at the Drive-in
DESCRIPTION:Don’t miss Halloween double features at the 13-24 Drive In from Oct. 14-22! Fridays will feature two family-friendly movies\, with Saturdays offering two showings for the grown-ups (including a bar!) $15 carloads. \nGates open at 6:30pm Movies starts at 7:30pm 15 min intermission\nConcessions and bar (sat only) will close after intermission\nFri 10/21 Scooby Doo 2 and Dark Shadows\nSat 10/22 Scream (1996) and The Shining
URL:https://downtownwabash.org/event/spooky-nights-at-the-drive-in/
CATEGORIES:Wabash Community Event
END:VEVENT
BEGIN:VEVENT
DTSTART;TZID=America/Indiana/Indianapolis:20221022T190000
DTEND;TZID=America/Indiana/Indianapolis:20221022T220000
DTSTAMP:20260423T195636
CREATED:20220812T162436Z
LAST-MODIFIED:20220812T173905Z
UID:3491-1666465200-1666476000@downtownwabash.org
SUMMARY:LIVE MUSIC: Mike Almon
DESCRIPTION:With more than 300 shows scheduled each year\, Mike Almon has been playing guitar and writing music since he was 14. This year he plans to release his first studio-recorded album “Had a Good Run” featuring a mix of his originals\, along with two bonus track parodies “Last Fence” and “Detour Land.”
URL:https://downtownwabash.org/event/mike-almon/
CATEGORIES:Wabash Community Event
ATTACH;FMTTYPE=image/jpeg:https://downtownwabash.org/wp-content/uploads/Mike-Almon-2021-215a878ed3529fba6fe9085c9ce0402e.jpg
END:VEVENT
BEGIN:VEVENT
DTSTART;TZID=America/Indiana/Indianapolis:20221025T190000
DTEND;TZID=America/Indiana/Indianapolis:20221025T200000
DTSTAMP:20260423T195636
CREATED:20220914T165512Z
LAST-MODIFIED:20220915T143136Z
UID:3580-1666724400-1666728000@downtownwabash.org
SUMMARY:Restoration of the Eel River of Northern Indiana: A Journey of Reconciliation with Nature
DESCRIPTION:Jerry Sweeten will examine the cultural and natural history of the Eel River of northern Wabash County within the context of ecological restoration and research of the system over the past 20 years. The Eel River is a hidden gem of Wabash County with a rich and robust natural history and a great place to kayak or canoe.
URL:https://downtownwabash.org/event/restoration-of-the-eel-river-of-northern-indiana-a-journey-of-reconciliation-with-nature/
CATEGORIES:Wabash Community Event
ATTACH;FMTTYPE=image/jpeg:https://downtownwabash.org/wp-content/uploads/HoneywellHouse-8be2b7d3b646017392e74496159834b6.jpg
END:VEVENT
BEGIN:VEVENT
DTSTART;TZID=America/Indiana/Indianapolis:20221026T193000
DTEND;TZID=America/Indiana/Indianapolis:20221026T220000
DTSTAMP:20260423T195636
CREATED:20220810T213713Z
LAST-MODIFIED:20220811T142441Z
UID:3434-1666812600-1666821600@downtownwabash.org
SUMMARY:The Singing Hoosiers
DESCRIPTION:Indiana University’s Singing Hoosiers are one of the country’s finest show choirs. With roots in the Great American Songbook\, the ensemble entertains as they sing America’s story through immersion in her varied musical traditions\, both past and present. They will perform selections from their fall program\, “As Sun and Showers: Prophets\, Bards\, and Warbling Things\,” featuring music of Bernstein\, Porter\, Jason Robert Brown\, and Silk Sonic.”
URL:https://downtownwabash.org/event/the-singing-hoosiers/
CATEGORIES:Wabash Community Event
ATTACH;FMTTYPE=image/jpeg:https://downtownwabash.org/wp-content/uploads/HC-Ford-Theater-f92dbe06c7af13013ae2a839c03427ab.jpg
END:VEVENT
BEGIN:VEVENT
DTSTART;TZID=America/Indiana/Indianapolis:20221028T233000
DTEND;TZID=America/Indiana/Indianapolis:20221029T020000
DTSTAMP:20260423T195636
CREATED:20220922T200020Z
LAST-MODIFIED:20220922T200729Z
UID:3646-1666999800-1667008800@downtownwabash.org
SUMMARY:The Rocky Horror Picture Show
DESCRIPTION:Join Brad\, Janet\, and a cast of wild characters for an unforgettable interactive night of craziness! Dress up (or down)\, come early\, grab a drink at the bar\, and get ready to dance and sing through this cult classic. Rated R.​ Buy your ticket in advance to guarantee a seat!
URL:https://downtownwabash.org/event/the-rocky-horror-picture-show/
CATEGORIES:Wabash Community Event
ATTACH;FMTTYPE=image/jpeg:https://downtownwabash.org/wp-content/uploads/Rocky-Horror-5197ddcb8b9c2edb5d686853e30cc093.jpg
END:VEVENT
BEGIN:VEVENT
DTSTART;TZID=America/Indiana/Indianapolis:20221029T083000
DTEND;TZID=America/Indiana/Indianapolis:20221029T120000
DTSTAMP:20260423T195636
CREATED:20220805T134744Z
LAST-MODIFIED:20220811T142252Z
UID:3416-1667032200-1667044800@downtownwabash.org
SUMMARY:Dash in the Bash 5K
DESCRIPTION:Dash in the Bash 5K is back for 2022! The Wabash County YMCA invites everyone who loves to run OR walk to participate in this great event. Even if you do not like running but support the youth of Wabash County\, this is the event for you! Registration opens September 1\, 2022 and you may register online (www.wabashcountyymca.org) or in-person at the Y. If you have any questions\, please call the Y at 260.563.9622.
URL:https://downtownwabash.org/event/dash-in-the-bash-5k/
CATEGORIES:Wabash Community Event
END:VEVENT
BEGIN:VEVENT
DTSTART;TZID=America/Indiana/Indianapolis:20221029T170000
DTEND;TZID=America/Indiana/Indianapolis:20221029T190000
DTSTAMP:20260423T195636
CREATED:20220216T014948Z
LAST-MODIFIED:20221026T025845Z
UID:1173-1667062800-1667070000@downtownwabash.org
SUMMARY:Downtown Wabash Trick-or-Treat Extravaganza
DESCRIPTION:Bring the family to Downtown Wabash for the coveted dump of A LITERAL TON of candy on Miami Street\, provided by Wabash Trucking! Returning for the fourth year\, Wabash Trucking will bring one of its roll-off trucks to dump the candy for costumed trick-or-treaters. Candy will cascade to Miami St. promptly at 5 p.m. and trick-or-treaters can collect their candy until 7 p.m. BE ON THE LOOKOUT for one of FIVE Gebhart Golden Tickets inside candy bars included in the truckload of candy with “spooktacularly sweet” prize packages! \nMore than 20 small businesses in Downtown Wabash will also pass out candy to trick-or-treaters including the Moose Lodge\, Wabash Pizza King\, Modoc’s Market\, Wabash County Museum\, Rock City Lofts\, Living Well in Downtown Wabash\, Downtown Nutrition\, Filament Tattoo Company\, JoJo’s Olfactory & Co.\, Thriftalicious\, Birdie J’s\, MYO Wellness\, La Padrona Trattoria\, Charley Creek Inn Ice Cream & Candy Shoppe\, The Access Youth Center\, Wabash City Schools Admin Building\, Lily’s-N-Things\, Lighthouse Mission\, Bluebird Boutique\, Wooden Ivy Boutique & Floral\, Reading Room Books and Downtown Wabash\, Inc. \nIn the case of rain or inclement weather\, Trick-or-Treat Extravaganza will be held on Sunday\, Oct. 30 from 2-4 p.m. in Downtown Wabash.  \nThe City of Wabash’s trick-or-treat hours are Monday\, Oct. 31 from 5-8 p.m.
URL:https://downtownwabash.org/event/downtown-wabash-trick-or-treat-extravaganza/
LOCATION:Wabash\, IN\, 46992\, United States
CATEGORIES:Trick or Treat Extravaganza
ATTACH;FMTTYPE=image/jpeg:https://downtownwabash.org/wp-content/uploads/Trick-or-Treat-in-Downtown-Wabash-jpeg.jpg
ORGANIZER;CN="Downtown Wabash":MAILTO:(260) 563-0975
END:VEVENT
BEGIN:VEVENT
DTSTART;TZID=America/Indiana/Indianapolis:20221029T190000
DTEND;TZID=America/Indiana/Indianapolis:20221029T220000
DTSTAMP:20260423T195636
CREATED:20220812T163231Z
LAST-MODIFIED:20220812T173950Z
UID:3501-1667070000-1667080800@downtownwabash.org
SUMMARY:LIVE MUSIC: Matt Record
DESCRIPTION:Matt Record is a powerful singer\, songwriter\, expert guitar player and casual loopist based in Indianapolis who specializes in a variety of genres including Americana/Folk\, 70s\, 80s current and original songs.
URL:https://downtownwabash.org/event/matt-record/
CATEGORIES:Wabash Community Event
ATTACH;FMTTYPE=image/jpeg:https://downtownwabash.org/wp-content/uploads/Matt-Record2-3e3eb443f5995874364b0d5d37991812.jpg
END:VEVENT
END:VCALENDAR