BEGIN:VCALENDAR
VERSION:2.0
PRODID:-//Downtown Wabash, Inc. - ECPv6.15.17.1//NONSGML v1.0//EN
CALSCALE:GREGORIAN
METHOD:PUBLISH
X-WR-CALNAME:Downtown Wabash, Inc.
X-ORIGINAL-URL:https://downtownwabash.org
X-WR-CALDESC:Events for Downtown Wabash, Inc.
REFRESH-INTERVAL;VALUE=DURATION:PT1H
X-Robots-Tag:noindex
X-PUBLISHED-TTL:PT1H
BEGIN:VTIMEZONE
TZID:America/Indiana/Indianapolis
BEGIN:DAYLIGHT
TZOFFSETFROM:-0500
TZOFFSETTO:-0400
TZNAME:EDT
DTSTART:20210314T070000
END:DAYLIGHT
BEGIN:STANDARD
TZOFFSETFROM:-0400
TZOFFSETTO:-0500
TZNAME:EST
DTSTART:20211107T060000
END:STANDARD
BEGIN:DAYLIGHT
TZOFFSETFROM:-0500
TZOFFSETTO:-0400
TZNAME:EDT
DTSTART:20220313T070000
END:DAYLIGHT
BEGIN:STANDARD
TZOFFSETFROM:-0400
TZOFFSETTO:-0500
TZNAME:EST
DTSTART:20221106T060000
END:STANDARD
BEGIN:DAYLIGHT
TZOFFSETFROM:-0500
TZOFFSETTO:-0400
TZNAME:EDT
DTSTART:20230312T070000
END:DAYLIGHT
BEGIN:STANDARD
TZOFFSETFROM:-0400
TZOFFSETTO:-0500
TZNAME:EST
DTSTART:20231105T060000
END:STANDARD
END:VTIMEZONE
BEGIN:VEVENT
DTSTART;TZID=America/Indiana/Indianapolis:20220825T080000
DTEND;TZID=America/Indiana/Indianapolis:20220926T170000
DTSTAMP:20260423T175358
CREATED:20220810T212438Z
LAST-MODIFIED:20220811T142259Z
UID:3426-1661414400-1664211600@downtownwabash.org
SUMMARY:Photography Show
DESCRIPTION:Welcome to the Clark Gallery’s Photography Show! This juried competition has been an annual tradition for decades. This competition is just one way that the Clark Gallery supports the visual arts. The Clark Gallery hosts more than ten exhibits per year and features students\, amateurs\, and professionals. Because the Gallery encompasses the semi-circle of the Honeywell Center Porter Lobby\, foot traffic exceeds 170\,000 guests per year! All of this is done free of charge because the Clark Gallery is a part of the mission of The Honeywell Foundation.
URL:https://downtownwabash.org/event/photography-show/
CATEGORIES:Wabash Community Event
ATTACH;FMTTYPE=image/jpeg:https://downtownwabash.org/wp-content/uploads/HoneywellCenter-700148836e71f71050d0abbd78367268.jpg
END:VEVENT
BEGIN:VEVENT
DTSTART;TZID=America/Indiana/Indianapolis:20220901T173000
DTEND;TZID=America/Indiana/Indianapolis:20220901T193000
DTSTAMP:20260423T175358
CREATED:20220519T183256Z
LAST-MODIFIED:20220524T195828Z
UID:2746-1662053400-1662060600@downtownwabash.org
SUMMARY:Taco-Rita Night
DESCRIPTION:It’s back! Join us for a taco buffet featuring seasoned ground beef\, spicy fajita chicken\, pulled pork\, and all the trimmings… plus specialty margaritas!
URL:https://downtownwabash.org/event/taco-rita-night/
CATEGORIES:Wabash Community Event
ATTACH;FMTTYPE=image/jpeg:https://downtownwabash.org/wp-content/uploads/ET-Ballroom-1f45963c7358e1ecec60776c09928763.jpg
END:VEVENT
BEGIN:VEVENT
DTSTART;TZID=America/Indiana/Indianapolis:20220901T193000
DTEND;TZID=America/Indiana/Indianapolis:20220901T213000
DTSTAMP:20260423T175358
CREATED:20220428T190712Z
LAST-MODIFIED:20220509T182658Z
UID:2427-1662060600-1662067800@downtownwabash.org
SUMMARY:Boy Band Review
DESCRIPTION:Re-live your best years with the world’s #1 boy band tribute show! The Boy Band Review captures the hearts of fans as they transport the audience back in time to the days of frosted tips and hunky front men professing their undying love. Don’t miss this incredible throwback experience as you relive your best years with a full band\, choreography and harmonies.
URL:https://downtownwabash.org/event/boy-band-review/
LOCATION:Wabash\, IN\, 46992\, United States
CATEGORIES:Wabash Community Event
ATTACH;FMTTYPE=image/jpeg:https://downtownwabash.org/wp-content/uploads/EaglesTheatre-6ea3a4c39ae1474bc5fa02665fd09f7a.jpg
END:VEVENT
BEGIN:VEVENT
DTSTART;TZID=America/Indiana/Indianapolis:20220902T170000
DTEND;TZID=America/Indiana/Indianapolis:20220902T200000
DTSTAMP:20260423T175358
CREATED:20220215T220359Z
LAST-MODIFIED:20220826T183427Z
UID:1077-1662138000-1662148800@downtownwabash.org
SUMMARY:Downtown Wabash First Friday
DESCRIPTION:Monthly street festival jam-packed with food trucks\, vendors\, downtown shopping and more. \nFiesta Friday: Hispanic Heritage Month meets First Friday. Gather in Downtown Wabash for a night of delicious Hispanic food\, performance art\, folk art\, papel picado and more. \nPapel picado\, or\, perforated paper or pecked paper\, is a traditional Mexican decorative craft made by cutting elaborate designs into sheets of tissue paper. This is also a form of traditional folk art! \n​Downtown Wabash First Fridays in 2022 are sponsored by Crossroads Bank\, Beacon Credit Union\, 95.9 KISS FM\, Wabash County Museum and Pettit Printing.
URL:https://downtownwabash.org/event/downtown-wabash-first-friday-7/
LOCATION:Wabash\, IN\, 46992\, United States
CATEGORIES:First Friday
ATTACH;FMTTYPE=image/jpeg:https://downtownwabash.org/wp-content/uploads/September-First-Friday-in-Downtown-Wabash.jpg
END:VEVENT
BEGIN:VEVENT
DTSTART;TZID=America/Indiana/Indianapolis:20220902T180000
DTEND;TZID=America/Indiana/Indianapolis:20220902T193000
DTSTAMP:20260423T175358
CREATED:20220812T162200Z
LAST-MODIFIED:20220812T173843Z
UID:3487-1662141600-1662147000@downtownwabash.org
SUMMARY:Little Miss & Mr. Founders Fest Pageant
DESCRIPTION:Join us at the Museum on September’s First Friday for the Little Miss & Mister Founders Fest Pageant. Contestants must be Wabash County residents and between the ages of 4 – 7 on the date of the pageant. Winning contestants will ride in the Wabash County Founders Fest Parade on Sat\, Sept 17th.
URL:https://downtownwabash.org/event/little-miss-mr-founders-fest-pageant/
CATEGORIES:Wabash Community Event
ATTACH;FMTTYPE=image/png:https://downtownwabash.org/wp-content/uploads/Little-Miss-Mister-Founders-Fest-Pageant-4fb7a413a32490ee431f2d30a76e3df6.png
END:VEVENT
BEGIN:VEVENT
DTSTART;TZID=America/Indiana/Indianapolis:20220902T213000
DTEND;TZID=America/Indiana/Indianapolis:20220902T230000
DTSTAMP:20260423T175358
CREATED:20220525T201643Z
LAST-MODIFIED:20220526T204941Z
UID:2812-1662154200-1662159600@downtownwabash.org
SUMMARY:Gremlins
DESCRIPTION:A boy inadvertently breaks three important rules concerning his new pet and unleashes a horde of malevolently mischievous monsters on a small town.
URL:https://downtownwabash.org/event/gremlins/
CATEGORIES:Wabash Community Event
ATTACH;FMTTYPE=image/jpeg:https://downtownwabash.org/wp-content/uploads/DriveIn-568354a7e4050142ce989e2fd61a323b.jpg
END:VEVENT
BEGIN:VEVENT
DTSTART;TZID=America/Indiana/Indianapolis:20220903T080000
DTEND;TZID=America/Indiana/Indianapolis:20220903T120000
DTSTAMP:20260423T175358
CREATED:20220216T203128Z
LAST-MODIFIED:20220218T061558Z
UID:1357-1662192000-1662206400@downtownwabash.org
SUMMARY:Downtown Wabash Farmers Market
DESCRIPTION:Spend Saturdays at the Wabash Farmers Market \nStart your weekend at the Wabash Farmers Market with wholesome\, fulfilling\, locally sourced products from some of our most unique vendors in the area. \nFind handmade\, homemade & homegrown products like fresh produce\, organic meats\, homemade ice cream\, hand-poured candles & soaps\, cotton candy\, pottery\, wood & metal works and so much more. \n(All dogs are welcome!)
URL:https://downtownwabash.org/event/downtown-wabash-farmers-market-2022-09-03/
LOCATION:Wabash\, IN\, 46992\, United States
CATEGORIES:Farmers Market
ATTACH;FMTTYPE=image/jpeg:https://downtownwabash.org/wp-content/uploads/Downtown-Wabash-Farmers-Market-19.jpg
END:VEVENT
BEGIN:VEVENT
DTSTART;TZID=America/Indiana/Indianapolis:20220903T213000
DTEND;TZID=America/Indiana/Indianapolis:20220903T230000
DTSTAMP:20260423T175358
CREATED:20220525T201945Z
LAST-MODIFIED:20220526T204947Z
UID:2814-1662240600-1662246000@downtownwabash.org
SUMMARY:The Wizard of Oz
DESCRIPTION:Dorothy Gale is swept away from a farm in Kansas to a magical land of Oz in a tornado and embarks on a quest with her new friends to see the Wizard who can help her return home in Kansas and help her friends as well.
URL:https://downtownwabash.org/event/the-wizard-of-oz/
CATEGORIES:Wabash Community Event
ATTACH;FMTTYPE=image/jpeg:https://downtownwabash.org/wp-content/uploads/DriveIn-abdfbb3a0a1428de4ea0ca1dc6338ab0.jpg
END:VEVENT
BEGIN:VEVENT
DTSTART;TZID=America/Indiana/Indianapolis:20220907T090000
DTEND;TZID=America/Indiana/Indianapolis:20220907T100000
DTSTAMP:20260423T175358
CREATED:20220216T012333Z
LAST-MODIFIED:20220216T204128Z
UID:1142-1662541200-1662544800@downtownwabash.org
SUMMARY:Downtown Wabash Merchant Meetings
DESCRIPTION:The monthly meeting held every first Wednesday for all small businesses in Downtown Wabash to stay current with information from Downtown Wabash\, Inc.
URL:https://downtownwabash.org/event/downtown-wabash-merchant-meetings-7/
LOCATION:Wabash\, IN\, 46992\, United States
CATEGORIES:Merchant Meetings
ATTACH;FMTTYPE=image/jpeg:https://downtownwabash.org/wp-content/uploads/Merchant-Meetings-in-Downtown-Wabash-14.jpg
END:VEVENT
BEGIN:VEVENT
DTSTART;TZID=America/Indiana/Indianapolis:20220908T140000
DTEND;TZID=America/Indiana/Indianapolis:20220908T160000
DTSTAMP:20260423T175358
CREATED:20220428T154904Z
LAST-MODIFIED:20220509T182650Z
UID:2318-1662645600-1662652800@downtownwabash.org
SUMMARY:Assisted Living: The Musical
DESCRIPTION:From early retirement right up to the pulling of the plug\, 21st Century seniors are partying like it’s 1969. Imagine: no work\, no pregnancy\, and a full array of Medicare-subsidized pharmaceuticals. It’s the Boomer dream! These Boomers are partying at Pelican Roost\, the very active retirement community where 70-something is the new 20-something…only with looser skin. For mature audiences.
URL:https://downtownwabash.org/event/assisted-living-the-musical/
LOCATION:Wabash\, IN\, 46992\, United States
CATEGORIES:Wabash Community Event
ATTACH;FMTTYPE=image/jpeg:https://downtownwabash.org/wp-content/uploads/EaglesTheatre-06b78fd1bb31ec2c49f8db3711d76216.jpg
END:VEVENT
BEGIN:VEVENT
DTSTART;TZID=America/Indiana/Indianapolis:20220908T190000
DTEND;TZID=America/Indiana/Indianapolis:20220908T210000
DTSTAMP:20260423T175358
CREATED:20220725T175601Z
LAST-MODIFIED:20220726T142510Z
UID:3347-1662663600-1662670800@downtownwabash.org
SUMMARY:Waypoint Presented by Abby Waldon and Marilyn Custer-Mitchell
DESCRIPTION:Waypoint is a safe\, structured and stable environment for women recovering from substance use and abuse. This asset is located on Wabash Street and is an invaluable aid in helping women to regain their self-respect and see their true value to themselves and others.  Marilyn Custer-Mitchell and Abby Schuler Waldon will describe Waypoint and tell how this program has come to fruition and the many benefits it will offer.
URL:https://downtownwabash.org/event/waypoint-presented-by-abby-waldon-and-marilyn-custer-mitchell/
CATEGORIES:Wabash Community Event
ATTACH;FMTTYPE=image/jpeg:https://downtownwabash.org/wp-content/uploads/HoneywellHouse-78379670786ef3865c12bf5dfa847daf.jpg
END:VEVENT
BEGIN:VEVENT
DTSTART;TZID=America/Indiana/Indianapolis:20220908T190000
DTEND;TZID=America/Indiana/Indianapolis:20220908T210000
DTSTAMP:20260423T175358
CREATED:20220428T155036Z
LAST-MODIFIED:20220509T182645Z
UID:2320-1662663600-1662670800@downtownwabash.org
SUMMARY:Assisted Living: The Musical
DESCRIPTION:From early retirement right up to the pulling of the plug\, 21st Century seniors are partying like it’s 1969. Imagine: no work\, no pregnancy\, and a full array of Medicare-subsidized pharmaceuticals. It’s the Boomer dream! These Boomers are partying at Pelican Roost\, the very active retirement community where 70-something is the new 20-something…only with looser skin. For mature audiences.
URL:https://downtownwabash.org/event/assisted-living-the-musical/
LOCATION:Wabash\, IN\, 46992\, United States
CATEGORIES:Wabash Community Event
ATTACH;FMTTYPE=image/jpeg:https://downtownwabash.org/wp-content/uploads/EaglesTheatre-14a008f06d3b6d90fe0ef27f46c7a3d7.jpg
END:VEVENT
BEGIN:VEVENT
DTSTART;TZID=America/Indiana/Indianapolis:20220910T080000
DTEND;TZID=America/Indiana/Indianapolis:20220910T120000
DTSTAMP:20260423T175358
CREATED:20220216T203128Z
LAST-MODIFIED:20220218T061555Z
UID:1358-1662796800-1662811200@downtownwabash.org
SUMMARY:Downtown Wabash Farmers Market
DESCRIPTION:Spend Saturdays at the Wabash Farmers Market \nStart your weekend at the Wabash Farmers Market with wholesome\, fulfilling\, locally sourced products from some of our most unique vendors in the area. \nFind handmade\, homemade & homegrown products like fresh produce\, organic meats\, homemade ice cream\, hand-poured candles & soaps\, cotton candy\, pottery\, wood & metal works and so much more. \n(All dogs are welcome!)
URL:https://downtownwabash.org/event/downtown-wabash-farmers-market-2022-09-10/
LOCATION:Wabash\, IN\, 46992\, United States
CATEGORIES:Farmers Market
ATTACH;FMTTYPE=image/jpeg:https://downtownwabash.org/wp-content/uploads/Downtown-Wabash-Farmers-Market-19.jpg
END:VEVENT
BEGIN:VEVENT
DTSTART;TZID=America/Indiana/Indianapolis:20220910T190000
DTEND;TZID=America/Indiana/Indianapolis:20220910T220000
DTSTAMP:20260423T175358
CREATED:20220812T154724Z
LAST-MODIFIED:20220812T173709Z
UID:3471-1662836400-1662847200@downtownwabash.org
SUMMARY:LIVE MUSIC: Dakota Parker
DESCRIPTION:Dakota Ray Parker performs many varieties of music including classic country (Merle Haggard\, Hank Williams\, Johnny Cash)\, some classic rock (Neil Diamond\, Eric Clapton\, Bruce Springsteen)\, Folk music (The Avett Brothers\, Bob Dylan\, Tom T Hall)\, Elvis Presley\, Adele\, Justin Bieber and so much more. He also writes his own music with more than 35 original songs. He won The Voice of Wabash County in 2018 and opened for Aaron Barker at the Eagles Theater.
URL:https://downtownwabash.org/event/dakota-parker/
CATEGORIES:Wabash Community Event
ATTACH;FMTTYPE=image/jpeg:https://downtownwabash.org/wp-content/uploads/Dakota-Parker-2021-94343787e1cadad24e2ce913e583ff82.jpg
END:VEVENT
BEGIN:VEVENT
DTSTART;TZID=America/Indiana/Indianapolis:20220913T120000
DTEND;TZID=America/Indiana/Indianapolis:20220913T130000
DTSTAMP:20260423T175358
CREATED:20220307T060410Z
LAST-MODIFIED:20220307T063403Z
UID:1757-1663070400-1663074000@downtownwabash.org
SUMMARY:Board Meeting - September 2022
DESCRIPTION:
URL:https://downtownwabash.org/event/board-meeting-september-2022/
LOCATION:Wabash\, IN\, 46992\, United States
CATEGORIES:Board Member Meeting
ORGANIZER;CN="Downtown Wabash":MAILTO:(260) 563-0975
END:VEVENT
BEGIN:VEVENT
DTSTART;TZID=America/Indiana/Indianapolis:20220913T193000
DTEND;TZID=America/Indiana/Indianapolis:20220913T213000
DTSTAMP:20260423T175358
CREATED:20220428T155224Z
LAST-MODIFIED:20220509T182638Z
UID:2322-1663097400-1663104600@downtownwabash.org
SUMMARY:STRYPER
DESCRIPTION:Christian rockers Stryper burst on the 80s scene with their groundbreaking “heavenly metal” genre. The group sold more than 10 million albums worldwide and garnered Top 40 hits like “Calling on You\,” “Honestly\,” and “Always There for You.”
URL:https://downtownwabash.org/event/stryper/
LOCATION:Wabash\, IN\, 46992\, United States
CATEGORIES:Wabash Community Event
ATTACH;FMTTYPE=image/jpeg:https://downtownwabash.org/wp-content/uploads/EaglesTheatre-828f75ca39f42beed5304eabc6186171.jpg
END:VEVENT
BEGIN:VEVENT
DTSTART;TZID=America/Indiana/Indianapolis:20220915T190000
DTEND;TZID=America/Indiana/Indianapolis:20220915T210000
DTSTAMP:20260423T175358
CREATED:20220725T180053Z
LAST-MODIFIED:20220726T142517Z
UID:3349-1663268400-1663275600@downtownwabash.org
SUMMARY:Beer in America
DESCRIPTION:Scott Fergusson\, founder of Chapman’s Brewing\, will share how he came to work in the beer business\, interesting information about how beer is made\, and his plans for future endeavors in Wabash.
URL:https://downtownwabash.org/event/beer-in-america/
CATEGORIES:Wabash Community Event
ATTACH;FMTTYPE=image/jpeg:https://downtownwabash.org/wp-content/uploads/HoneywellHouse-15082f9592b1248ca9b119e6fc8e3d15.jpg
END:VEVENT
BEGIN:VEVENT
DTSTART;TZID=America/Indiana/Indianapolis:20220915T193000
DTEND;TZID=America/Indiana/Indianapolis:20220915T213000
DTSTAMP:20260423T175358
CREATED:20220428T155324Z
LAST-MODIFIED:20220509T182632Z
UID:2324-1663270200-1663277400@downtownwabash.org
SUMMARY:The Rush Tribute Project
DESCRIPTION:The Rush Tribute Project is an homage to one of the most influential bands in rock history. Combining skilled musicianship with exciting performances\, RTP covers all 40+ years of Rush’s amazing career by painstakingly recreating the sound and energy with vintage instruments\, clothes\, and sounds for a concert experience that is unparalleled!
URL:https://downtownwabash.org/event/the-rush-tribute-project/
LOCATION:Wabash\, IN\, 46992\, United States
CATEGORIES:Wabash Community Event
ATTACH;FMTTYPE=image/jpeg:https://downtownwabash.org/wp-content/uploads/EaglesTheatre-32f6c7a5b1852ffa398b0383cb7f6709.jpg
END:VEVENT
BEGIN:VEVENT
DTSTART;TZID=America/Indiana/Indianapolis:20220916T190000
DTEND;TZID=America/Indiana/Indianapolis:20220916T210000
DTSTAMP:20260423T175358
CREATED:20220812T155704Z
LAST-MODIFIED:20220812T173738Z
UID:3477-1663354800-1663362000@downtownwabash.org
SUMMARY:Museum Under the Stars
DESCRIPTION:A new kick-off event for the Wabash County Founders Festival\, gather with your friends for amazing food\, drinks\, live entertainment\, and preview vendor shopping under the stars on East Market Street in front of the Museum. The first annual Museum Under the Stars event will be held on Fri\, Sept. 16th  \nFood by Junk Ditch Food Truck and Specialty Desserts by Ohh My Cakes!\nLive Music from Louis Pettinelli Entertainment\nBar by Market Street Grill/The Franklin\nLounge Vignettes by Kelli Winer Designs\nTable Decor by Jojo’s Olfactory and Love Bug Floral \nTickets are limited and going fast so click below today to reserve your seats at this exciting premier event!  \n*Proceeds from the event support the Wabash County Museum & the Founders Festival
URL:https://downtownwabash.org/event/museum-under-the-stars/
CATEGORIES:Wabash Community Event
ATTACH;FMTTYPE=image/png:https://downtownwabash.org/wp-content/uploads/Museum-Under-the-Stars-logo-1-f2d385cdc40a5941ace8cdf05679c011.png
END:VEVENT
BEGIN:VEVENT
DTSTART;TZID=America/Indiana/Indianapolis:20220917T080000
DTEND;TZID=America/Indiana/Indianapolis:20220917T120000
DTSTAMP:20260423T175358
CREATED:20220216T203128Z
LAST-MODIFIED:20220719T185914Z
UID:1359-1663401600-1663416000@downtownwabash.org
SUMMARY:Downtown Wabash Farmers Market
DESCRIPTION:Spend Saturdays at the Wabash Farmers Market \nStart your weekend at the Wabash Farmers Market with wholesome\, fulfilling\, locally sourced products from some of our most unique vendors in the area. \nFind handmade\, homemade & homegrown products like fresh produce\, organic meats\, homemade ice cream\, hand-poured candles & soaps\, cotton candy\, pottery\, wood & metal works and so much more. \n(All dogs are welcome!)
URL:https://downtownwabash.org/event/downtown-wabash-farmers-market-2022-09-17/
LOCATION:Wabash\, IN\, 46992\, United States
CATEGORIES:Farmers Market
ATTACH;FMTTYPE=image/jpeg:https://downtownwabash.org/wp-content/uploads/Downtown-Wabash-Farmers-Market-19.jpg
END:VEVENT
BEGIN:VEVENT
DTSTART;TZID=America/Indiana/Indianapolis:20220917T090000
DTEND;TZID=America/Indiana/Indianapolis:20220917T150000
DTSTAMP:20260423T175358
CREATED:20220810T212819Z
LAST-MODIFIED:20220811T142416Z
UID:3428-1663405200-1663426800@downtownwabash.org
SUMMARY:Founders Festival Activities
DESCRIPTION:Join us during Wabash’s Founders Festival for craft activities and tours of the Dr. Ford Home.  \nFree admission
URL:https://downtownwabash.org/event/founders-festival-activities/
CATEGORIES:Wabash Community Event
ATTACH;FMTTYPE=image/jpeg:https://downtownwabash.org/wp-content/uploads/FordHome-e94f17043dba612e077ffef5ef32738b.jpg
END:VEVENT
BEGIN:VEVENT
DTSTART;TZID=America/Indiana/Indianapolis:20220917T190000
DTEND;TZID=America/Indiana/Indianapolis:20220917T220000
DTSTAMP:20260423T175358
CREATED:20220812T161217Z
LAST-MODIFIED:20220812T173806Z
UID:3481-1663441200-1663452000@downtownwabash.org
SUMMARY:LIVE MUSIC: Abbie Thomas
DESCRIPTION:Influenced by an eclectic mix\, from The Beatles and Karen Carpenter\, to Lauren Hill and John Mayer\, singer songwriter with a pop-soul flair\, Abbie Thomas mixes catchy melodies with hard-hitting\, life inspired lyrics. She was a songwriting finalist at The Acorn Theater in June 2019\, and is now building a resume as an opening act for touring musicians (ex. Callaghan\, Billy Gilman). Thomas released her first of a series of singles\, “Those 3 Words” in April 2020\, available on iTunes and Spotify. In May 2022\, she released her first self-produced EP “Dirty Little Things.”
URL:https://downtownwabash.org/event/abbie-thomas/
CATEGORIES:Wabash Community Event
ATTACH;FMTTYPE=image/jpeg:https://downtownwabash.org/wp-content/uploads/Abbie-Thomas-3-93c3b9247076007e62ac92d0414934f5.jpg
END:VEVENT
BEGIN:VEVENT
DTSTART;TZID=America/Indiana/Indianapolis:20220918T093000
DTEND;TZID=America/Indiana/Indianapolis:20220918T150000
DTSTAMP:20260423T175358
CREATED:20220907T160732Z
LAST-MODIFIED:20220907T175401Z
UID:3557-1663493400-1663513200@downtownwabash.org
SUMMARY:Kick-Off Sunday
DESCRIPTION:Wabash Christian Church Invites the Public to Attend Kick-Off Sunday on September 18\, from 9:30 a.m. – 3:00 p.m.  Please join us for Worship Service\, Meal\, Children’s Games\, & Fun. The regular Sunday Church Service will be held at 9:30 a.m.  After the service a meal will be provided.  Fun and games such as a dunk tank\, bounce house and other outdoor activities will be set up on Hill Street and the Church lawn.  Make plans now to attend this fun celebration and meet new friends.  All are welcome!!
URL:https://downtownwabash.org/event/kick-off-sunday/
CATEGORIES:Wabash Community Event
ATTACH;FMTTYPE=image/jpeg:https://downtownwabash.org/wp-content/uploads/Kick-Off-Sunday-September-18-2022-e390914cdd841d6f7dde59bea40668dc-rotated.jpg
END:VEVENT
BEGIN:VEVENT
DTSTART;TZID=America/Indiana/Indianapolis:20220921T123000
DTEND;TZID=America/Indiana/Indianapolis:20220921T130000
DTSTAMP:20260423T175358
CREATED:20220725T180258Z
LAST-MODIFIED:20220726T142555Z
UID:3351-1663763400-1663765200@downtownwabash.org
SUMMARY:Landscape & Weed Identification
DESCRIPTION:Is that green plant friend or foe? Join us in welcoming Geoff Schortgen\, our Purdue County Extension Agent\, for an informative talk on landscape and lawn weeds common to Wabash County. Free admission. Seating is limited\, so reservations are recommended.
URL:https://downtownwabash.org/event/landscape-weed-identification/
CATEGORIES:Wabash Community Event
ATTACH;FMTTYPE=image/jpeg:https://downtownwabash.org/wp-content/uploads/Gardens-db58ae7bed64f7979274ca67e2feeb90.jpg
END:VEVENT
BEGIN:VEVENT
DTSTART;TZID=America/Indiana/Indianapolis:20220923T140000
DTEND;TZID=America/Indiana/Indianapolis:20220925T193000
DTSTAMP:20260423T175358
CREATED:20220810T213047Z
LAST-MODIFIED:20220811T142427Z
UID:3430-1663941600-1664134200@downtownwabash.org
SUMMARY:Guys and Dolls
DESCRIPTION:Wabash Area Community Theater presents the story of big city gamblers and the women who love them. Set in depression-era Times Square\, the musical tells the stories of high-roller Sky\, loveable rapscallion Nathan\, mission worker Sarah\, and performer Miss Adelaide.
URL:https://downtownwabash.org/event/guys-and-dolls/
CATEGORIES:Wabash Community Event
ATTACH;FMTTYPE=image/jpeg:https://downtownwabash.org/wp-content/uploads/HC-Ford-Theater-48741135b3e66647c9f17c40b5e99e61.jpg
END:VEVENT
BEGIN:VEVENT
DTSTART;TZID=America/Indiana/Indianapolis:20220924T080000
DTEND;TZID=America/Indiana/Indianapolis:20220924T120000
DTSTAMP:20260423T175358
CREATED:20220216T203128Z
LAST-MODIFIED:20220218T061547Z
UID:1360-1664006400-1664020800@downtownwabash.org
SUMMARY:Downtown Wabash Farmers Market
DESCRIPTION:Spend Saturdays at the Wabash Farmers Market \nStart your weekend at the Wabash Farmers Market with wholesome\, fulfilling\, locally sourced products from some of our most unique vendors in the area. \nFind handmade\, homemade & homegrown products like fresh produce\, organic meats\, homemade ice cream\, hand-poured candles & soaps\, cotton candy\, pottery\, wood & metal works and so much more. \n(All dogs are welcome!)
URL:https://downtownwabash.org/event/downtown-wabash-farmers-market-2022-09-24/
LOCATION:Wabash\, IN\, 46992\, United States
CATEGORIES:Farmers Market
ATTACH;FMTTYPE=image/jpeg:https://downtownwabash.org/wp-content/uploads/Downtown-Wabash-Farmers-Market-19.jpg
END:VEVENT
BEGIN:VEVENT
DTSTART;TZID=America/Indiana/Indianapolis:20220924T190000
DTEND;TZID=America/Indiana/Indianapolis:20220924T220000
DTSTAMP:20260423T175358
CREATED:20220812T162304Z
LAST-MODIFIED:20220812T173855Z
UID:3489-1664046000-1664056800@downtownwabash.org
SUMMARY:LIVE MUSIC: Mike Almon
DESCRIPTION:With more than 300 shows scheduled each year\, Mike Almon has been playing guitar and writing music since he was 14. This year he plans to release his first studio-recorded album “Had a Good Run” featuring a mix of his originals\, along with two bonus track parodies “Last Fence” and “Detour Land.”
URL:https://downtownwabash.org/event/mike-almon/
CATEGORIES:Wabash Community Event
ATTACH;FMTTYPE=image/jpeg:https://downtownwabash.org/wp-content/uploads/Mike-Almon-2021-1476495869697f32c54b8b5c0b932ee5.jpg
END:VEVENT
BEGIN:VEVENT
DTSTART;TZID=America/Indiana/Indianapolis:20220926T190000
DTEND;TZID=America/Indiana/Indianapolis:20220926T210000
DTSTAMP:20260423T175358
CREATED:20220914T190432Z
LAST-MODIFIED:20220915T143225Z
UID:3594-1664218800-1664226000@downtownwabash.org
SUMMARY:The Best We've Got: The Carl Erskine Story
DESCRIPTION:Special Olympics Indiana is hosting a special screening of “The Best We’ve Got: The Carl Erskine Story” at Eagles Theatre on Monday\, Sept. 26 at 7:00 PM. The film\, produced by renowned filmmaker Ted Green\, takes a deep dive into Erskine’s upbringing as a child and his legendary career in Major League Baseball with Jackie Robinson\, the first African American to break the color barrier in a sport that was segregated for more than 50 years. The film will take viewers on Erskine’s most proud adventure when he and his wife\, Betty\, have their son Jimmy\, who was born with Down syndrome\, and will share their story and impact they’ve made on Special Olympics Indiana and social change across the country.\nThe Wabash premiere of the documentary is being presented through a partnership with the Community Foundation of Wabash County\, the Honeywell Arts & Entertainment\, Manchester University\, and Special Olympics Wabash County with an expected sold-out crowd. This collaborative effort supports action items from the Imagine One 85 comprehensive plan such as creating kindness initiative and continuing to support the County’s commitment to a diverse\, equitable\, and inclusive community for all.\nTickets for the film can be purchased at honeywellarts.org/carl-erskine. To view a trailer of the movie or to learn more about Carl Erskine\, visit carlerskinefilm.com.
URL:https://downtownwabash.org/event/the-best-weve-got-the-carl-erskine-story/
CATEGORIES:Wabash Community Event
ATTACH;FMTTYPE=image/png:https://downtownwabash.org/wp-content/uploads/The-Best-Weve-Got-Flyer-Small-ca7483214b0842a542229f8b309f0001.png
END:VEVENT
BEGIN:VEVENT
DTSTART;TZID=America/Indiana/Indianapolis:20220929T173000
DTEND;TZID=America/Indiana/Indianapolis:20220929T193000
DTSTAMP:20260423T175358
CREATED:20220519T183442Z
LAST-MODIFIED:20220524T195839Z
UID:2748-1664472600-1664479800@downtownwabash.org
SUMMARY:Prime Rib Dinner
DESCRIPTION:Chef-attended\, all you can eat prime rib buffet. Limited dinner menu also available.
URL:https://downtownwabash.org/event/prime-rib-dinner/
CATEGORIES:Wabash Community Event
ATTACH;FMTTYPE=image/jpeg:https://downtownwabash.org/wp-content/uploads/ET-Ballroom-d76d779cab08d5bb15d889c8433afb60.jpg
END:VEVENT
BEGIN:VEVENT
DTSTART;TZID=America/Indiana/Indianapolis:20220929T193000
DTEND;TZID=America/Indiana/Indianapolis:20220929T220000
DTSTAMP:20260423T175358
CREATED:20220810T213317Z
LAST-MODIFIED:20220811T142433Z
UID:3432-1664479800-1664488800@downtownwabash.org
SUMMARY:The Songwriters Sing
DESCRIPTION:Three prolific Nashville songwriters combine forces for an evening of their top hits and the stories behind them. The three have written hits for Tim McGraw\, Kelly Clarkson\, Reba\, Kenny Chesney\, Peter Frampton\, Ty Herndon\, Miranda Lambert\, Chely Wright\, and more. Their songwriting credits include the hits “Life’s a Dance\,” “I Think About You\,” “Grown Men Don’t Cry\,” and “Single White Female.”
URL:https://downtownwabash.org/event/the-songwriters-sing/
CATEGORIES:Wabash Community Event
ATTACH;FMTTYPE=image/jpeg:https://downtownwabash.org/wp-content/uploads/EaglesTheatre-75be6c72cf849691519d021abf83613e.jpg
END:VEVENT
END:VCALENDAR