BEGIN:VCALENDAR
VERSION:2.0
PRODID:-//Downtown Wabash, Inc. - ECPv6.15.17.1//NONSGML v1.0//EN
CALSCALE:GREGORIAN
METHOD:PUBLISH
X-ORIGINAL-URL:https://downtownwabash.org
X-WR-CALDESC:Events for Downtown Wabash, Inc.
REFRESH-INTERVAL;VALUE=DURATION:PT1H
X-Robots-Tag:noindex
X-PUBLISHED-TTL:PT1H
BEGIN:VTIMEZONE
TZID:America/Indiana/Indianapolis
BEGIN:DAYLIGHT
TZOFFSETFROM:-0500
TZOFFSETTO:-0400
TZNAME:EDT
DTSTART:20210314T070000
END:DAYLIGHT
BEGIN:STANDARD
TZOFFSETFROM:-0400
TZOFFSETTO:-0500
TZNAME:EST
DTSTART:20211107T060000
END:STANDARD
BEGIN:DAYLIGHT
TZOFFSETFROM:-0500
TZOFFSETTO:-0400
TZNAME:EDT
DTSTART:20220313T070000
END:DAYLIGHT
BEGIN:STANDARD
TZOFFSETFROM:-0400
TZOFFSETTO:-0500
TZNAME:EST
DTSTART:20221106T060000
END:STANDARD
BEGIN:DAYLIGHT
TZOFFSETFROM:-0500
TZOFFSETTO:-0400
TZNAME:EDT
DTSTART:20230312T070000
END:DAYLIGHT
BEGIN:STANDARD
TZOFFSETFROM:-0400
TZOFFSETTO:-0500
TZNAME:EST
DTSTART:20231105T060000
END:STANDARD
END:VTIMEZONE
BEGIN:VEVENT
DTSTART;TZID=America/Indiana/Indianapolis:20220716T080000
DTEND;TZID=America/Indiana/Indianapolis:20220716T120000
DTSTAMP:20260423T200342
CREATED:20220216T203128Z
LAST-MODIFIED:20220218T061621Z
UID:1350-1657958400-1657972800@downtownwabash.org
SUMMARY:Downtown Wabash Farmers Market
DESCRIPTION:Spend Saturdays at the Wabash Farmers Market \nStart your weekend at the Wabash Farmers Market with wholesome\, fulfilling\, locally sourced products from some of our most unique vendors in the area. \nFind handmade\, homemade & homegrown products like fresh produce\, organic meats\, homemade ice cream\, hand-poured candles & soaps\, cotton candy\, pottery\, wood & metal works and so much more. \n(All dogs are welcome!)
URL:https://downtownwabash.org/event/downtown-wabash-farmers-market-2022-07-16/
LOCATION:Wabash\, IN\, 46992\, United States
CATEGORIES:Farmers Market
ATTACH;FMTTYPE=image/jpeg:https://downtownwabash.org/wp-content/uploads/Downtown-Wabash-Farmers-Market-19.jpg
END:VEVENT
BEGIN:VEVENT
DTSTART;TZID=America/Indiana/Indianapolis:20220716T150000
DTEND;TZID=America/Indiana/Indianapolis:20220716T170000
DTSTAMP:20260423T200342
CREATED:20220622T154943Z
LAST-MODIFIED:20220628T174019Z
UID:3178-1657983600-1657990800@downtownwabash.org
SUMMARY:Thor: Love and Thunder
DESCRIPTION:Thor’s retirement is interrupted by a galactic killer known as Gorr the God Butcher\, who seeks the extinction of the gods. To combat the threat\, Thor enlists the help of King Valkyrie\, Korg and ex-girlfriend Jane Foster\, who – to Thor’s surprise – inexplicably wields his magical hammer\, Mjolnir\, as the Mighty Thor. Together\, they embark upon a harrowing cosmic adventure to uncover the mystery of the God Butcher’s vengeance and stop him before it’s too late.
URL:https://downtownwabash.org/event/thor-love-and-thunder/
CATEGORIES:Wabash Community Event
ATTACH;FMTTYPE=image/jpeg:https://downtownwabash.org/wp-content/uploads/ET-Eagles-Theatre-a425171ea298754042295adf0065c35a.jpg
END:VEVENT
BEGIN:VEVENT
DTSTART;TZID=America/Indiana/Indianapolis:20220716T190000
DTEND;TZID=America/Indiana/Indianapolis:20220716T210000
DTSTAMP:20260423T200342
CREATED:20220622T155759Z
LAST-MODIFIED:20220628T174027Z
UID:3180-1657998000-1658005200@downtownwabash.org
SUMMARY:Thor: Love and Thunder
DESCRIPTION:Thor’s retirement is interrupted by a galactic killer known as Gorr the God Butcher\, who seeks the extinction of the gods. To combat the threat\, Thor enlists the help of King Valkyrie\, Korg and ex-girlfriend Jane Foster\, who – to Thor’s surprise – inexplicably wields his magical hammer\, Mjolnir\, as the Mighty Thor. Together\, they embark upon a harrowing cosmic adventure to uncover the mystery of the God Butcher’s vengeance and stop him before it’s too late.
URL:https://downtownwabash.org/event/thor-love-and-thunder/
CATEGORIES:Wabash Community Event
ATTACH;FMTTYPE=image/jpeg:https://downtownwabash.org/wp-content/uploads/ET-Eagles-Theatre-719618969cbaaad7accc6d0e4220427a.jpg
END:VEVENT
BEGIN:VEVENT
DTSTART;TZID=America/Indiana/Indianapolis:20220716T193000
DTEND;TZID=America/Indiana/Indianapolis:20220716T213000
DTSTAMP:20260423T200342
CREATED:20220422T154339Z
LAST-MODIFIED:20220422T154339Z
UID:2289-1657999800-1658007000@downtownwabash.org
SUMMARY:Darci Lynne
DESCRIPTION:Ventriloquist and singer Darci Lynne is bringing her friends Petunia\, Oscar\, and Edna to Wabash! As the youngest contestant ever to win America’s Got Talent\, Darci won the hearts of America with her undeniable talent. She currently stars in Nickelodeon’s hit show “Unfiltered” and has made appearances on “All That\,” “The Substitute\, and “Side Hustle.” Don’t miss this evening of family entertainment.
URL:https://downtownwabash.org/event/darci-lynne/
LOCATION:Wabash\, IN\, 46992\, United States
ATTACH;FMTTYPE=image/jpeg:https://downtownwabash.org/wp-content/uploads/HC-Ford-Theater-6c10631413657d25ad950ff7671cd74f.jpg
END:VEVENT
BEGIN:VEVENT
DTSTART;TZID=America/Indiana/Indianapolis:20220716T213000
DTEND;TZID=America/Indiana/Indianapolis:20220716T230000
DTSTAMP:20260423T200342
CREATED:20220525T144227Z
LAST-MODIFIED:20220526T204759Z
UID:2786-1658007000-1658012400@downtownwabash.org
SUMMARY:Daddy Day Care
DESCRIPTION:Two men get laid off and have to become stay-at-home dads when they can’t find jobs. This inspires them to open their own day-care center.
URL:https://downtownwabash.org/event/daddy-day-care/
CATEGORIES:Wabash Community Event
ATTACH;FMTTYPE=image/jpeg:https://downtownwabash.org/wp-content/uploads/DriveIn-ec8f492df15c3145df8f5d12e33a93ad.jpg
END:VEVENT
BEGIN:VEVENT
DTSTART;TZID=America/Indiana/Indianapolis:20220717T150000
DTEND;TZID=America/Indiana/Indianapolis:20220717T170000
DTSTAMP:20260423T200342
CREATED:20220622T160038Z
LAST-MODIFIED:20220628T174036Z
UID:3182-1658070000-1658077200@downtownwabash.org
SUMMARY:Thor: Love and Thunder
DESCRIPTION:Thor’s retirement is interrupted by a galactic killer known as Gorr the God Butcher\, who seeks the extinction of the gods. To combat the threat\, Thor enlists the help of King Valkyrie\, Korg and ex-girlfriend Jane Foster\, who – to Thor’s surprise – inexplicably wields his magical hammer\, Mjolnir\, as the Mighty Thor. Together\, they embark upon a harrowing cosmic adventure to uncover the mystery of the God Butcher’s vengeance and stop him before it’s too late.
URL:https://downtownwabash.org/event/thor-love-and-thunder/
CATEGORIES:Wabash Community Event
ATTACH;FMTTYPE=image/jpeg:https://downtownwabash.org/wp-content/uploads/ET-Eagles-Theatre-645d9bb5fb6e1de6e14f55ff7fbd2a55.jpg
END:VEVENT
BEGIN:VEVENT
DTSTART;TZID=America/Indiana/Indianapolis:20220718T130000
DTEND;TZID=America/Indiana/Indianapolis:20220718T143000
DTSTAMP:20260423T200342
CREATED:20220527T194148Z
LAST-MODIFIED:20220601T150345Z
UID:2864-1658149200-1658154600@downtownwabash.org
SUMMARY:Tom & Jerry
DESCRIPTION:A legendary rivalry reemerges when Jerry moves into New York City’s finest hotel on the eve of the wedding of the century\, forcing the desperate event planner to hire Tom to get rid of him. As mayhem ensues\, the escalating cat-and-mouse battle soon threatens to destroy her career\, the wedding\, and possibly the hotel itself. \nThere is also a Sensory-Friendly version playing at the same time downstairs in the Ferguson Theatre!
URL:https://downtownwabash.org/event/tom-jerry/
CATEGORIES:Wabash Community Event
ATTACH;FMTTYPE=image/jpeg:https://downtownwabash.org/wp-content/uploads/EaglesTheatre-bf7e0b2cadc2c13d6afb13f382550bfb.jpg
END:VEVENT
BEGIN:VEVENT
DTSTART;TZID=America/Indiana/Indianapolis:20220718T190000
DTEND;TZID=America/Indiana/Indianapolis:20220718T203000
DTSTAMP:20260423T200342
CREATED:20220527T194622Z
LAST-MODIFIED:20220601T150403Z
UID:2868-1658170800-1658176200@downtownwabash.org
SUMMARY:Tom & Jerry
DESCRIPTION:A legendary rivalry reemerges when Jerry moves into New York City’s finest hotel on the eve of the wedding of the century\, forcing the desperate event planner to hire Tom to get rid of him. As mayhem ensues\, the escalating cat-and-mouse battle soon threatens to destroy her career\, the wedding\, and possibly the hotel itself. \nThere is also a Sensory-Friendly version playing at the same time down in the Ferguson Theatre!
URL:https://downtownwabash.org/event/tom-jerry/
CATEGORIES:Wabash Community Event
ATTACH;FMTTYPE=image/jpeg:https://downtownwabash.org/wp-content/uploads/EaglesTheatre-e315d7619727d203450c471cba141b67.jpg
END:VEVENT
BEGIN:VEVENT
DTSTART;TZID=America/Indiana/Indianapolis:20220721T173000
DTEND;TZID=America/Indiana/Indianapolis:20220721T190000
DTSTAMP:20260423T200342
CREATED:20220524T191112Z
LAST-MODIFIED:20220524T191112Z
UID:2742-1658424600-1658430000@downtownwabash.org
SUMMARY:Summer BBQ Buffet
DESCRIPTION:Enjoy grilled summer favorites like St. Louis ribs\, bratwurst\, BBQ chicken\, brisket\, summer sides and desserts.
URL:https://downtownwabash.org/event/summer-bbq-buffet/
LOCATION:Wabash\, IN\, 46992\, United States
CATEGORIES:Wabash Community Event
ATTACH;FMTTYPE=image/jpeg:https://downtownwabash.org/wp-content/uploads/ET-Ballroom-9702e30575cf1e632e08433788c67d67.jpg
END:VEVENT
BEGIN:VEVENT
DTSTART;TZID=America/Indiana/Indianapolis:20220722T190000
DTEND;TZID=America/Indiana/Indianapolis:20220722T210000
DTSTAMP:20260423T200342
CREATED:20220622T160356Z
LAST-MODIFIED:20220628T174043Z
UID:3184-1658516400-1658523600@downtownwabash.org
SUMMARY:Thor: Love and Thunder
DESCRIPTION:Thor’s retirement is interrupted by a galactic killer known as Gorr the God Butcher\, who seeks the extinction of the gods. To combat the threat\, Thor enlists the help of King Valkyrie\, Korg and ex-girlfriend Jane Foster\, who – to Thor’s surprise – inexplicably wields his magical hammer\, Mjolnir\, as the Mighty Thor. Together\, they embark upon a harrowing cosmic adventure to uncover the mystery of the God Butcher’s vengeance and stop him before it’s too late.
URL:https://downtownwabash.org/event/thor-love-and-thunder/
CATEGORIES:Wabash Community Event
ATTACH;FMTTYPE=image/jpeg:https://downtownwabash.org/wp-content/uploads/ET-Ferguson-Theatre-a268b121971585d70a2d3bee86147064.jpg
END:VEVENT
BEGIN:VEVENT
DTSTART;TZID=America/Indiana/Indianapolis:20220722T213000
DTEND;TZID=America/Indiana/Indianapolis:20220722T230000
DTSTAMP:20260423T200342
CREATED:20220525T144429Z
LAST-MODIFIED:20220526T204807Z
UID:2788-1658525400-1658530800@downtownwabash.org
SUMMARY:Ferris Bueller's Day Off
DESCRIPTION:Ferris Bueller (Matthew Broderick) has an uncanny skill at cutting classes and getting away with it. Intending to make one last duck-out before graduation\, Ferris calls in sick\, “borrows” a Ferrari\, and embarks on a one-day journey through the streets of Chicago. On Ferris’ trail is high school principal Rooney (Jeffrey Jones)\, determined to catch him in the act.
URL:https://downtownwabash.org/event/ferris-buellers-day-off/
CATEGORIES:Wabash Community Event
ATTACH;FMTTYPE=image/jpeg:https://downtownwabash.org/wp-content/uploads/DriveIn-779e7a909d89e8ccf7b996c3fb9b6c0d.jpg
END:VEVENT
BEGIN:VEVENT
DTSTART;TZID=America/Indiana/Indianapolis:20220723T080000
DTEND;TZID=America/Indiana/Indianapolis:20220723T120000
DTSTAMP:20260423T200342
CREATED:20220216T203128Z
LAST-MODIFIED:20220218T061619Z
UID:1351-1658563200-1658577600@downtownwabash.org
SUMMARY:Downtown Wabash Farmers Market
DESCRIPTION:Spend Saturdays at the Wabash Farmers Market \nStart your weekend at the Wabash Farmers Market with wholesome\, fulfilling\, locally sourced products from some of our most unique vendors in the area. \nFind handmade\, homemade & homegrown products like fresh produce\, organic meats\, homemade ice cream\, hand-poured candles & soaps\, cotton candy\, pottery\, wood & metal works and so much more. \n(All dogs are welcome!)
URL:https://downtownwabash.org/event/downtown-wabash-farmers-market-2022-07-23/
LOCATION:Wabash\, IN\, 46992\, United States
CATEGORIES:Farmers Market
ATTACH;FMTTYPE=image/jpeg:https://downtownwabash.org/wp-content/uploads/Downtown-Wabash-Farmers-Market-19.jpg
END:VEVENT
BEGIN:VEVENT
DTSTART;TZID=America/Indiana/Indianapolis:20220723T150000
DTEND;TZID=America/Indiana/Indianapolis:20220723T170000
DTSTAMP:20260423T200342
CREATED:20220622T160655Z
LAST-MODIFIED:20220628T174052Z
UID:3186-1658588400-1658595600@downtownwabash.org
SUMMARY:Thor: Love and Thunder
DESCRIPTION:Thor’s retirement is interrupted by a galactic killer known as Gorr the God Butcher\, who seeks the extinction of the gods. To combat the threat\, Thor enlists the help of King Valkyrie\, Korg and ex-girlfriend Jane Foster\, who – to Thor’s surprise – inexplicably wields his magical hammer\, Mjolnir\, as the Mighty Thor. Together\, they embark upon a harrowing cosmic adventure to uncover the mystery of the God Butcher’s vengeance and stop him before it’s too late.
URL:https://downtownwabash.org/event/thor-love-and-thunder/
CATEGORIES:Wabash Community Event
ATTACH;FMTTYPE=image/jpeg:https://downtownwabash.org/wp-content/uploads/ET-Ferguson-Theatre-8be9516aaad3c203c0ba2ac4ad4f53c9.jpg
END:VEVENT
BEGIN:VEVENT
DTSTART;TZID=America/Indiana/Indianapolis:20220723T190000
DTEND;TZID=America/Indiana/Indianapolis:20220723T210000
DTSTAMP:20260423T200342
CREATED:20220622T160905Z
LAST-MODIFIED:20220628T174059Z
UID:3188-1658602800-1658610000@downtownwabash.org
SUMMARY:Thor: Love and Thunder
DESCRIPTION:Thor’s retirement is interrupted by a galactic killer known as Gorr the God Butcher\, who seeks the extinction of the gods. To combat the threat\, Thor enlists the help of King Valkyrie\, Korg and ex-girlfriend Jane Foster\, who – to Thor’s surprise – inexplicably wields his magical hammer\, Mjolnir\, as the Mighty Thor. Together\, they embark upon a harrowing cosmic adventure to uncover the mystery of the God Butcher’s vengeance and stop him before it’s too late.
URL:https://downtownwabash.org/event/thor-love-and-thunder/
CATEGORIES:Wabash Community Event
ATTACH;FMTTYPE=image/jpeg:https://downtownwabash.org/wp-content/uploads/ET-Ferguson-Theatre-71e8b650d499ffdb5da963f21c89ba1b.jpg
END:VEVENT
BEGIN:VEVENT
DTSTART;TZID=America/Indiana/Indianapolis:20220723T213000
DTEND;TZID=America/Indiana/Indianapolis:20220723T230000
DTSTAMP:20260423T200342
CREATED:20220525T144623Z
LAST-MODIFIED:20220526T204820Z
UID:2790-1658611800-1658617200@downtownwabash.org
SUMMARY:Willy Wonka & the Chocolate Factory
DESCRIPTION:A sweet boy from a poor family dreams of finding one of five golden tickets hidden inside chocolate bar wrappers which will admit him to the eccentric and reclusive Willy Wonka’s magical factory. One after another\, tickets are discovered by ghastly children – but will the lad find the last remaining one and have all his dreams come true?
URL:https://downtownwabash.org/event/willy-wonka-the-chocolate-factory/
CATEGORIES:Wabash Community Event
ATTACH;FMTTYPE=image/jpeg:https://downtownwabash.org/wp-content/uploads/DriveIn-afe83d2838e5139f7981abdab5bb8f88.jpg
END:VEVENT
BEGIN:VEVENT
DTSTART;TZID=America/Indiana/Indianapolis:20220724T150000
DTEND;TZID=America/Indiana/Indianapolis:20220724T170000
DTSTAMP:20260423T200342
CREATED:20220622T161150Z
LAST-MODIFIED:20220628T174105Z
UID:3190-1658674800-1658682000@downtownwabash.org
SUMMARY:Thor: Love and Thunder
DESCRIPTION:Thor’s retirement is interrupted by a galactic killer known as Gorr the God Butcher\, who seeks the extinction of the gods. To combat the threat\, Thor enlists the help of King Valkyrie\, Korg and ex-girlfriend Jane Foster\, who – to Thor’s surprise – inexplicably wields his magical hammer\, Mjolnir\, as the Mighty Thor. Together\, they embark upon a harrowing cosmic adventure to uncover the mystery of the God Butcher’s vengeance and stop him before it’s too late.
URL:https://downtownwabash.org/event/thor-love-and-thunder/
CATEGORIES:Wabash Community Event
ATTACH;FMTTYPE=image/jpeg:https://downtownwabash.org/wp-content/uploads/ET-Ferguson-Theatre-dea26bbec47692e2082323d03a8c1cff.jpg
END:VEVENT
BEGIN:VEVENT
DTSTART;TZID=America/Indiana/Indianapolis:20220724T193000
DTEND;TZID=America/Indiana/Indianapolis:20220724T213000
DTSTAMP:20260423T200342
CREATED:20220428T150437Z
LAST-MODIFIED:20220509T182800Z
UID:2301-1658691000-1658698200@downtownwabash.org
SUMMARY:Collective Soul & Switchfoot
DESCRIPTION:After more than 25 years of success with hits like “Shine\,” “December\,” and “The World I Know\,” Collective Soul is just getting started with the next phase of a thriving career that has seen them move millions of records and wow multitudes of fans across the globe. The special sonic elixir that fuels Collective Soul’s continued success story is a straightforward one: a profound mixture of insightful songwriting and impeccable band chemistry. \nSWITCHFOOT has sold almost 10-million copies worldwide of their eleven studio albums\, racked up a string of Alternative radio hit singles\, and performed sold-out tours with over 5-million concert tickets sold in over 40 countries around the world. Through their unique blend of emotionally intelligent and uplifting brand of alternative rock\, SWITCHFOOT has earned a devoted and loyal global fanbase.
URL:https://downtownwabash.org/event/collective-soul-switchfoot/
LOCATION:Wabash\, IN\, 46992\, United States
CATEGORIES:Wabash Community Event
ATTACH;FMTTYPE=image/jpeg:https://downtownwabash.org/wp-content/uploads/HC-Ford-Theater-99c52a9e779997b0e250adde5ec8409c.jpg
END:VEVENT
BEGIN:VEVENT
DTSTART;TZID=America/Indiana/Indianapolis:20220725T130000
DTEND;TZID=America/Indiana/Indianapolis:20220725T143000
DTSTAMP:20260423T200342
CREATED:20220527T195117Z
LAST-MODIFIED:20220601T150409Z
UID:2870-1658754000-1658759400@downtownwabash.org
SUMMARY:Peter Rabbit 2
DESCRIPTION:Bea\, Thomas and the rabbits have created a makeshift family\, but despite his best efforts\, Peter can’t seem to shake his mischievous reputation. Venturing out of the garden\, Peter finds himself in a world where his mischief is appreciated. However\, when his family risks everything to come looking for him\, Peter must figure out what kind of bunny he wants to be. \nThere is also a Sensory-Friendly version playing at the same time downstairs in the Ferguson Theatre!
URL:https://downtownwabash.org/event/peter-rabbit-2/
CATEGORIES:Wabash Community Event
ATTACH;FMTTYPE=image/jpeg:https://downtownwabash.org/wp-content/uploads/EaglesTheatre-12d55d0b63a963ed1805d072b668f7a2.jpg
END:VEVENT
BEGIN:VEVENT
DTSTART;TZID=America/Indiana/Indianapolis:20220725T190000
DTEND;TZID=America/Indiana/Indianapolis:20220725T203000
DTSTAMP:20260423T200342
CREATED:20220527T195352Z
LAST-MODIFIED:20220601T150416Z
UID:2872-1658775600-1658781000@downtownwabash.org
SUMMARY:Peter Rabbit 2
DESCRIPTION:Bea\, Thomas and the rabbits have created a makeshift family\, but despite his best efforts\, Peter can’t seem to shake his mischievous reputation. Venturing out of the garden\, Peter finds himself in a world where his mischief is appreciated. However\, when his family risks everything to come looking for him\, Peter must figure out what kind of bunny he wants to be. \nThere is also a Sensory-Friendly version playing at the same time downstairs in the Ferguson Theatre!
URL:https://downtownwabash.org/event/peter-rabbit-2/
CATEGORIES:Wabash Community Event
ATTACH;FMTTYPE=image/jpeg:https://downtownwabash.org/wp-content/uploads/EaglesTheatre-7667d8513f8c0f47bad5a289afb5f627.jpg
END:VEVENT
BEGIN:VEVENT
DTSTART;TZID=America/Indiana/Indianapolis:20220728T193000
DTEND;TZID=America/Indiana/Indianapolis:20220728T213000
DTSTAMP:20260423T200342
CREATED:20220428T190632Z
LAST-MODIFIED:20220509T182754Z
UID:2425-1659036600-1659043800@downtownwabash.org
SUMMARY:Thunderstruck
DESCRIPTION:Thunderstruck expertly recreates the AC/DC live concert experience just the way fans remember it. Each member obsesses over the tones and structures of each song\, the energy of each performance\, as well as every piece of gear\, to bring the power and entertainment of a genuine AC/DC show back to the stage.
URL:https://downtownwabash.org/event/thunderstruck/
LOCATION:Wabash\, IN\, 46992\, United States
CATEGORIES:Wabash Community Event
ATTACH;FMTTYPE=image/jpeg:https://downtownwabash.org/wp-content/uploads/EaglesTheatre-7f9268740ad6e7550d44bd48c484057f.jpg
END:VEVENT
BEGIN:VEVENT
DTSTART;TZID=America/Indiana/Indianapolis:20220729T193000
DTEND;TZID=America/Indiana/Indianapolis:20220729T213000
DTSTAMP:20260423T200342
CREATED:20220428T154258Z
LAST-MODIFIED:20220509T182749Z
UID:2303-1659123000-1659130200@downtownwabash.org
SUMMARY:Arrival From Sweden
DESCRIPTION:ARRIVAL From Sweden is the only ABBA tribute that works with musicians who toured with the original group! They’ve performed ABBA’s chart-topping hits for sold-out crowds around the world. Spot-on vocals combined with the exclusive right to duplicate ABBA’s outfits makes ARRIVAL the most recognized tribute as they perform “Mamma Mia\, “Dancing Queen\, “Take a Chance\,” and many more.
URL:https://downtownwabash.org/event/arrival-from-sweden/
LOCATION:Wabash\, IN\, 46992\, United States
CATEGORIES:Wabash Community Event
ATTACH;FMTTYPE=image/jpeg:https://downtownwabash.org/wp-content/uploads/HC-Ford-Theater-90d962975e286a81c82dec275d66a2be.jpg
END:VEVENT
BEGIN:VEVENT
DTSTART;TZID=America/Indiana/Indianapolis:20220729T213000
DTEND;TZID=America/Indiana/Indianapolis:20220729T230000
DTSTAMP:20260423T200342
CREATED:20220525T173505Z
LAST-MODIFIED:20220526T204829Z
UID:2792-1659130200-1659135600@downtownwabash.org
SUMMARY:Indiana Jones and the Last Crusade
DESCRIPTION:An art collector appeals to Indiana Jones to embark on a search for the Holy Grail. He learns that another archaeologist has disappeared while searching for the precious goblet\, and the missing man is his own father\, Dr. Henry Jones. The artifact is much harder to find than they expected\, and its powers are too much for those impure of heart.
URL:https://downtownwabash.org/event/indiana-jones-and-the-last-crusade/
CATEGORIES:Wabash Community Event
ATTACH;FMTTYPE=image/jpeg:https://downtownwabash.org/wp-content/uploads/DriveIn-c265c857f7a01c40c46792485efbcbd8.jpg
END:VEVENT
BEGIN:VEVENT
DTSTART;TZID=America/Indiana/Indianapolis:20220730T080000
DTEND;TZID=America/Indiana/Indianapolis:20220730T120000
DTSTAMP:20260423T200342
CREATED:20220216T203128Z
LAST-MODIFIED:20220218T061616Z
UID:1352-1659168000-1659182400@downtownwabash.org
SUMMARY:Downtown Wabash Farmers Market
DESCRIPTION:Spend Saturdays at the Wabash Farmers Market \nStart your weekend at the Wabash Farmers Market with wholesome\, fulfilling\, locally sourced products from some of our most unique vendors in the area. \nFind handmade\, homemade & homegrown products like fresh produce\, organic meats\, homemade ice cream\, hand-poured candles & soaps\, cotton candy\, pottery\, wood & metal works and so much more. \n(All dogs are welcome!)
URL:https://downtownwabash.org/event/downtown-wabash-farmers-market-2022-07-30/
LOCATION:Wabash\, IN\, 46992\, United States
CATEGORIES:Farmers Market
ATTACH;FMTTYPE=image/jpeg:https://downtownwabash.org/wp-content/uploads/Downtown-Wabash-Farmers-Market-19.jpg
END:VEVENT
BEGIN:VEVENT
DTSTART;TZID=America/Indiana/Indianapolis:20220730T193000
DTEND;TZID=America/Indiana/Indianapolis:20220730T213000
DTSTAMP:20260423T200342
CREATED:20220428T154349Z
LAST-MODIFIED:20220509T182742Z
UID:2305-1659209400-1659216600@downtownwabash.org
SUMMARY:America
DESCRIPTION:With hits like “A Horse With No Name\,” “I Need You\,” “Ventura Highway\,” and “Lonely People\,” America established itself as a cornerstone on the charts and radio in the 70s. Founding members Gerry Beckley and Dewey Bunnell have toured the world for more than 50 years with their timeless sound.
URL:https://downtownwabash.org/event/america/
LOCATION:Wabash\, IN\, 46992\, United States
CATEGORIES:Wabash Community Event
ATTACH;FMTTYPE=image/jpeg:https://downtownwabash.org/wp-content/uploads/HC-Ford-Theater-3db0ca90a7f5c309048322180a94e218.jpg
END:VEVENT
BEGIN:VEVENT
DTSTART;TZID=America/Indiana/Indianapolis:20220730T213000
DTEND;TZID=America/Indiana/Indianapolis:20220730T230000
DTSTAMP:20260423T200342
CREATED:20220525T180520Z
LAST-MODIFIED:20220526T204840Z
UID:2794-1659216600-1659222000@downtownwabash.org
SUMMARY:Annie
DESCRIPTION:A young orphan girl’s adventures in finding a family that will take her.
URL:https://downtownwabash.org/event/annie/
CATEGORIES:Wabash Community Event
ATTACH;FMTTYPE=image/jpeg:https://downtownwabash.org/wp-content/uploads/DriveIn-eade0ffb31e89f335c6dba991bebcdbe.jpg
END:VEVENT
BEGIN:VEVENT
DTSTART;TZID=America/Indiana/Indianapolis:20220801T130000
DTEND;TZID=America/Indiana/Indianapolis:20220801T143000
DTSTAMP:20260423T200342
CREATED:20220527T200057Z
LAST-MODIFIED:20220601T150421Z
UID:2874-1659358800-1659364200@downtownwabash.org
SUMMARY:Scoob!
DESCRIPTION:With hundreds of cases solved and adventures shared\, Scooby and the gang face their biggest\, most challenging mystery ever — a plot to unleash the ghost dog Cerberus upon the world. As they race to stop this global dog-pocalypse\, the gang discovers that Scooby has a secret legacy and an epic destiny greater than anyone could have imagined. \nThere is also a Sensory-Friendly version playing at the same time downstairs in the Ferguson Theatre!
URL:https://downtownwabash.org/event/scoob/
CATEGORIES:Wabash Community Event
ATTACH;FMTTYPE=image/jpeg:https://downtownwabash.org/wp-content/uploads/EaglesTheatre-ed8d1a75508191e3f58749ed0a8f3467.jpg
END:VEVENT
BEGIN:VEVENT
DTSTART;TZID=America/Indiana/Indianapolis:20220801T190000
DTEND;TZID=America/Indiana/Indianapolis:20220801T203000
DTSTAMP:20260423T200342
CREATED:20220527T200229Z
LAST-MODIFIED:20220601T150428Z
UID:2875-1659380400-1659385800@downtownwabash.org
SUMMARY:Scoob!
DESCRIPTION:With hundreds of cases solved and adventures shared\, Scooby and the gang face their biggest\, most challenging mystery ever — a plot to unleash the ghost dog Cerberus upon the world. As they race to stop this global dog-pocalypse\, the gang discovers that Scooby has a secret legacy and an epic destiny greater than anyone could have imagined. \nThere is also a Sensory-Friendly version playing at the same time downstairs in the Ferguson Theatre!
URL:https://downtownwabash.org/event/scoob/
CATEGORIES:Wabash Community Event
END:VEVENT
BEGIN:VEVENT
DTSTART;TZID=America/Indiana/Indianapolis:20220803T090000
DTEND;TZID=America/Indiana/Indianapolis:20220803T100000
DTSTAMP:20260423T200342
CREATED:20220216T012333Z
LAST-MODIFIED:20220216T204139Z
UID:1141-1659517200-1659520800@downtownwabash.org
SUMMARY:Downtown Wabash Merchant Meetings
DESCRIPTION:The monthly meeting held every first Wednesday for all small businesses in Downtown Wabash to stay current with information from Downtown Wabash\, Inc.
URL:https://downtownwabash.org/event/downtown-wabash-merchant-meetings-6/
LOCATION:Wabash\, IN\, 46992\, United States
CATEGORIES:Merchant Meetings
ATTACH;FMTTYPE=image/jpeg:https://downtownwabash.org/wp-content/uploads/Merchant-Meetings-in-Downtown-Wabash-14.jpg
END:VEVENT
BEGIN:VEVENT
DTSTART;TZID=America/Indiana/Indianapolis:20220803T170000
DTEND;TZID=America/Indiana/Indianapolis:20220803T210000
DTSTAMP:20260423T200342
CREATED:20220706T155105Z
LAST-MODIFIED:20220706T200518Z
UID:3214-1659546000-1659560400@downtownwabash.org
SUMMARY:Wine Down Wednesday
DESCRIPTION:Come to Market Street Grill on the first Wednesday of every month for ~ WINE DOWN WEDNESDAY ~ to get half off select bottles of wine during our dinner hours\, 5-9 pm! 🍷 \n👇 HALF OFF bottles 👇 \nRed\n▪ Sweet Blend\, Gioielli….$10.50 (orig. $21)\n▪ Zinfandel\, Lapis Luna…..$13 (orig. $26)\n▪ Cabernet\, Dell’Italia…..$14 (orig. $28)\n▪ Merlot\, Dell’Italia…..$14 (orig. $28) \nWhite\n▪ Chardonnay\, Lapis Luna…..$12 (orig. $24)\n▪ Sparkling\, Prosecco…..$12.50 (orig. $25)\n▪ Sauvignon Blanc\, Babich…..$13 (orig. $26)\n▪ Moscato\, Bricco Riella…..$16 (orig. $32) \n…relax\, sip\, & enjoy 🥂
URL:https://downtownwabash.org/event/wine-down-wednesday/
CATEGORIES:Wabash Community Event
ATTACH;FMTTYPE=image/png:https://downtownwabash.org/wp-content/uploads/Downtown-Wabash-Event-Submit-09f1083fc3616d7e792ca00e5ebcadf8.png
END:VEVENT
BEGIN:VEVENT
DTSTART;TZID=America/Indiana/Indianapolis:20220804T193000
DTEND;TZID=America/Indiana/Indianapolis:20220804T213000
DTSTAMP:20260423T200342
CREATED:20220428T154444Z
LAST-MODIFIED:20220509T182733Z
UID:2307-1659641400-1659648600@downtownwabash.org
SUMMARY:The Karens
DESCRIPTION:At a time when we occasionally cross paths with insolent “Karens\,” it’s nice to know that some good Karens exist. Comedians Karen Mills and Karen Morgan join together to bring you an evening of comedy filled with lots of laughter and zero toxic behavior. Unlike the other “Karens” in the news\, these Karens are funny (not fractious)\, intelligent (not ignorant)\, and affable (not angry). They bring a different and hilarious point of view to this clever and clean comedy show.
URL:https://downtownwabash.org/event/the-karens/
LOCATION:Wabash\, IN\, 46992\, United States
CATEGORIES:Wabash Community Event
ATTACH;FMTTYPE=image/jpeg:https://downtownwabash.org/wp-content/uploads/EaglesTheatre-276bc100af231e7cbf893448df7ed18b.jpg
END:VEVENT
END:VCALENDAR