BEGIN:VCALENDAR
VERSION:2.0
PRODID:-//Downtown Wabash, Inc. - ECPv6.15.17.1//NONSGML v1.0//EN
CALSCALE:GREGORIAN
METHOD:PUBLISH
X-WR-CALNAME:Downtown Wabash, Inc.
X-ORIGINAL-URL:https://downtownwabash.org
X-WR-CALDESC:Events for Downtown Wabash, Inc.
REFRESH-INTERVAL;VALUE=DURATION:PT1H
X-Robots-Tag:noindex
X-PUBLISHED-TTL:PT1H
BEGIN:VTIMEZONE
TZID:America/Indiana/Indianapolis
BEGIN:DAYLIGHT
TZOFFSETFROM:-0500
TZOFFSETTO:-0400
TZNAME:EDT
DTSTART:20210314T070000
END:DAYLIGHT
BEGIN:STANDARD
TZOFFSETFROM:-0400
TZOFFSETTO:-0500
TZNAME:EST
DTSTART:20211107T060000
END:STANDARD
BEGIN:DAYLIGHT
TZOFFSETFROM:-0500
TZOFFSETTO:-0400
TZNAME:EDT
DTSTART:20220313T070000
END:DAYLIGHT
BEGIN:STANDARD
TZOFFSETFROM:-0400
TZOFFSETTO:-0500
TZNAME:EST
DTSTART:20221106T060000
END:STANDARD
BEGIN:DAYLIGHT
TZOFFSETFROM:-0500
TZOFFSETTO:-0400
TZNAME:EDT
DTSTART:20230312T070000
END:DAYLIGHT
BEGIN:STANDARD
TZOFFSETFROM:-0400
TZOFFSETTO:-0500
TZNAME:EST
DTSTART:20231105T060000
END:STANDARD
BEGIN:DAYLIGHT
TZOFFSETFROM:-0500
TZOFFSETTO:-0400
TZNAME:EDT
DTSTART:20240310T070000
END:DAYLIGHT
BEGIN:STANDARD
TZOFFSETFROM:-0400
TZOFFSETTO:-0500
TZNAME:EST
DTSTART:20241103T060000
END:STANDARD
END:VTIMEZONE
BEGIN:VEVENT
DTSTART;TZID=America/Indiana/Indianapolis:20221210T100000
DTEND;TZID=America/Indiana/Indianapolis:20221210T140000
DTSTAMP:20260424T092556
CREATED:20221206T203956Z
LAST-MODIFIED:20221207T181028Z
UID:3943-1670666400-1670680800@downtownwabash.org
SUMMARY:Meet the Grinch
DESCRIPTION:Meet and greet the Grinch with a fun photo shoot\, decorate cookies\, drink hot chocolate\, and more! Registration is $10 per Y -Member Family and $15 Non-Member Family.
URL:https://downtownwabash.org/event/meet-the-grinch/
CATEGORIES:Holiday Events,Wabash Community Event
END:VEVENT
BEGIN:VEVENT
DTSTART;TZID=America/Indiana/Indianapolis:20221210T180000
DTEND;TZID=America/Indiana/Indianapolis:20221210T210000
DTSTAMP:20260424T092556
CREATED:20221201T175619Z
LAST-MODIFIED:20221207T180946Z
UID:3940-1670695200-1670706000@downtownwabash.org
SUMMARY:Kaleigh M Photography Art Show: Piece Offering
DESCRIPTION:Join us in celebrating a year of being in downtown Wabash with an evening of curated art\, light refreshments & conversation in the Studio.
URL:https://downtownwabash.org/event/kaleigh-m-photography-art-show-piece-offering/
CATEGORIES:Holiday Events,Wabash Community Event
ATTACH;FMTTYPE=image/jpeg:https://downtownwabash.org/wp-content/uploads/kaleigh-m-44a48f4200af803d5a185f593bd78398.jpg
END:VEVENT
BEGIN:VEVENT
DTSTART;TZID=America/Indiana/Indianapolis:20221210T190000
DTEND;TZID=America/Indiana/Indianapolis:20221210T220000
DTSTAMP:20260424T092556
CREATED:20220812T160340Z
LAST-MODIFIED:20220812T173756Z
UID:3479-1670698800-1670709600@downtownwabash.org
SUMMARY:LIVE MUSIC: Dakota Parker
DESCRIPTION:Dakota Ray Parker performs many varieties of music including classic country (Merle Haggard\, Hank Williams\, Johnny Cash)\, some classic rock (Neil Diamond\, Eric Clapton\, Bruce Springsteen)\, Folk music (The Avett Brothers\, Bob Dylan\, Tom T Hall)\, Elvis Presley\, Adele\, Justin Bieber and so much more. He also writes his own music with more than 35 original songs. He won The Voice of Wabash County in 2018 and opened for Aaron Barker at the Eagles Theater.
URL:https://downtownwabash.org/event/dakota-parker/
CATEGORIES:Wabash Community Event
ATTACH;FMTTYPE=image/jpeg:https://downtownwabash.org/wp-content/uploads/Dakota-Parker-2021-9fdafa9643b8586a2afefd5a56998092.jpg
END:VEVENT
BEGIN:VEVENT
DTSTART;TZID=America/Indiana/Indianapolis:20221210T193000
DTEND;TZID=America/Indiana/Indianapolis:20221210T103000
DTSTAMP:20260424T092556
CREATED:20220922T151203Z
LAST-MODIFIED:20221026T024806Z
UID:3621-1670700600-1670668200@downtownwabash.org
SUMMARY:Sidewalk Prophets\, Great Big Family Christmas
DESCRIPTION:Join Dove Award-winning band Sidewalk Prophets as they welcome you out of the winter cold and into the warmth of the Great Big Family Room. The night features an immersive Christmas concert experience featuring the band’s original Christmas music\, classics you know and love\, and some surprises too!
URL:https://downtownwabash.org/event/sidewalk-prophets-great-big-family-christmas/
CATEGORIES:Holiday Events,Wabash Community Event
ATTACH;FMTTYPE=image/jpeg:https://downtownwabash.org/wp-content/uploads/Sidewalk-Prophets-a69b28d8d2930fa6a5b3d2917b6c5bc7.jpg
END:VEVENT
BEGIN:VEVENT
DTSTART;TZID=America/Indiana/Indianapolis:20221211T103000
DTEND;TZID=America/Indiana/Indianapolis:20221211T120000
DTSTAMP:20260424T092556
CREATED:20221018T180920Z
LAST-MODIFIED:20221026T024756Z
UID:3750-1670754600-1670760000@downtownwabash.org
SUMMARY:Brunch with Santa
DESCRIPTION:Join us for our brunch buffet featuring a carving station\, lunch entrees\, breakfast classics\, a dessert bar\, and a very special visitor! This sells out quickly – buy early to guarantee your seat.
URL:https://downtownwabash.org/event/brunch-with-santa/
CATEGORIES:Holiday Events,Wabash Community Event
ATTACH;FMTTYPE=image/jpeg:https://downtownwabash.org/wp-content/uploads/HC-Eugenias-2938d73603b7b249070adeb64f48fded.jpg
END:VEVENT
BEGIN:VEVENT
DTSTART;TZID=America/Indiana/Indianapolis:20221213T120000
DTEND;TZID=America/Indiana/Indianapolis:20221213T130000
DTSTAMP:20260424T092556
CREATED:20220307T060822Z
LAST-MODIFIED:20220307T063755Z
UID:1760-1670932800-1670936400@downtownwabash.org
SUMMARY:Board Meeting - December 2022
DESCRIPTION:
URL:https://downtownwabash.org/event/board-meeting-december-2022/
LOCATION:Wabash\, IN\, 46992\, United States
CATEGORIES:Board Member Meeting
ORGANIZER;CN="Downtown Wabash":MAILTO:(260) 563-0975
END:VEVENT
BEGIN:VEVENT
DTSTART;TZID=America/Indiana/Indianapolis:20221213T190000
DTEND;TZID=America/Indiana/Indianapolis:20221213T190000
DTSTAMP:20260424T092556
CREATED:20221116T154941Z
LAST-MODIFIED:20221116T155926Z
UID:3865-1670958000-1670958000@downtownwabash.org
SUMMARY:A Christmas Story
DESCRIPTION:Join us at Eagles Theatre on select dates this holiday season for throwback movies.
URL:https://downtownwabash.org/event/a-christmas-story/
CATEGORIES:Holiday Events,Wabash Community Event
ATTACH;FMTTYPE=image/jpeg:https://downtownwabash.org/wp-content/uploads/ET-Eagles-Theatre-e1c6c469538b82b45ccddab7a32d6861.jpg
END:VEVENT
BEGIN:VEVENT
DTSTART;TZID=America/Indiana/Indianapolis:20221214T180000
DTEND;TZID=America/Indiana/Indianapolis:20221214T200000
DTSTAMP:20260424T092556
CREATED:20221122T042736Z
LAST-MODIFIED:20221122T210001Z
UID:3918-1671040800-1671048000@downtownwabash.org
SUMMARY:Canvas painting with echo gallery
DESCRIPTION:Come join us and the echo gallery with instructions on how to paint a beautiful winter themed canvas as well as make a customized sugar scrub while enjoying an adult beverage of choice (for those 21+ only)
URL:https://downtownwabash.org/event/canvas-painting-with-echo-gallery/
CATEGORIES:Holiday Events,Wabash Community Event
ATTACH;FMTTYPE=image/jpeg:https://downtownwabash.org/wp-content/uploads/E1B2CE72-BA92-4A42-8538-435B879E8569-07e8cfda518e4c8362ed38d5896172e4.jpeg
END:VEVENT
BEGIN:VEVENT
DTSTART;TZID=America/Indiana/Indianapolis:20221215T193000
DTEND;TZID=America/Indiana/Indianapolis:20221215T213000
DTSTAMP:20260424T092556
CREATED:20220615T141540Z
LAST-MODIFIED:20221026T024751Z
UID:3121-1671132600-1671139800@downtownwabash.org
SUMMARY:A Charlie Brown Christmas - Live on Stage!
DESCRIPTION:Everyone’s favorite holiday classic comes to life in this spectacular new tour! Adapted from Charles M. Schulz’s timeless story and featuring the music of Vince Guaraldi\, A Charlie Brown Christmas is a present the whole family can enjoy. Join Charlie Brown\, Snoopy\, Lucy\, Linus\, and the whole Peanuts gang as they sing\, dance\, and learn the true meaning of Christmas. \nShow night dining available
URL:https://downtownwabash.org/event/a-charlie-brown-christmas-live-on-stage/
CATEGORIES:Holiday Events,Wabash Community Event
ATTACH;FMTTYPE=image/jpeg:https://downtownwabash.org/wp-content/uploads/HC-Ford-Theater-04a4c8ba36859aa1c7de84c1c3efabd3.jpg
END:VEVENT
BEGIN:VEVENT
DTSTART;TZID=America/Indiana/Indianapolis:20221217T160000
DTEND;TZID=America/Indiana/Indianapolis:20221217T210000
DTSTAMP:20260424T092556
CREATED:20221206T204117Z
LAST-MODIFIED:20221207T181037Z
UID:3944-1671292800-1671310800@downtownwabash.org
SUMMARY:Parents' Night Out
DESCRIPTION:Finish your shopping or just enjoy a night of quiet before the hustle and bustle of the holidays. Your child will enjoy games\, watch a movie\, and more. Child must be potty trained. Dinner is provided.  Two age groups: 3-5 years old and 6-12 years old. \n$20 Y-member per child and $30 Non-member per child. Registration ends two days prior to the event.
URL:https://downtownwabash.org/event/parents-night-out/
CATEGORIES:Holiday Events,Wabash Community Event
END:VEVENT
BEGIN:VEVENT
DTSTART;TZID=America/Indiana/Indianapolis:20221217T170000
DTEND;TZID=America/Indiana/Indianapolis:20221217T200000
DTSTAMP:20260424T092556
CREATED:20221201T174946Z
LAST-MODIFIED:20221201T174946Z
UID:3937-1671296400-1671307200@downtownwabash.org
SUMMARY:Living Creche
DESCRIPTION:Three live shows outside each hour with animals\, music\, and beautiful costumes. View from your car or from the sidewalk. Come enjoy this free holiday event and experience the true meaning of Christmas. Free Public Event in conjunction with Lights at Paradise\, walk-through light display at Paradise Spring Historical Park.
URL:https://downtownwabash.org/event/living-creche/
LOCATION:Wabash\, IN\, 46992\, United States
CATEGORIES:Holiday Events,Wabash Community Event
ATTACH;FMTTYPE=image/jpeg:https://downtownwabash.org/wp-content/uploads/Living-Creche-2022-fd0f3c04f9d0651dd9c34334dca8a0aa.jpg
END:VEVENT
BEGIN:VEVENT
DTSTART;TZID=America/Indiana/Indianapolis:20221217T190000
DTEND;TZID=America/Indiana/Indianapolis:20221217T220000
DTSTAMP:20260424T092556
CREATED:20220812T162808Z
LAST-MODIFIED:20220812T173923Z
UID:3495-1671303600-1671314400@downtownwabash.org
SUMMARY:LIVE MUSIC: Mike Almon
DESCRIPTION:With more than 300 shows scheduled each year\, Mike Almon has been playing guitar and writing music since he was 14. This year he plans to release his first studio-recorded album “Had a Good Run” featuring a mix of his originals\, along with two bonus track parodies “Last Fence” and “Detour Land.”
URL:https://downtownwabash.org/event/mike-almon/
CATEGORIES:Wabash Community Event
ATTACH;FMTTYPE=image/jpeg:https://downtownwabash.org/wp-content/uploads/Mike-Almon-2021-932c51535516f77dea3045c695429262.jpg
END:VEVENT
BEGIN:VEVENT
DTSTART;TZID=America/Indiana/Indianapolis:20221218T150000
DTEND;TZID=America/Indiana/Indianapolis:20221218T170000
DTSTAMP:20260424T092556
CREATED:20220615T133851Z
LAST-MODIFIED:20221026T024744Z
UID:3103-1671375600-1671382800@downtownwabash.org
SUMMARY:Mannheim Steamroller Christmas
DESCRIPTION:Mannheim Steamroller Christmas by Chip Davis has been America’s favorite holiday tradition for over 35 years! Grammy Award winner Chip Davis has created a dazzling\, multimedia show featuring both classic songs and a selection of compositions from Chip’s groundbreaking Fresh Aire series\, which introduced the distinctive Mannheim sound to all of America. Experience the magic and spirit of the holiday season with the signature sound of Mannheim Steamroller!
URL:https://downtownwabash.org/event/mannheim-steamroller-christmas/
CATEGORIES:Holiday Events,Wabash Community Event
ATTACH;FMTTYPE=image/jpeg:https://downtownwabash.org/wp-content/uploads/HC-Ford-Theater-544a99d66d0e0835a461e744d3b7e119.jpg
END:VEVENT
BEGIN:VEVENT
DTSTART;TZID=America/Indiana/Indianapolis:20221218T193000
DTEND;TZID=America/Indiana/Indianapolis:20221218T213000
DTSTAMP:20260424T092556
CREATED:20220615T134146Z
LAST-MODIFIED:20221026T024739Z
UID:3105-1671391800-1671399000@downtownwabash.org
SUMMARY:Mannheim Steamroller Christmas
DESCRIPTION:Mannheim Steamroller Christmas by Chip Davis has been America’s favorite holiday tradition for over 35 years! Grammy Award winner Chip Davis has created a dazzling\, multimedia show featuring both classic songs and a selection of compositions from Chip’s groundbreaking Fresh Aire series\, which introduced the distinctive Mannheim sound to all of America. Experience the magic and spirit of the holiday season with the signature sound of Mannheim Steamroller!
URL:https://downtownwabash.org/event/mannheim-steamroller-christmas/
CATEGORIES:Holiday Events,Wabash Community Event
ATTACH;FMTTYPE=image/jpeg:https://downtownwabash.org/wp-content/uploads/HC-Ford-Theater-e6eca0bb095c7c00c293df2ddd5ca828.jpg
END:VEVENT
BEGIN:VEVENT
DTSTART;TZID=America/Indiana/Indianapolis:20221219T180000
DTEND;TZID=America/Indiana/Indianapolis:20221219T200000
DTSTAMP:20260424T092556
CREATED:20221206T204208Z
LAST-MODIFIED:20221207T181048Z
UID:3945-1671472800-1671480000@downtownwabash.org
SUMMARY:Meet Santa and his Reindeer
DESCRIPTION:Say hi to Santa and meet his Reindeer from the North Pole! This event is FREE!
URL:https://downtownwabash.org/event/meet-santa-and-his-reindeer/
CATEGORIES:Holiday Events,Wabash Community Event
END:VEVENT
BEGIN:VEVENT
DTSTART;TZID=America/Indiana/Indianapolis:20221220T190000
DTEND;TZID=America/Indiana/Indianapolis:20221220T190000
DTSTAMP:20260424T092556
CREATED:20221116T155629Z
LAST-MODIFIED:20221116T155934Z
UID:3869-1671562800-1671562800@downtownwabash.org
SUMMARY:The Grinch (2018)
DESCRIPTION:Join us at Eagles Theatre on select dates this holiday season for throwback movies.
URL:https://downtownwabash.org/event/the-grinch-2018/
CATEGORIES:Holiday Events,Wabash Community Event
ATTACH;FMTTYPE=image/jpeg:https://downtownwabash.org/wp-content/uploads/ET-Eagles-Theatre-acae6b96169ece50fc0f592aca167851.jpg
END:VEVENT
BEGIN:VEVENT
DTSTART;TZID=America/Indiana/Indianapolis:20221220T193000
DTEND;TZID=America/Indiana/Indianapolis:20221220T213000
DTSTAMP:20260424T092556
CREATED:20220615T141723Z
LAST-MODIFIED:20221026T024734Z
UID:3123-1671564600-1671571800@downtownwabash.org
SUMMARY:Fort Wayne Phil Holiday Pops
DESCRIPTION:Take a journey through the winter wonderlands and traditional Christmases of bygone days right up to the present\, in an entertaining concert of traditional and contemporary favorites. \nShow night dining available
URL:https://downtownwabash.org/event/fort-wayne-phil-holiday-pops/
CATEGORIES:Holiday Events,Wabash Community Event
ATTACH;FMTTYPE=image/jpeg:https://downtownwabash.org/wp-content/uploads/HC-Ford-Theater-73890437a96a140c1fae87148c5a7b6d.jpg
END:VEVENT
BEGIN:VEVENT
DTSTART;TZID=America/Indiana/Indianapolis:20221222T193000
DTEND;TZID=America/Indiana/Indianapolis:20221222T213000
DTSTAMP:20260424T092556
CREATED:20220725T183042Z
LAST-MODIFIED:20221026T024729Z
UID:3363-1671737400-1671744600@downtownwabash.org
SUMMARY:Deck the Halls with Disney featuring DCappella
DESCRIPTION:Disney Concerts presents Deck the Halls with Disney featuring DCappella. Delight in a family night-out set to the magical and musical sounds of Disney’s premier a cappella singing sensation DCappella! Kick off the holiday season as DCappella takes you through a musical journey featuring all of your favorite holiday songs PLUS Disney’s greatest hits from Encanto\, The Little Mermaid\, The Lion King\, Frozen\, Moana\, and much more! \nShow night dining available \nMost seats $29\, $40 \nLimited premium seating $75 \nVIP packages available*
URL:https://downtownwabash.org/event/deck-the-halls-with-disney-featuring-dcappella/
CATEGORIES:Holiday Events,Wabash Community Event
ATTACH;FMTTYPE=image/jpeg:https://downtownwabash.org/wp-content/uploads/HC-Ford-Theater-18fa6f227de96027bd3544d07b74b7d4.jpg
END:VEVENT
BEGIN:VEVENT
DTSTART;TZID=America/Indiana/Indianapolis:20230107T140000
DTEND;TZID=America/Indiana/Indianapolis:20230107T160000
DTSTAMP:20260424T092556
CREATED:20221018T153909Z
LAST-MODIFIED:20221026T024602Z
UID:3735-1673100000-1673107200@downtownwabash.org
SUMMARY:Steel Magnolias
DESCRIPTION:Fire Line Productions of Wabash features local talent as they bring your favorite characters from the 1989 film to life on stage in this comedy turned drama. Make yourself at home at Truvy’s beauty salon\, where all the ladies who are “anybody” come to have their hair done. The laughs and wit quickly subside when the sudden realization of their mortality sets in after the death of a beloved character\, but also draws on the underlying strength – and love – which give the play and its characters the special quality to make them truly touching\, funny\, and marvelously amiable company in good times and bad.
URL:https://downtownwabash.org/event/steel-magnolias/
CATEGORIES:Wabash Community Event
ATTACH;FMTTYPE=image/jpeg:https://downtownwabash.org/wp-content/uploads/EaglesTheatre-9bc306e6b9c10395588efba04a07090c.jpg
END:VEVENT
BEGIN:VEVENT
DTSTART;TZID=America/Indiana/Indianapolis:20230107T190000
DTEND;TZID=America/Indiana/Indianapolis:20230107T220000
DTSTAMP:20260424T092556
CREATED:20221209T160306Z
LAST-MODIFIED:20221212T153636Z
UID:3951-1673118000-1673128800@downtownwabash.org
SUMMARY:Frank Bradford
DESCRIPTION:Frank Bradford is a musician and singer who has played in many legendary Indiana based acts. He has played with The Wright Brothers\, Carl Storie and has been guest Lead Vocalist for Roadmaster. He continues to play 175+ solo performances a year throughout the state and delivers a variety of music from Classic Rock to Modern Pop.
URL:https://downtownwabash.org/event/frank-bradford/
CATEGORIES:Wabash Community Event
ATTACH;FMTTYPE=image/jpeg:https://downtownwabash.org/wp-content/uploads/Frank-Bradford-1-d9c93361e011bd60c28fe1dfdebb3d36.jpg
END:VEVENT
BEGIN:VEVENT
DTSTART;TZID=America/Indiana/Indianapolis:20230107T193000
DTEND;TZID=America/Indiana/Indianapolis:20230107T213000
DTSTAMP:20260424T092556
CREATED:20221018T154033Z
LAST-MODIFIED:20221026T024609Z
UID:3737-1673119800-1673127000@downtownwabash.org
SUMMARY:Steel Magnolias
DESCRIPTION:Fire Line Productions of Wabash features local talent as they bring your favorite characters from the 1989 film to life on stage in this comedy turned drama. Make yourself at home at Truvy’s beauty salon\, where all the ladies who are “anybody” come to have their hair done. The laughs and wit quickly subside when the sudden realization of their mortality sets in after the death of a beloved character\, but also draws on the underlying strength – and love – which give the play and its characters the special quality to make them truly touching\, funny\, and marvelously amiable company in good times and bad.
URL:https://downtownwabash.org/event/steel-magnolias/
CATEGORIES:Wabash Community Event
ATTACH;FMTTYPE=image/jpeg:https://downtownwabash.org/wp-content/uploads/EaglesTheatre-726d459478db828977598ea2f6718f8d.jpg
END:VEVENT
BEGIN:VEVENT
DTSTART;TZID=America/Indiana/Indianapolis:20230107T193000
DTEND;TZID=America/Indiana/Indianapolis:20230107T193000
DTSTAMP:20260424T092556
CREATED:20221018T174719Z
LAST-MODIFIED:20221026T024615Z
UID:3739-1673119800-1673119800@downtownwabash.org
SUMMARY:Steel Magnolias
DESCRIPTION:Fire Line Productions of Wabash features local talent as they bring your favorite characters from the 1989 film to life on stage in this comedy turned drama. Make yourself at home at Truvy’s beauty salon\, where all the ladies who are “anybody” come to have their hair done. The laughs and wit quickly subside when the sudden realization of their mortality sets in after the death of a beloved character\, but also draws on the underlying strength – and love – which give the play and its characters the special quality to make them truly touching\, funny\, and marvelously amiable company in good times and bad.
URL:https://downtownwabash.org/event/steel-magnolias/
CATEGORIES:Wabash Community Event
ATTACH;FMTTYPE=image/jpeg:https://downtownwabash.org/wp-content/uploads/EaglesTheatre-99e68b1b4e78494c1ebe83698fe96219.jpg
END:VEVENT
BEGIN:VEVENT
DTSTART;TZID=America/Indiana/Indianapolis:20230108T140000
DTEND;TZID=America/Indiana/Indianapolis:20230108T160000
DTSTAMP:20260424T092556
CREATED:20221018T174850Z
LAST-MODIFIED:20221026T024622Z
UID:3741-1673186400-1673193600@downtownwabash.org
SUMMARY:Steel Magnolias
DESCRIPTION:Fire Line Productions of Wabash features local talent as they bring your favorite characters from the 1989 film to life on stage in this comedy turned drama. Make yourself at home at Truvy’s beauty salon\, where all the ladies who are “anybody” come to have their hair done. The laughs and wit quickly subside when the sudden realization of their mortality sets in after the death of a beloved character\, but also draws on the underlying strength – and love – which give the play and its characters the special quality to make them truly touching\, funny\, and marvelously amiable company in good times and bad.
URL:https://downtownwabash.org/event/steel-magnolias/
CATEGORIES:Wabash Community Event
ATTACH;FMTTYPE=image/jpeg:https://downtownwabash.org/wp-content/uploads/EaglesTheatre-c68d17911ca1e717984e0b34d9c67e9d.jpg
END:VEVENT
BEGIN:VEVENT
DTSTART;TZID=America/Indiana/Indianapolis:20230110T150000
DTEND;TZID=America/Indiana/Indianapolis:20230110T170000
DTSTAMP:20260424T092556
CREATED:20230105T193008Z
LAST-MODIFIED:20230105T193950Z
UID:4088-1673362800-1673370000@downtownwabash.org
SUMMARY:January Board Meeting: Special Agenda
DESCRIPTION:
URL:https://downtownwabash.org/event/january-board-meeting-special-agenda/
LOCATION:Wabash\, IN\, 46992\, United States
CATEGORIES:Board Member Meeting
ORGANIZER;CN="Downtown Wabash":MAILTO:(260) 563-0975
END:VEVENT
BEGIN:VEVENT
DTSTART;TZID=America/Indiana/Indianapolis:20230114T190000
DTEND;TZID=America/Indiana/Indianapolis:20230114T220000
DTSTAMP:20260424T092556
CREATED:20221209T173225Z
LAST-MODIFIED:20221212T153645Z
UID:3955-1673722800-1673733600@downtownwabash.org
SUMMARY:Dakota Parker
DESCRIPTION:Dakota Ray Parker performs many varieties of music including classic country (Merle Haggard\, Hank Williams\, Johnny Cash)\, some classic rock (Neil Diamond\, Eric Clapton\, Bruce Springsteen)\, Folk music (The Avett Brothers\, Bob Dylan\, Tom T Hall)\, Elvis Presley\, Adele\, Justin Bieber and so much more. He also writes his own music with more than 35 original songs. He won The Voice of Wabash County in 2018 and opened for Aaron Barker at the Eagles Theater.
URL:https://downtownwabash.org/event/dakota-parker/
CATEGORIES:Wabash Community Event
ATTACH;FMTTYPE=image/jpeg:https://downtownwabash.org/wp-content/uploads/Dakota-Parker-2021-a7b8b47b93eacc4c5299f4ebe3e807b1.jpg
END:VEVENT
BEGIN:VEVENT
DTSTART;TZID=America/Indiana/Indianapolis:20230119T190000
DTEND;TZID=America/Indiana/Indianapolis:20230119T210000
DTSTAMP:20260424T092556
CREATED:20221209T201153Z
LAST-MODIFIED:20221212T153703Z
UID:3995-1674154800-1674162000@downtownwabash.org
SUMMARY:WACTout Variety Show presented by Wabash Area Community Theater
DESCRIPTION:“Wabash Area Community Theater is ready to entertain the masses at our very first show in the new Eagles Theater with A WACT Out Variety Show!  Singing\, Dancing\, Music\, and more!  WACT is proud to bring back several area entertainers from recent WACT plays and musicals.  Some performances are new to WACT while others are reprisals from recent WACT hits including Sister Act\, Guys and Dolls\, and Mama Mia!  This presentation is one night only at the legendary Eagles Theater on January 19th at 7PM.  Doors open at 6PM.  All tickets are $15 and can be purchased at the door on the night of the show or in advance from the Honeywell Center Box Office or on line at www.honeywellarts.org.  Get your tickets today!”
URL:https://downtownwabash.org/event/wactout-variety-show-presented-by-wabash-area-community-theater/
CATEGORIES:Wabash Community Event
END:VEVENT
BEGIN:VEVENT
DTSTART;TZID=America/Indiana/Indianapolis:20230120T183000
DTEND;TZID=America/Indiana/Indianapolis:20230120T203000
DTSTAMP:20260424T092556
CREATED:20220914T170814Z
LAST-MODIFIED:20220915T143219Z
UID:3592-1674239400-1674246600@downtownwabash.org
SUMMARY:Mark Honeywell Birthday Dinner
DESCRIPTION:Join us as we celebrate Mr. Honeywell’s 148th birthday with an evening of Scottish music\, dancing\, food\, and poetry. Slàinte! Menu: cock-a-leekie (chicken\, leek\, and rice soup) roast beef with neeps and tatties (mashed turnips and potatoes) cranachan (raspberry trifle). $45 per person – tax and gratuity included.
URL:https://downtownwabash.org/event/mark-honeywell-birthday-dinner/
CATEGORIES:Wabash Community Event
ATTACH;FMTTYPE=image/jpeg:https://downtownwabash.org/wp-content/uploads/HoneywellHouse-34d8cd36fb368bba2d99eefac17f23cb.jpg
END:VEVENT
BEGIN:VEVENT
DTSTART;TZID=America/Indiana/Indianapolis:20230121T190000
DTEND;TZID=America/Indiana/Indianapolis:20230121T220000
DTSTAMP:20260424T092556
CREATED:20221209T173849Z
LAST-MODIFIED:20221212T153711Z
UID:3965-1674327600-1674338400@downtownwabash.org
SUMMARY:Abbie Thomas
DESCRIPTION:Influenced by an eclectic mix\, from The Beatles and Karen Carpenter\, to Lauren Hill and John Mayer\, singer songwriter with a pop-soul flair\, Abbie Thomas mixes catchy melodies with hard-hitting\, life inspired lyrics. She was a songwriting finalist at The Acorn Theater in June 2019\, and is now building a resume as an opening act for touring musicians (ex. Callaghan\, Billy Gilman). Thomas released her first of a series of singles\, “Those 3 Words” in April 2020\, available on iTunes and Spotify. In May 2022\, she released her first self-produced EP “Dirty Little Things.”
URL:https://downtownwabash.org/event/abbie-thomas/
CATEGORIES:Wabash Community Event
ATTACH;FMTTYPE=image/jpeg:https://downtownwabash.org/wp-content/uploads/Abbie-Thomas-3-9649020bf5c5f0349e59cafa30722ed5.jpg
END:VEVENT
BEGIN:VEVENT
DTSTART;TZID=America/Indiana/Indianapolis:20230121T190000
DTEND;TZID=America/Indiana/Indianapolis:20230121T220000
DTSTAMP:20260424T092556
CREATED:20221209T182750Z
LAST-MODIFIED:20221212T153717Z
UID:3967-1674327600-1674338400@downtownwabash.org
SUMMARY:Abbie Thomas
DESCRIPTION:Influenced by an eclectic mix\, from The Beatles and Karen Carpenter\, to Lauren Hill and John Mayer\, singer songwriter with a pop-soul flair\, Abbie Thomas mixes catchy melodies with… See more
URL:https://downtownwabash.org/event/abbie-thomas/
CATEGORIES:Wabash Community Event
ATTACH;FMTTYPE=image/jpeg:https://downtownwabash.org/wp-content/uploads/Abbie-Thomas-3-e7c230fe42a82193ad381be7df87c0aa.jpg
END:VEVENT
BEGIN:VEVENT
DTSTART;TZID=America/Indiana/Indianapolis:20230121T193000
DTEND;TZID=America/Indiana/Indianapolis:20230121T213000
DTSTAMP:20260424T092556
CREATED:20220615T141938Z
LAST-MODIFIED:20220616T150148Z
UID:3125-1674329400-1674336600@downtownwabash.org
SUMMARY:Dean Z - The Ultimate Elvis
DESCRIPTION:If you love the king of rock and roll\, you’ll be blown away by Dean Z! He’s performed around the world for nearly two decades\, and even received the honor of being named World’s Greatest Elvis Tribute by Elvis Presley Enterprises. Join us for an evening of music from all eras of Elvis’ legendary career. \nShow night dining available
URL:https://downtownwabash.org/event/dean-z-the-ultimate-elvis/
CATEGORIES:Wabash Community Event
ATTACH;FMTTYPE=image/jpeg:https://downtownwabash.org/wp-content/uploads/HC-Ford-Theater-a50a718bc1d824849be31e3797ceef25.jpg
END:VEVENT
END:VCALENDAR