BEGIN:VCALENDAR
VERSION:2.0
PRODID:-//Downtown Wabash, Inc. - ECPv6.15.17.1//NONSGML v1.0//EN
CALSCALE:GREGORIAN
METHOD:PUBLISH
X-WR-CALNAME:Downtown Wabash, Inc.
X-ORIGINAL-URL:https://downtownwabash.org
X-WR-CALDESC:Events for Downtown Wabash, Inc.
REFRESH-INTERVAL;VALUE=DURATION:PT1H
X-Robots-Tag:noindex
X-PUBLISHED-TTL:PT1H
BEGIN:VTIMEZONE
TZID:America/Indiana/Indianapolis
BEGIN:DAYLIGHT
TZOFFSETFROM:-0500
TZOFFSETTO:-0400
TZNAME:EDT
DTSTART:20210314T070000
END:DAYLIGHT
BEGIN:STANDARD
TZOFFSETFROM:-0400
TZOFFSETTO:-0500
TZNAME:EST
DTSTART:20211107T060000
END:STANDARD
BEGIN:DAYLIGHT
TZOFFSETFROM:-0500
TZOFFSETTO:-0400
TZNAME:EDT
DTSTART:20220313T070000
END:DAYLIGHT
BEGIN:STANDARD
TZOFFSETFROM:-0400
TZOFFSETTO:-0500
TZNAME:EST
DTSTART:20221106T060000
END:STANDARD
BEGIN:DAYLIGHT
TZOFFSETFROM:-0500
TZOFFSETTO:-0400
TZNAME:EDT
DTSTART:20230312T070000
END:DAYLIGHT
BEGIN:STANDARD
TZOFFSETFROM:-0400
TZOFFSETTO:-0500
TZNAME:EST
DTSTART:20231105T060000
END:STANDARD
END:VTIMEZONE
BEGIN:VEVENT
DTSTART;TZID=America/Indiana/Indianapolis:20221110T173000
DTEND;TZID=America/Indiana/Indianapolis:20221110T183000
DTSTAMP:20260424T081116
CREATED:20220307T060737Z
LAST-MODIFIED:20220913T172953Z
UID:1759-1668101400-1668105000@downtownwabash.org
SUMMARY:Board Meeting - November 2022
DESCRIPTION:
URL:https://downtownwabash.org/event/board-meeting-november-2022/
LOCATION:Wabash\, IN\, 46992\, United States
CATEGORIES:Board Member Meeting
ATTACH;FMTTYPE=image/jpeg:https://downtownwabash.org/wp-content/uploads/annual-board-meeting.jpg
ORGANIZER;CN="Downtown Wabash":MAILTO:(260) 563-0975
END:VEVENT
BEGIN:VEVENT
DTSTART;TZID=America/Indiana/Indianapolis:20221110T190000
DTEND;TZID=America/Indiana/Indianapolis:20221110T200000
DTSTAMP:20260424T081116
CREATED:20220914T165844Z
LAST-MODIFIED:20220915T143146Z
UID:3582-1668106800-1668110400@downtownwabash.org
SUMMARY:The Victory Vertical Project
DESCRIPTION:The Victory Vertical Project uses descriptive vignettes accompanied by piano music in many styles – classical\, popular\, boogie-woogie\, jazz\, and movie soundtracks – to bring to life a remarkable account of courage\, solidarity\, and the power of music. Garik Pedersen\, a Steinway artist\, performs music by a varied and extensive list of composers to provide fascinating\, beautiful\, and moving glimpses into the war that\, more than any other\, united us as a people with a common purpose. The Victory Vertical Project celebrates the power of music to lift morale\, bring people together\, provide physical and mental healing\, and instill a profound sense of purpose.
URL:https://downtownwabash.org/event/the-victory-vertical-project/
CATEGORIES:Wabash Community Event
ATTACH;FMTTYPE=image/jpeg:https://downtownwabash.org/wp-content/uploads/HoneywellHouse-e7ccbc79d0b0efd0ec6461da89cba8a1.jpg
END:VEVENT
BEGIN:VEVENT
DTSTART;TZID=America/Indiana/Indianapolis:20221110T193000
DTEND;TZID=America/Indiana/Indianapolis:20221110T220000
DTSTAMP:20260424T081116
CREATED:20220810T214235Z
LAST-MODIFIED:20220811T142455Z
UID:3438-1668108600-1668117600@downtownwabash.org
SUMMARY:The Karens
DESCRIPTION:At a time when we occasionally cross paths with insolent “Karens\,” it’s nice to know that some good Karens exist. Comedians Karen Mills and Karen Morgan join together to bring you an evening of comedy filled with lots of laughter and zero toxic behavior. Unlike the other “Karens” in the news\, these Karens are funny (not fractious)\, intelligent (not ignorant)\, and affable (not angry). They bring a different and hilarious point of view to this clever and clean comedy show.
URL:https://downtownwabash.org/event/the-karens/
CATEGORIES:Wabash Community Event
ATTACH;FMTTYPE=image/jpeg:https://downtownwabash.org/wp-content/uploads/EaglesTheatre-9dc00d57aae8294ce3b9e6beff4785f9.jpg
END:VEVENT
BEGIN:VEVENT
DTSTART;TZID=America/Indiana/Indianapolis:20221110T193000
DTEND;TZID=America/Indiana/Indianapolis:20221110T220000
DTSTAMP:20260424T081116
CREATED:20220914T170156Z
LAST-MODIFIED:20220915T143152Z
UID:3584-1668108600-1668117600@downtownwabash.org
SUMMARY:YES - Close to the Edge 50th Anniversary Tour
DESCRIPTION:This multimedia concert will feature the Close to the Edge album in its entirety\, plus a selection of classic Yes cuts accompanied by a full-scale\, high-definition video wall. The iconic band’s hits include “Wonderous Stories\,” “Owner of a Lonely Heart\,” “Going for the One\,” and “Don’t Kill the Whale.”
URL:https://downtownwabash.org/event/yes-close-to-the-edge-50th-anniversary-tour/
CATEGORIES:Wabash Community Event
ATTACH;FMTTYPE=image/jpeg:https://downtownwabash.org/wp-content/uploads/HC-Ford-Theater-feb5fb8dca6ebb2b14fc1b5587e8cd76.jpg
END:VEVENT
BEGIN:VEVENT
DTSTART;TZID=America/Indiana/Indianapolis:20221112T190000
DTEND;TZID=America/Indiana/Indianapolis:20221112T220000
DTSTAMP:20260424T081116
CREATED:20220812T155123Z
LAST-MODIFIED:20220812T173730Z
UID:3475-1668279600-1668290400@downtownwabash.org
SUMMARY:LIVE MUSIC: Dakota Parker
DESCRIPTION:Dakota Ray Parker performs many varieties of music including classic country (Merle Haggard\, Hank Williams\, Johnny Cash)\, some classic rock (Neil Diamond\, Eric Clapton\, Bruce Springsteen)\, Folk music (The Avett Brothers\, Bob Dylan\, Tom T Hall)\, Elvis Presley\, Adele\, Justin Bieber and so much more. He also writes his own music with more than 35 original songs. He won The Voice of Wabash County in 2018 and opened for Aaron Barker at the Eagles Theater.
URL:https://downtownwabash.org/event/dakota-parker/
CATEGORIES:Wabash Community Event
ATTACH;FMTTYPE=image/jpeg:https://downtownwabash.org/wp-content/uploads/Dakota-Parker-2021-47cfe9156fe0181079b8badf2dbe6646.jpg
END:VEVENT
BEGIN:VEVENT
DTSTART;TZID=America/Indiana/Indianapolis:20221115T120000
DTEND;TZID=America/Indiana/Indianapolis:20221115T220000
DTSTAMP:20260424T081116
CREATED:20221102T151008Z
LAST-MODIFIED:20221108T144445Z
UID:3810-1668513600-1668549600@downtownwabash.org
SUMMARY:Visit Wabash County Ornament On Sale
DESCRIPTION:Join us on November 15 for the unveiling of the 10th annual Artisan Ornament\, to find out who the artist is for this year’s ornament\, the medium selected\, and what the subject of the ornament is.
URL:https://downtownwabash.org/event/visit-wabash-county-ornament-on-sale/
CATEGORIES:Holiday Events,Wabash Community Event
ATTACH;FMTTYPE=image/png:https://downtownwabash.org/wp-content/uploads/Downtown-Calendar-Picture-1-df7ebccc1e71ab176e47fae521f1e61f.png
END:VEVENT
BEGIN:VEVENT
DTSTART;TZID=America/Indiana/Indianapolis:20221116T120000
DTEND;TZID=America/Indiana/Indianapolis:20221116T130000
DTSTAMP:20260424T081116
CREATED:20220725T180801Z
LAST-MODIFIED:20221026T024939Z
UID:3355-1668600000-1668603600@downtownwabash.org
SUMMARY:Poinsettia Cards
DESCRIPTION:Join us and create up to ten cards for Christmas using the timeless and fun technique of sponge painting. We’ll add some glitter for extra fun! $10 per person.
URL:https://downtownwabash.org/event/poinsettia-cards/
CATEGORIES:Holiday Events,Wabash Community Event
ATTACH;FMTTYPE=image/jpeg:https://downtownwabash.org/wp-content/uploads/Gardens-e33ab757de3c36681dd6ef36274aec83.jpg
END:VEVENT
BEGIN:VEVENT
DTSTART;TZID=America/Indiana/Indianapolis:20221117T193000
DTEND;TZID=America/Indiana/Indianapolis:20221117T220000
DTSTAMP:20260424T081116
CREATED:20220922T195209Z
LAST-MODIFIED:20220922T200706Z
UID:3640-1668713400-1668722400@downtownwabash.org
SUMMARY:The United States Army Field Band & Soldiers' Chorus
DESCRIPTION:The Concert Band and Soldiers’ Chorus ensembles combine to present a performance ranging from orchestral masterworks and operatic arias to Sousa marches\, jazz classics\, and Broadway musicals. The 60-member band and 29-member chorus perform around the world\, representing the Army at formal functions including presidential parades and diplomatic efforts overseas.
URL:https://downtownwabash.org/event/the-united-states-army-field-band-soldiers-chorus/
CATEGORIES:Wabash Community Event
ATTACH;FMTTYPE=image/jpeg:https://downtownwabash.org/wp-content/uploads/US-Army-Band-Soldiers-Chorus-5d36c933c4acdeb06c5f1b176d2ce4de.jpg
END:VEVENT
BEGIN:VEVENT
DTSTART;VALUE=DATE:20221118
DTEND;VALUE=DATE:20221219
DTSTAMP:20260424T081116
CREATED:20220216T015825Z
LAST-MODIFIED:20221116T052453Z
UID:1180-1668729600-1671407999@downtownwabash.org
SUMMARY:Shop Local to Win
DESCRIPTION:IT’S BACK!!! Downtown Wabash\, Inc. is bringing back its award-winning holiday shopping campaign: Shop Local to Win! The campaign won the 2021 Small Business Saturday Neighborhood Champion Innovation Contest\, presented by American Express. The contest prompted small communities across the nation to submit their innovative campaigns to encourage shopping local during the holiday season as an American Express Neighborhood Champion. Downtown Wabash\, Inc. was one of five communities recognized for its ‘shop small’ efforts.  \nWant to get in on this award-winning action?! Here’s how! \nSimply enter any participating small business in Downtown Wabash; Scan the QR code at the sales counter; Complete the Shop Local to Win entry form; Wait for a member of the Downtown Wabash\, Inc. team to contact you if you’re a winner! (No purchase necessary to enter. Limit one entry per shopper.) \nRequired information to enter: Name; Phone Number; Email; Zip Code; Date of Purchase; Business Name \nShop Local to Win will kick off on Friday\, Nov. 18. Winners will be selected at random after entering to win the contest every Monday between Nov. 21 and Dec. 19. \nShop Local to Win is powered by Downtown Wabash\, Inc.\, the Nationally Accredited Main Street Organization in Downtown Wabash\, Indiana. \n 
URL:https://downtownwabash.org/event/shop-local-to-win/
LOCATION:Wabash\, IN\, 46992\, United States
CATEGORIES:Holiday Events,Shop Local to Win
ATTACH;FMTTYPE=image/jpeg:https://downtownwabash.org/wp-content/uploads/WabashMarketplaceHeadshots-53-1.jpg
ORGANIZER;CN="Downtown Wabash":MAILTO:(260) 563-0975
END:VEVENT
BEGIN:VEVENT
DTSTART;TZID=America/Indiana/Indianapolis:20221118T160000
DTEND;TZID=America/Indiana/Indianapolis:20221118T210000
DTSTAMP:20260424T081116
CREATED:20220216T015204Z
LAST-MODIFIED:20221116T155758Z
UID:1175-1668787200-1668805200@downtownwabash.org
SUMMARY:Jingle Jubilee
DESCRIPTION:Kick off the hometown holiday season with the whole family and all your friends! Jingle Jubilee returns to Downtown Wabash in 2022 as the district’s decades-old tradition of officially kicking off the holiday season. \nJingle Jubilee is FREE and open to the public complete with the competitive Jingle Jubilee Stamping Map\, the traditional lighting of the Wabash County Courthouse\, a holiday kid zone on Miami Street provided by Bachelor Creek Church\, lots of hot cocoa\, holiday shopping specials\, live reindeer\, Santa\, twinkling lights galore and so much more! \nPick up your Wabash Cultural District Coupon Booklet (Winter Edition) at businesses in Downtown Wabash as stocking stuffers AND scan the ‘Shop Local to Win’ QR code at each register to enter for a chance to win sweet prizes during the holiday season. \nJingle Jubilee is an event powered by Downtown Wabash\, Inc. \nMore details below!
URL:https://downtownwabash.org/event/jingle-jubilee/
LOCATION:Wabash\, IN\, 46992\, United States
CATEGORIES:Holiday Events,Jingle Jubilee
ATTACH;FMTTYPE=image/jpeg:https://downtownwabash.org/wp-content/uploads/Jingle-Jubilee-in-Downtown-Wabash.jpg
ORGANIZER;CN="Downtown Wabash":MAILTO:(260) 563-0975
END:VEVENT
BEGIN:VEVENT
DTSTART;TZID=America/Indiana/Indianapolis:20221119T190000
DTEND;TZID=America/Indiana/Indianapolis:20221119T220000
DTSTAMP:20260424T081116
CREATED:20220812T162621Z
LAST-MODIFIED:20220812T173914Z
UID:3493-1668884400-1668895200@downtownwabash.org
SUMMARY:LIVE MUSIC: Mike Almon
DESCRIPTION:With more than 300 shows scheduled each year\, Mike Almon has been playing guitar and writing music since he was 14. This year he plans to release his first studio-recorded album “Had a Good Run” featuring a mix of his originals\, along with two bonus track parodies “Last Fence” and “Detour Land.”
URL:https://downtownwabash.org/event/mike-almon/
CATEGORIES:Wabash Community Event
ATTACH;FMTTYPE=image/jpeg:https://downtownwabash.org/wp-content/uploads/Mike-Almon-2021-fb29d0581fdb6c11883c19197cfb7966.jpg
END:VEVENT
BEGIN:VEVENT
DTSTART;TZID=America/Indiana/Indianapolis:20221119T193000
DTEND;TZID=America/Indiana/Indianapolis:20221119T210000
DTSTAMP:20260424T081116
CREATED:20220725T181408Z
LAST-MODIFIED:20221026T024921Z
UID:3359-1668886200-1668891600@downtownwabash.org
SUMMARY:About the Show Cirque Musica Holiday Wonderland
DESCRIPTION:Cirque Musica Holiday Wonderland brings the joy and excitement of the holiday season to the theater stage like never before. This all-new production features some of the greatest holiday songs performed with the world-renowned cast of Cirque Musica. \nShow night dining available \nMost seats $25\, $35 \nLimited premium seating $65
URL:https://downtownwabash.org/event/about-the-show-cirque-musica-holiday-wonderland/
CATEGORIES:Holiday Events,Wabash Community Event
ATTACH;FMTTYPE=image/jpeg:https://downtownwabash.org/wp-content/uploads/HC-Ford-Theater-cde9e1950843ec10f5bcac64b51ff4f1.jpg
END:VEVENT
BEGIN:VEVENT
DTSTART;TZID=America/Indiana/Indianapolis:20221120T153000
DTEND;TZID=America/Indiana/Indianapolis:20221120T173000
DTSTAMP:20260424T081116
CREATED:20220725T182817Z
LAST-MODIFIED:20221026T024917Z
UID:3361-1668958200-1668965400@downtownwabash.org
SUMMARY:Cirque Musica Holiday Wonderland
DESCRIPTION:Cirque Musica Holiday Wonderland brings the joy and excitement of the holiday season to the theater stage like never before. This all-new production features some of the greatest holiday songs performed with the world-renowned cast of Cirque Musica. \nShow night dining available \nMost seats $25\, $35 \nLimited premium seating $65
URL:https://downtownwabash.org/event/cirque-musica-holiday-wonderland/
CATEGORIES:Holiday Events,Wabash Community Event
ATTACH;FMTTYPE=image/jpeg:https://downtownwabash.org/wp-content/uploads/HC-Ford-Theater-1fc4b6f4dc3ec8a2bfd7aed305964ad2.jpg
END:VEVENT
BEGIN:VEVENT
DTSTART;VALUE=DATE:20221125
DTEND;VALUE=DATE:20221126
DTSTAMP:20260424T081116
CREATED:20220216T015355Z
LAST-MODIFIED:20221026T024913Z
UID:1177-1669334400-1669420799@downtownwabash.org
SUMMARY:Black Friday
DESCRIPTION:A national holiday shopping event on the Friday after Thanksgiving happening at Downtown Wabash businesses.
URL:https://downtownwabash.org/event/black-friday/
LOCATION:Wabash\, IN\, 46992\, United States
CATEGORIES:Black Friday,Holiday Events
ATTACH;FMTTYPE=image/jpeg:https://downtownwabash.org/wp-content/uploads/Black-Friday-in-Downtown-Wabash.jpg
ORGANIZER;CN="Downtown Wabash":MAILTO:(260) 563-0975
END:VEVENT
BEGIN:VEVENT
DTSTART;TZID=America/Indiana/Indianapolis:20221125T193000
DTEND;TZID=America/Indiana/Indianapolis:20221125T213000
DTSTAMP:20260424T081116
CREATED:20220428T155718Z
LAST-MODIFIED:20220509T182558Z
UID:2330-1669404600-1669411800@downtownwabash.org
SUMMARY:Champions of Magic
DESCRIPTION:Break away from the screen and experience live entertainment like never before with Champions Of Magic – an evening of impossible illusions and spectacular special effects. Described by the press as ‘The Avengers of magic\,’ catch the only team of magicians in the world as they present their original\, phenomenal ensemble illusions. They’ve sold out shows across the globe\, been featured on every major US TV network and racked up over 50 million views online… but you haven’t seen magic until you’ve seen it live! The Champions Of Magic cast present incredible interactive magic\, a daring escape from Houdini’s water torture cell\, a mind-blowing prediction that has to be seen to be believed\, levitation high above the stage and a finale beyond explanation. The show happens all around the theatre and features spectacular illusions that can’t be seen anywhere else. \n“You HAVE to check them out! That was tremendous!” – Access Hollywood Live
URL:https://downtownwabash.org/event/champions-of-magic/
LOCATION:Wabash\, IN\, 46992\, United States
CATEGORIES:Wabash Community Event
ATTACH;FMTTYPE=image/jpeg:https://downtownwabash.org/wp-content/uploads/HC-Ford-Theater-6d24e40326d24f81da4c377d64046fd1.jpg
END:VEVENT
BEGIN:VEVENT
DTSTART;VALUE=DATE:20221126
DTEND;VALUE=DATE:20221127
DTSTAMP:20260424T081116
CREATED:20220216T015627Z
LAST-MODIFIED:20221026T024907Z
UID:1179-1669420800-1669507199@downtownwabash.org
SUMMARY:Small Business Saturday
DESCRIPTION:The Saturday after Thanksgiving meant for supporting small\, local businesses for holiday shopping and more.
URL:https://downtownwabash.org/event/small-business-saturday/
LOCATION:Wabash\, IN\, 46992\, United States
CATEGORIES:Holiday Events,Small Business Saturday
ATTACH;FMTTYPE=image/jpeg:https://downtownwabash.org/wp-content/uploads/Small-Business-Saturday-in-Downtown-Wabash-e1721757107746.jpg
ORGANIZER;CN="Downtown Wabash":MAILTO:(260) 563-0975
END:VEVENT
BEGIN:VEVENT
DTSTART;TZID=America/Indiana/Indianapolis:20221126T190000
DTEND;TZID=America/Indiana/Indianapolis:20221126T220000
DTSTAMP:20260424T081116
CREATED:20220812T163042Z
LAST-MODIFIED:20220812T173941Z
UID:3499-1669489200-1669500000@downtownwabash.org
SUMMARY:LIVE MUSIC: Jon Shoulders
DESCRIPTION:Performing throughout the region year-round\, Jon Shoulders puts on a high-energy acoustic show that spans many genres and styles.
URL:https://downtownwabash.org/event/jon-shoulders/
CATEGORIES:Wabash Community Event
ATTACH;FMTTYPE=image/jpeg:https://downtownwabash.org/wp-content/uploads/Jon-Shoulders-2020-1c03e344290f3353095ecc125b7b9678.jpg
END:VEVENT
BEGIN:VEVENT
DTSTART;VALUE=DATE:20221128
DTEND;VALUE=DATE:20221129
DTSTAMP:20260424T081116
CREATED:20220216T020027Z
LAST-MODIFIED:20221026T024856Z
UID:1184-1669593600-1669679999@downtownwabash.org
SUMMARY:Cyber Monday
DESCRIPTION:Downtown Wabash businesses will host holiday shopping specials from their websites and social media platforms.
URL:https://downtownwabash.org/event/cyber-monday/
LOCATION:Wabash\, IN\, 46992\, United States
CATEGORIES:Cyber Monday,Holiday Events
ATTACH;FMTTYPE=image/jpeg:https://downtownwabash.org/wp-content/uploads/Cyber-Monday-in-Downtown-Wabash.jpg
ORGANIZER;CN="Downtown Wabash":MAILTO:(260) 563-0975
END:VEVENT
BEGIN:VEVENT
DTSTART;TZID=America/Indiana/Indianapolis:20221128T140000
DTEND;TZID=America/Indiana/Indianapolis:20221128T160000
DTSTAMP:20260424T081116
CREATED:20221116T154551Z
LAST-MODIFIED:20221116T155900Z
UID:3859-1669644000-1669651200@downtownwabash.org
SUMMARY:White Christmas
DESCRIPTION:Join us at Eagles Theatre on select dates this holiday season for throwback movies. Monday\, 2pm & 7pm. $4/ ticket.
URL:https://downtownwabash.org/event/white-christmas/
CATEGORIES:Holiday Events,Wabash Community Event
ATTACH;FMTTYPE=image/jpeg:https://downtownwabash.org/wp-content/uploads/ET-Eagles-Theatre-fdeaf6cf64b55ba1f6e65bb8a1228858.jpg
END:VEVENT
BEGIN:VEVENT
DTSTART;TZID=America/Indiana/Indianapolis:20221128T190000
DTEND;TZID=America/Indiana/Indianapolis:20221128T210000
DTSTAMP:20260424T081116
CREATED:20221116T154713Z
LAST-MODIFIED:20221116T155910Z
UID:3861-1669662000-1669669200@downtownwabash.org
SUMMARY:White Christmas
DESCRIPTION:Join us at Eagles Theatre on select dates this holiday season for throwback movies.
URL:https://downtownwabash.org/event/white-christmas/
CATEGORIES:Holiday Events,Wabash Community Event
ATTACH;FMTTYPE=image/jpeg:https://downtownwabash.org/wp-content/uploads/ET-Eagles-Theatre-c7d60718e45a63560da4bb00acd243c6.jpg
END:VEVENT
BEGIN:VEVENT
DTSTART;VALUE=DATE:20221129
DTEND;VALUE=DATE:20221130
DTSTAMP:20260424T081116
CREATED:20220216T020146Z
LAST-MODIFIED:20221026T024853Z
UID:1181-1669680000-1669766399@downtownwabash.org
SUMMARY:Giving Tuesday
DESCRIPTION:A national day of giving for nonprofit organizations in Downtown Wabash.
URL:https://downtownwabash.org/event/giving-tuesday/
LOCATION:Wabash\, IN\, 46992\, United States
CATEGORIES:Giving Tuesday,Holiday Events
ORGANIZER;CN="Downtown Wabash":MAILTO:(260) 563-0975
END:VEVENT
BEGIN:VEVENT
DTSTART;TZID=America/Indiana/Indianapolis:20221129T190000
DTEND;TZID=America/Indiana/Indianapolis:20221129T200000
DTSTAMP:20260424T081116
CREATED:20220914T170328Z
LAST-MODIFIED:20220915T143159Z
UID:3586-1669748400-1669752000@downtownwabash.org
SUMMARY:Travels to Uzbekistan
DESCRIPTION:Amy Ford\, Melissa Ford-Kalbfell\, and Erika Ford will share experiences and photos from their recent trip to this country in Central Asia. Learn a little about the history and culture of this fascinating country.
URL:https://downtownwabash.org/event/travels-to-uzbekistan/
CATEGORIES:Wabash Community Event
ATTACH;FMTTYPE=image/jpeg:https://downtownwabash.org/wp-content/uploads/HoneywellHouse-7c1b65ed219eef8cbd0c5cd08ff211d2.jpg
END:VEVENT
BEGIN:VEVENT
DTSTART;TZID=America/Indiana/Indianapolis:20221201T120000
DTEND;TZID=America/Indiana/Indianapolis:20221204T180000
DTSTAMP:20260424T081116
CREATED:20221108T134449Z
LAST-MODIFIED:20221108T144502Z
UID:3826-1669896000-1670176800@downtownwabash.org
SUMMARY:Wabash County YMCA Online Holiday Silent Auction
DESCRIPTION:The Wabash County YMCA proudly announces our 4th Annual Holiday Benefit Silent Auction benefiting the YMCA’s financial assistance program. As the YMCA addresses community issues such as food insecurity or obesity\, your support will ensure our community has the resources for a healthy future. \nThe entire auction will be held online with bidding beginning at 12:00 p.m. on Thursday\, December 1 and ending at 6:00 p.m. on Sunday\, December 4. Continuing with the online format allows all to view and bid on items anytime and anywhere. Items can be viewed in our lobby. With over 50 auction items\, there is something for everyone. The registration process is easy. You may register any time before or during the event\, and can be found by following the link: www.wabashcountyymca.org. \nFunds raised allow us to provide financial assistance for child care\, youth sports\, aquatics programs\, membership assistance\, and so much more. We are thankful for the dozens of community donations we have received for this year’s auction. For more information\,
URL:https://downtownwabash.org/event/wabash-county-ymca-online-holiday-silent-auction/
CATEGORIES:Holiday Events,Wabash Community Event
ATTACH;FMTTYPE=image/jpeg:https://downtownwabash.org/wp-content/uploads/FACEBOOK-COVER-Silent-Auction-2022-246e2cab1abfe525ac9b8af4a4c75489.jpg
END:VEVENT
BEGIN:VEVENT
DTSTART;TZID=America/Indiana/Indianapolis:20221201T190000
DTEND;TZID=America/Indiana/Indianapolis:20221201T210000
DTSTAMP:20260424T081116
CREATED:20220914T170516Z
LAST-MODIFIED:20221026T024847Z
UID:3588-1669921200-1669928400@downtownwabash.org
SUMMARY:Christmas with Kris
DESCRIPTION:Vocalist Kris Stephens and pianist Susan Vanlandingham perform Christmas favorites including “Sleigh Ride\,” “Have Yourself A Merry Little Christmas\,” “Christmas Time Is Here\,” “It’s the Most Wonderful Time of the Year\,” “Gesu Bambino\,” and “O Holy Night.”
URL:https://downtownwabash.org/event/christmas-with-kris/
CATEGORIES:Holiday Events,Wabash Community Event
ATTACH;FMTTYPE=image/jpeg:https://downtownwabash.org/wp-content/uploads/HoneywellHouse-aa663b49fd7c6f0e9bf0456268501ae8.jpg
END:VEVENT
BEGIN:VEVENT
DTSTART;TZID=America/Indiana/Indianapolis:20221202T170000
DTEND;TZID=America/Indiana/Indianapolis:20221202T200000
DTSTAMP:20260424T081116
CREATED:20220215T220359Z
LAST-MODIFIED:20221130T203804Z
UID:1080-1670000400-1670011200@downtownwabash.org
SUMMARY:Downtown Wabash First Friday
DESCRIPTION:Monthly street festival jam-packed with food trucks\, vendors\, downtown shopping and more. \nWabash Winterland: Returning for the second year in a row\, the Downtown Wabash Cookie Walk will feature delicious holiday treats to sample from various businesses while you cross off your holiday shopping to-do-list! \nHop from business to business in Downtown Wabash for a tasty holiday treat and a chance to win a holiday gift basket with local goodies! \nWhile you’re out and about\, participate in our award-winning shopping campaign: Shop Local to Win! \nDowntown Wabash First Fridays are sponsored by Crossroads Bank\, 95.9 KISS FM\, Pettit Printing\, Beacon Credit Union and the Wabash County Museum.
URL:https://downtownwabash.org/event/downtown-wabash-first-friday-10/
LOCATION:Wabash\, IN\, 46992\, United States
CATEGORIES:First Friday,Holiday Events
ATTACH;FMTTYPE=image/jpeg:https://downtownwabash.org/wp-content/uploads/December-First-Friday-in-Downtown-Wabash.jpg
END:VEVENT
BEGIN:VEVENT
DTSTART;TZID=America/Indiana/Indianapolis:20221203T100000
DTEND;TZID=America/Indiana/Indianapolis:20221203T120000
DTSTAMP:20260424T081116
CREATED:20220914T170651Z
LAST-MODIFIED:20221026T024829Z
UID:3590-1670061600-1670068800@downtownwabash.org
SUMMARY:Holiday Floral Arranging
DESCRIPTION:Join us at the Charley Creek Gardens as Jennifer Love-George of Love Bug Floral leads us in creating a seasonal arrangement. $35 per person (covers all materials). Reservations are required.
URL:https://downtownwabash.org/event/holiday-floral-arranging/
CATEGORIES:Holiday Events,Wabash Community Event
ATTACH;FMTTYPE=image/jpeg:https://downtownwabash.org/wp-content/uploads/Gardens-9265611de2b9d9648413e0caa00f3027.jpg
END:VEVENT
BEGIN:VEVENT
DTSTART;TZID=America/Indiana/Indianapolis:20221203T190000
DTEND;TZID=America/Indiana/Indianapolis:20221203T220000
DTSTAMP:20260424T081116
CREATED:20220812T163446Z
LAST-MODIFIED:20220812T173959Z
UID:3503-1670094000-1670104800@downtownwabash.org
SUMMARY:LIVE MUSIC: Matt Record
DESCRIPTION:Matt Record is a powerful singer\, songwriter\, expert guitar player and casual loopist based in Indianapolis who specializes in a variety of genres including Americana/Folk\, 70s\, 80s current and original songs.
URL:https://downtownwabash.org/event/matt-record/
CATEGORIES:Wabash Community Event
ATTACH;FMTTYPE=image/jpeg:https://downtownwabash.org/wp-content/uploads/Matt-Record2-e4dc922e65342c0a5528e9b41fa28a50.jpg
END:VEVENT
BEGIN:VEVENT
DTSTART;TZID=America/Indiana/Indianapolis:20221205T100000
DTEND;TZID=America/Indiana/Indianapolis:20221205T120000
DTSTAMP:20260424T081116
CREATED:20220615T131053Z
LAST-MODIFIED:20221026T024823Z
UID:3089-1670234400-1670241600@downtownwabash.org
SUMMARY:A Christmas Carol
DESCRIPTION:Virginia Repertory Theatre presents an adaptation of the Dickens’ classic\, particularly suited to children. Watch as Mr. Scrooge has a change of heart from stone to gold as he is visited by the ghosts of Christmas. Student matinees are held during the school day as field trip opportunities\, but are open to the public as well.
URL:https://downtownwabash.org/event/a-christmas-carol/
CATEGORIES:Holiday Events,Wabash Community Event
ATTACH;FMTTYPE=image/jpeg:https://downtownwabash.org/wp-content/uploads/HC-Ford-Theater-d125e5a034297ab7e43b60b993d92fbf.jpg
END:VEVENT
BEGIN:VEVENT
DTSTART;TZID=America/Indiana/Indianapolis:20221205T120000
DTEND;TZID=America/Indiana/Indianapolis:20221205T140000
DTSTAMP:20260424T081116
CREATED:20220615T131310Z
LAST-MODIFIED:20221026T024819Z
UID:3091-1670241600-1670248800@downtownwabash.org
SUMMARY:A Christmas Carol
DESCRIPTION:Virginia Repertory Theatre presents an adaptation of the Dickens’ classic\, particularly suited to children. Watch as Mr. Scrooge has a change of heart from stone to gold as he is visited by the ghosts of Christmas. Student matinees are held during the school day as field trip opportunities\, but are open to the public as well.
URL:https://downtownwabash.org/event/a-christmas-carol/
CATEGORIES:Holiday Events,Wabash Community Event
ATTACH;FMTTYPE=image/jpeg:https://downtownwabash.org/wp-content/uploads/HC-Ford-Theater-c6fb9029f0d5a40797818ebcb66ad597.jpg
END:VEVENT
BEGIN:VEVENT
DTSTART;TZID=America/Indiana/Indianapolis:20221206T190000
DTEND;TZID=America/Indiana/Indianapolis:20221206T210000
DTSTAMP:20260424T081116
CREATED:20221116T154836Z
LAST-MODIFIED:20221116T155918Z
UID:3863-1670353200-1670360400@downtownwabash.org
SUMMARY:Elf
DESCRIPTION:Join us at Eagles Theatre on select dates this holiday season for throwback movies.
URL:https://downtownwabash.org/event/elf/
CATEGORIES:Holiday Events,Wabash Community Event
ATTACH;FMTTYPE=image/jpeg:https://downtownwabash.org/wp-content/uploads/ET-Eagles-Theatre-79d0021c4e59a513b7b018ce387997d4.jpg
END:VEVENT
END:VCALENDAR