BEGIN:VCALENDAR
VERSION:2.0
PRODID:-//Downtown Wabash, Inc. - ECPv6.15.17.1//NONSGML v1.0//EN
CALSCALE:GREGORIAN
METHOD:PUBLISH
X-WR-CALNAME:Downtown Wabash, Inc.
X-ORIGINAL-URL:https://downtownwabash.org
X-WR-CALDESC:Events for Downtown Wabash, Inc.
REFRESH-INTERVAL;VALUE=DURATION:PT1H
X-Robots-Tag:noindex
X-PUBLISHED-TTL:PT1H
BEGIN:VTIMEZONE
TZID:America/Indiana/Indianapolis
BEGIN:DAYLIGHT
TZOFFSETFROM:-0500
TZOFFSETTO:-0400
TZNAME:EDT
DTSTART:20230312T070000
END:DAYLIGHT
BEGIN:STANDARD
TZOFFSETFROM:-0400
TZOFFSETTO:-0500
TZNAME:EST
DTSTART:20231105T060000
END:STANDARD
BEGIN:DAYLIGHT
TZOFFSETFROM:-0500
TZOFFSETTO:-0400
TZNAME:EDT
DTSTART:20240310T070000
END:DAYLIGHT
BEGIN:STANDARD
TZOFFSETFROM:-0400
TZOFFSETTO:-0500
TZNAME:EST
DTSTART:20241103T060000
END:STANDARD
BEGIN:DAYLIGHT
TZOFFSETFROM:-0500
TZOFFSETTO:-0400
TZNAME:EDT
DTSTART:20250309T070000
END:DAYLIGHT
BEGIN:STANDARD
TZOFFSETFROM:-0400
TZOFFSETTO:-0500
TZNAME:EST
DTSTART:20251102T060000
END:STANDARD
END:VTIMEZONE
BEGIN:VEVENT
DTSTART;TZID=America/Indiana/Indianapolis:20240709T080000
DTEND;TZID=America/Indiana/Indianapolis:20240709T170000
DTSTAMP:20260425T113247
CREATED:20240222T144740Z
LAST-MODIFIED:20240411T181157Z
UID:8114-1720512000-1720544400@downtownwabash.org
SUMMARY:Terry Pulley Exhibit
DESCRIPTION:Wabash and Beyond. Sponsored by Mark Barnett
URL:https://downtownwabash.org/event/terry-pulley-exhibit-2024-07-09/
LOCATION:Wabash\, IN\, 46992\, United States
ATTACH;FMTTYPE=image/jpeg:https://downtownwabash.org/wp-content/uploads/HC-Gallery2-9a0651035292067c6606ce068b988777.jpg
END:VEVENT
BEGIN:VEVENT
DTSTART;TZID=America/Indiana/Indianapolis:20240709T120000
DTEND;TZID=America/Indiana/Indianapolis:20240709T130000
DTSTAMP:20260425T113247
CREATED:20240102T175947Z
LAST-MODIFIED:20240102T175947Z
UID:7099-1720526400-1720530000@downtownwabash.org
SUMMARY:July 2024 Board Meeting
DESCRIPTION:
URL:https://downtownwabash.org/event/july-2024-board-meeting/
LOCATION:Wabash\, IN\, 46992\, United States
CATEGORIES:Board Member Meeting
ORGANIZER;CN="Downtown Wabash":MAILTO:(260) 563-0975
END:VEVENT
BEGIN:VEVENT
DTSTART;TZID=America/Indiana/Indianapolis:20240709T173000
DTEND;TZID=America/Indiana/Indianapolis:20240709T193000
DTSTAMP:20260425T113247
CREATED:20240718T145041Z
LAST-MODIFIED:20240718T145041Z
UID:8936-1720546200-1720553400@downtownwabash.org
SUMMARY:Tastes On The Terrace
DESCRIPTION:By popular demand\, you can now dine with us all summer! Enjoy a light menu on the outdoor terrace overlooking the beautiful grounds. Every Wednesday through September.\nDrinks available. Reservations are required to provide the best experience for all guests.\nIn case of inclement weather or excessive heat\, indoor seating will be available. Please submit a reservation online or call 260.563.1102.
URL:https://downtownwabash.org/event/tastes-on-the-terrace-15-2024-07-09/
LOCATION:Wabash\, IN\, 46992\, United States
ATTACH;FMTTYPE=image/jpeg:https://downtownwabash.org/wp-content/uploads/Tastes-on-the-Terrace-2fe7cae406cfa702ec87cab91642d22f.jpg
END:VEVENT
BEGIN:VEVENT
DTSTART;TZID=America/Indiana/Indianapolis:20240710T080000
DTEND;TZID=America/Indiana/Indianapolis:20240710T170000
DTSTAMP:20260425T113247
CREATED:20240222T144740Z
LAST-MODIFIED:20240411T181158Z
UID:8115-1720598400-1720630800@downtownwabash.org
SUMMARY:Terry Pulley Exhibit
DESCRIPTION:Wabash and Beyond. Sponsored by Mark Barnett
URL:https://downtownwabash.org/event/terry-pulley-exhibit-2024-07-10/
LOCATION:Wabash\, IN\, 46992\, United States
ATTACH;FMTTYPE=image/jpeg:https://downtownwabash.org/wp-content/uploads/HC-Gallery2-9a0651035292067c6606ce068b988777.jpg
END:VEVENT
BEGIN:VEVENT
DTSTART;TZID=America/Indiana/Indianapolis:20240710T173000
DTEND;TZID=America/Indiana/Indianapolis:20240710T193000
DTSTAMP:20260425T113247
CREATED:20240718T145041Z
LAST-MODIFIED:20240718T145041Z
UID:8937-1720632600-1720639800@downtownwabash.org
SUMMARY:Tastes On The Terrace
DESCRIPTION:By popular demand\, you can now dine with us all summer! Enjoy a light menu on the outdoor terrace overlooking the beautiful grounds. Every Wednesday through September.\nDrinks available. Reservations are required to provide the best experience for all guests.\nIn case of inclement weather or excessive heat\, indoor seating will be available. Please submit a reservation online or call 260.563.1102.
URL:https://downtownwabash.org/event/tastes-on-the-terrace-15-2024-07-10/
LOCATION:Wabash\, IN\, 46992\, United States
ATTACH;FMTTYPE=image/jpeg:https://downtownwabash.org/wp-content/uploads/Tastes-on-the-Terrace-2fe7cae406cfa702ec87cab91642d22f.jpg
END:VEVENT
BEGIN:VEVENT
DTSTART;TZID=America/Indiana/Indianapolis:20240711T080000
DTEND;TZID=America/Indiana/Indianapolis:20240711T170000
DTSTAMP:20260425T113247
CREATED:20240222T144740Z
LAST-MODIFIED:20240411T181159Z
UID:8116-1720684800-1720717200@downtownwabash.org
SUMMARY:Terry Pulley Exhibit
DESCRIPTION:Wabash and Beyond. Sponsored by Mark Barnett
URL:https://downtownwabash.org/event/terry-pulley-exhibit-2024-07-11/
LOCATION:Wabash\, IN\, 46992\, United States
ATTACH;FMTTYPE=image/jpeg:https://downtownwabash.org/wp-content/uploads/HC-Gallery2-9a0651035292067c6606ce068b988777.jpg
END:VEVENT
BEGIN:VEVENT
DTSTART;TZID=America/Indiana/Indianapolis:20240711T100000
DTEND;TZID=America/Indiana/Indianapolis:20240711T113000
DTSTAMP:20260425T113247
CREATED:20240531T164507Z
LAST-MODIFIED:20240531T164507Z
UID:8586-1720692000-1720697400@downtownwabash.org
SUMMARY:The Thursday Parlay: The Theory and Practice of Rivers
DESCRIPTION:Join us for coffee and a treat\, provided by our sponsor Bob Evans Restaurant. Ryan Schnurr will share his ‘The Theory and Practice of Rivers” workshop. The talk is rooted in Ryan’s book on Fort Wayne’s Maumee River and makes the argument that rivers and streams are a repository of—and participant in—community memory. This talk is followed by a workshop session in which attendees will start creating their own “river stories.” Attendees will leave with a new set of lenses and tools for thinking about their relationships to the natural world\, using water (and encounters with bodies of water) as an entry point. “The Thursday Parlay” will take place from 10 to 11:30 am on Thursday\, July 11th. This is a free event brought to you by the Wabash County Museum. RSVPs are encouraged on our website.
URL:https://downtownwabash.org/event/the-thursday-parlay-the-theory-and-practice-of-rivers/
LOCATION:Wabash\, IN\, 46992\, United States
ATTACH;FMTTYPE=image/png:https://downtownwabash.org/wp-content/uploads/The-Theory-and-Practice-of-Rivers-37be86e41fe3e68bb556c1fb2a6a1912.png
END:VEVENT
BEGIN:VEVENT
DTSTART;TZID=America/Indiana/Indianapolis:20240711T120000
DTEND;TZID=America/Indiana/Indianapolis:20240711T130000
DTSTAMP:20260425T113247
CREATED:20240531T164619Z
LAST-MODIFIED:20240531T164619Z
UID:8572-1720699200-1720702800@downtownwabash.org
SUMMARY:Nail String Art
DESCRIPTION:Take a mid-day break and get creative! Twist\, weave\, and knot colorful yarn to form designs. Pack a lunch and be in and out in an hour. This project is great for all ages so you can share the experience with a child or grandchild.
URL:https://downtownwabash.org/event/nail-string-art/
LOCATION:Wabash\, IN\, 46992\, United States
ATTACH;FMTTYPE=image/jpeg:https://downtownwabash.org/wp-content/uploads/Nail-String-Art-c64417bd0936b3d28c581ab6564297dc.jpg
END:VEVENT
BEGIN:VEVENT
DTSTART;TZID=America/Indiana/Indianapolis:20240711T173000
DTEND;TZID=America/Indiana/Indianapolis:20240711T193000
DTSTAMP:20260425T113247
CREATED:20240718T145041Z
LAST-MODIFIED:20240718T145041Z
UID:8938-1720719000-1720726200@downtownwabash.org
SUMMARY:Tastes On The Terrace
DESCRIPTION:By popular demand\, you can now dine with us all summer! Enjoy a light menu on the outdoor terrace overlooking the beautiful grounds. Every Wednesday through September.\nDrinks available. Reservations are required to provide the best experience for all guests.\nIn case of inclement weather or excessive heat\, indoor seating will be available. Please submit a reservation online or call 260.563.1102.
URL:https://downtownwabash.org/event/tastes-on-the-terrace-15-2024-07-11/
LOCATION:Wabash\, IN\, 46992\, United States
ATTACH;FMTTYPE=image/jpeg:https://downtownwabash.org/wp-content/uploads/Tastes-on-the-Terrace-2fe7cae406cfa702ec87cab91642d22f.jpg
END:VEVENT
BEGIN:VEVENT
DTSTART;TZID=America/Indiana/Indianapolis:20240711T190000
DTEND;TZID=America/Indiana/Indianapolis:20240711T210000
DTSTAMP:20260425T113247
CREATED:20240220T203300Z
LAST-MODIFIED:20240220T203300Z
UID:7413-1720724400-1720731600@downtownwabash.org
SUMMARY:Duke Tumatoe
DESCRIPTION:American blues guitarist\, vocalist\, and songwriter Duke Tumatoe has worked with artists like Muddy Waters\, Bo Diddley\, B.B. King\, and Willie Dixon. Tumatoe has released 17 albums with The All-Star Frogs and The Power Trio and will bring classics like “Tie You Up\,” “Get Loose\,” and “More Love\, More Money.”
URL:https://downtownwabash.org/event/duke-tumatoe/
LOCATION:Wabash\, IN\, 46992\, United States
ATTACH;FMTTYPE=image/jpeg:https://downtownwabash.org/wp-content/uploads/ET-Eagles-Theatre-90caf32cadc54af36170ca67f7596102.jpg
END:VEVENT
BEGIN:VEVENT
DTSTART;TZID=America/Indiana/Indianapolis:20240711T200000
DTEND;TZID=America/Indiana/Indianapolis:20240711T233000
DTSTAMP:20260425T113247
CREATED:20240531T164221Z
LAST-MODIFIED:20240531T164221Z
UID:8611-1720728000-1720740600@downtownwabash.org
SUMMARY:Retro Reels: Footloose
DESCRIPTION:A city teenager moves to a small town where rock music and dancing have been banned\, and his rebellious spirit shakes up the populace.
URL:https://downtownwabash.org/event/retro-reels-footloose/
LOCATION:Wabash\, IN\, 46992\, United States
ATTACH;FMTTYPE=image/jpeg:https://downtownwabash.org/wp-content/uploads/Footloose-9ebd9362c9869cbd2f2304ef2622463f.jpg
END:VEVENT
BEGIN:VEVENT
DTSTART;TZID=America/Indiana/Indianapolis:20240712T080000
DTEND;TZID=America/Indiana/Indianapolis:20240712T170000
DTSTAMP:20260425T113247
CREATED:20240222T144740Z
LAST-MODIFIED:20240411T181200Z
UID:8117-1720771200-1720803600@downtownwabash.org
SUMMARY:Terry Pulley Exhibit
DESCRIPTION:Wabash and Beyond. Sponsored by Mark Barnett
URL:https://downtownwabash.org/event/terry-pulley-exhibit-2024-07-12/
LOCATION:Wabash\, IN\, 46992\, United States
ATTACH;FMTTYPE=image/jpeg:https://downtownwabash.org/wp-content/uploads/HC-Gallery2-9a0651035292067c6606ce068b988777.jpg
END:VEVENT
BEGIN:VEVENT
DTSTART;TZID=America/Indiana/Indianapolis:20240712T173000
DTEND;TZID=America/Indiana/Indianapolis:20240712T193000
DTSTAMP:20260425T113247
CREATED:20240718T145041Z
LAST-MODIFIED:20240718T145041Z
UID:8939-1720805400-1720812600@downtownwabash.org
SUMMARY:Tastes On The Terrace
DESCRIPTION:By popular demand\, you can now dine with us all summer! Enjoy a light menu on the outdoor terrace overlooking the beautiful grounds. Every Wednesday through September.\nDrinks available. Reservations are required to provide the best experience for all guests.\nIn case of inclement weather or excessive heat\, indoor seating will be available. Please submit a reservation online or call 260.563.1102.
URL:https://downtownwabash.org/event/tastes-on-the-terrace-15-2024-07-12/
LOCATION:Wabash\, IN\, 46992\, United States
ATTACH;FMTTYPE=image/jpeg:https://downtownwabash.org/wp-content/uploads/Tastes-on-the-Terrace-2fe7cae406cfa702ec87cab91642d22f.jpg
END:VEVENT
BEGIN:VEVENT
DTSTART;TZID=America/Indiana/Indianapolis:20240712T193000
DTEND;TZID=America/Indiana/Indianapolis:20240712T213000
DTSTAMP:20260425T113247
CREATED:20240220T203830Z
LAST-MODIFIED:20240220T203830Z
UID:7419-1720812600-1720819800@downtownwabash.org
SUMMARY:Killer Queen
DESCRIPTION:Killer Queen – A Tribute to Queen began its journey paying homage to the legendary Queen’s roots in 1993. Their popularity skyrocketed\, earning them a groundbreaking residency and the ‘Worldwide Best Tribute Band’ award in 1999 from Suggs of Madness. The group has sold out venues worldwide\, earning acclaim as the kings of musical impersonation. Hear your favorite Queen songs live\, like “Somebody to Love\,” “Under Pressure\, and “I Want to Break Free.”
URL:https://downtownwabash.org/event/killer-queen/
LOCATION:Wabash\, IN\, 46992\, United States
ATTACH;FMTTYPE=image/jpeg:https://downtownwabash.org/wp-content/uploads/HC-Ford-Theater-cad8e8930e3c440ccefeea5b313b491b.jpg
END:VEVENT
BEGIN:VEVENT
DTSTART;TZID=America/Indiana/Indianapolis:20240713T080000
DTEND;TZID=America/Indiana/Indianapolis:20240713T120000
DTSTAMP:20260425T113247
CREATED:20240403T172348Z
LAST-MODIFIED:20240513T161720Z
UID:8536-1720857600-1720872000@downtownwabash.org
SUMMARY:Downtown Wabash Farmers Market
DESCRIPTION:Spend your Saturday mornings at the Downtown Wabash Farmers Market in Downtown Wabash\, Indiana! Start your weekend with wholesome\, enriching\, locally sourced products from some of our most unique vendors in Wabash and surrounding counties. \nFind handmade\, homemade & homegrown products like fresh produce\, organic meats\, homemade ice cream\, hand-poured candles & soaps\, cotton candy\, pottery\, wood & metal works and so much more. \nAll dogs welcome! \nThe 2024 Downtown Wabash Farmers Market is presented by Bowen Health Clinic. Additional support comes from Level 3 Event Partner: Grow Wabash County.
URL:https://downtownwabash.org/event/downtown-wabash-farmers-market-3-2024-07-13/
LOCATION:Wabash\, IN\, 46992\, United States
CATEGORIES:Farmers Market,Wabash Cultural District
ATTACH;FMTTYPE=image/jpeg:https://downtownwabash.org/wp-content/uploads/IMG_3116.jpg
ORGANIZER;CN="Downtown Wabash":MAILTO:(260) 563-0975
END:VEVENT
BEGIN:VEVENT
DTSTART;TZID=America/Indiana/Indianapolis:20240713T130000
DTEND;TZID=America/Indiana/Indianapolis:20240713T153000
DTSTAMP:20260425T113247
CREATED:20240531T164609Z
LAST-MODIFIED:20240531T164609Z
UID:8574-1720875600-1720884600@downtownwabash.org
SUMMARY:Digital Photography 101
DESCRIPTION:This immersive photography workshop will teach tips for capturing stunning images for both phone and digital camera photography. This expert-led session will begin indoors with essential techniques\, then move outside to put theory into practice. Perfect for anyone who wants to take better photos!
URL:https://downtownwabash.org/event/digital-photography-101/
LOCATION:Wabash\, IN\, 46992\, United States
ATTACH;FMTTYPE=image/jpeg:https://downtownwabash.org/wp-content/uploads/Digital-Photography-273b9439b3ced409f5fcf2aa18b398f1.jpg
END:VEVENT
BEGIN:VEVENT
DTSTART;TZID=America/Indiana/Indianapolis:20240713T173000
DTEND;TZID=America/Indiana/Indianapolis:20240713T193000
DTSTAMP:20260425T113247
CREATED:20240718T145041Z
LAST-MODIFIED:20240718T145041Z
UID:8940-1720891800-1720899000@downtownwabash.org
SUMMARY:Tastes On The Terrace
DESCRIPTION:By popular demand\, you can now dine with us all summer! Enjoy a light menu on the outdoor terrace overlooking the beautiful grounds. Every Wednesday through September.\nDrinks available. Reservations are required to provide the best experience for all guests.\nIn case of inclement weather or excessive heat\, indoor seating will be available. Please submit a reservation online or call 260.563.1102.
URL:https://downtownwabash.org/event/tastes-on-the-terrace-15-2024-07-13/
LOCATION:Wabash\, IN\, 46992\, United States
ATTACH;FMTTYPE=image/jpeg:https://downtownwabash.org/wp-content/uploads/Tastes-on-the-Terrace-2fe7cae406cfa702ec87cab91642d22f.jpg
END:VEVENT
BEGIN:VEVENT
DTSTART;TZID=America/Indiana/Indianapolis:20240715T080000
DTEND;TZID=America/Indiana/Indianapolis:20240715T170000
DTSTAMP:20260425T113247
CREATED:20240222T144740Z
LAST-MODIFIED:20240411T181201Z
UID:8096-1721030400-1721062800@downtownwabash.org
SUMMARY:Terry Pulley Exhibit
DESCRIPTION:Wabash and Beyond. Sponsored by Mark Barnett
URL:https://downtownwabash.org/event/terry-pulley-exhibit-2024-07-15/
LOCATION:Wabash\, IN\, 46992\, United States
ATTACH;FMTTYPE=image/jpeg:https://downtownwabash.org/wp-content/uploads/HC-Gallery2-9a0651035292067c6606ce068b988777.jpg
END:VEVENT
BEGIN:VEVENT
DTSTART;TZID=America/Indiana/Indianapolis:20240715T130000
DTEND;TZID=America/Indiana/Indianapolis:20240715T210000
DTSTAMP:20260425T113247
CREATED:20240625T164300Z
LAST-MODIFIED:20240625T164300Z
UID:8839-1721048400-1721077200@downtownwabash.org
SUMMARY:Free Movie Mondays
DESCRIPTION:Every Monday this summer. Showtimes at 1 pm & 7 pm in the main Eagles Theatre. Sensory-friendly will be available in the Ferguson Theatre for select showings.\nJune 24- Spider-Man: Into the Spider-Verse\nJuly 1- Lyle\, Lyle\, Crocodile\n(No 7 pm sensory-friendly showing available)\nJuly 8 – Peter Rabbit\nJuly 15 – Hotel Transylvania\nJuly 22 – The Angry Birds Movie\n(No 7 pm sensory-friendly showing available)\nJuly 29 – Cloudy with a Chance of Meatballs\nAug. 5 – Spy Kids
URL:https://downtownwabash.org/event/free-movie-mondays-2024-07-15/
LOCATION:Wabash\, IN\, 46992\, United States
ATTACH;FMTTYPE=image/jpeg:https://downtownwabash.org/wp-content/uploads/ET-Eagles-Theatre-b8b2b38a9a4f68623c1faf8c2f53f1af.jpg
END:VEVENT
BEGIN:VEVENT
DTSTART;TZID=America/Indiana/Indianapolis:20240716T080000
DTEND;TZID=America/Indiana/Indianapolis:20240716T170000
DTSTAMP:20260425T113247
CREATED:20240222T144740Z
LAST-MODIFIED:20240411T181201Z
UID:8120-1721116800-1721149200@downtownwabash.org
SUMMARY:Terry Pulley Exhibit
DESCRIPTION:Wabash and Beyond. Sponsored by Mark Barnett
URL:https://downtownwabash.org/event/terry-pulley-exhibit-2024-07-16/
LOCATION:Wabash\, IN\, 46992\, United States
ATTACH;FMTTYPE=image/jpeg:https://downtownwabash.org/wp-content/uploads/HC-Gallery2-9a0651035292067c6606ce068b988777.jpg
END:VEVENT
BEGIN:VEVENT
DTSTART;TZID=America/Indiana/Indianapolis:20240717T080000
DTEND;TZID=America/Indiana/Indianapolis:20240717T170000
DTSTAMP:20260425T113247
CREATED:20240222T144740Z
LAST-MODIFIED:20240411T181203Z
UID:8121-1721203200-1721235600@downtownwabash.org
SUMMARY:Terry Pulley Exhibit
DESCRIPTION:Wabash and Beyond. Sponsored by Mark Barnett
URL:https://downtownwabash.org/event/terry-pulley-exhibit-2024-07-17/
LOCATION:Wabash\, IN\, 46992\, United States
ATTACH;FMTTYPE=image/jpeg:https://downtownwabash.org/wp-content/uploads/HC-Gallery2-9a0651035292067c6606ce068b988777.jpg
END:VEVENT
BEGIN:VEVENT
DTSTART;TZID=America/Indiana/Indianapolis:20240718T080000
DTEND;TZID=America/Indiana/Indianapolis:20240718T170000
DTSTAMP:20260425T113247
CREATED:20240222T144740Z
LAST-MODIFIED:20240411T181204Z
UID:8122-1721289600-1721322000@downtownwabash.org
SUMMARY:Terry Pulley Exhibit
DESCRIPTION:Wabash and Beyond. Sponsored by Mark Barnett
URL:https://downtownwabash.org/event/terry-pulley-exhibit-2024-07-18/
LOCATION:Wabash\, IN\, 46992\, United States
ATTACH;FMTTYPE=image/jpeg:https://downtownwabash.org/wp-content/uploads/HC-Gallery2-9a0651035292067c6606ce068b988777.jpg
END:VEVENT
BEGIN:VEVENT
DTSTART;TZID=America/Indiana/Indianapolis:20240718T113000
DTEND;TZID=America/Indiana/Indianapolis:20240718T123000
DTSTAMP:20260425T113247
CREATED:20240220T204737Z
LAST-MODIFIED:20240220T204737Z
UID:7423-1721302200-1721305800@downtownwabash.org
SUMMARY:Mrs. Honeywell's Birthday Tea
DESCRIPTION:Enjoy a very special celebration in honor of Mrs. Honeywell with a “low tea” luncheon and fashion show. The Francis Shoppe will delight you with their beautiful fashions as we savor treats of tea sandwiches\, sweets\, and pastries made by Chef David Ericsson. Treat yourself and invite a friend to attend this delightful event.
URL:https://downtownwabash.org/event/mrs-honeywells-birthday-tea/
LOCATION:Wabash\, IN\, 46992\, United States
ATTACH;FMTTYPE=image/jpeg:https://downtownwabash.org/wp-content/uploads/HoneywellHouse-e88710e12d523906202044eac98ea539.jpg
END:VEVENT
BEGIN:VEVENT
DTSTART;TZID=America/Indiana/Indianapolis:20240718T190000
DTEND;TZID=America/Indiana/Indianapolis:20240718T210000
DTSTAMP:20260425T113247
CREATED:20240220T212626Z
LAST-MODIFIED:20240220T212626Z
UID:7427-1721329200-1721336400@downtownwabash.org
SUMMARY:Twitty and Lynn: A Salute to Conway and Loretta
DESCRIPTION:Step into a time machine with Twitty & Lynn\, where grandchildren of legends Conway Twitty and Loretta Lynn bring the magic of the past to the present in their show\, A Salute to Conway & Loretta. The duo honors the legacy with stories and timeless duets like “Louisiana Woman\, Mississippi Man” and “After the Fire Is Gone.” They bridge generations\, sharing songs and a genuine connection that defines the essence of country music.
URL:https://downtownwabash.org/event/twitty-and-lynn-a-salute-to-conway-and-loretta/
LOCATION:Wabash\, IN\, 46992\, United States
ATTACH;FMTTYPE=image/jpeg:https://downtownwabash.org/wp-content/uploads/ET-Eagles-Theatre-ad192b6904f481886db58498efd82769.jpg
END:VEVENT
BEGIN:VEVENT
DTSTART;TZID=America/Indiana/Indianapolis:20240718T213000
DTEND;TZID=America/Indiana/Indianapolis:20240718T233000
DTSTAMP:20260425T113247
CREATED:20240531T164402Z
LAST-MODIFIED:20240531T164402Z
UID:8619-1721338200-1721345400@downtownwabash.org
SUMMARY:Retro Reels: Bring It On
DESCRIPTION:A champion high school cheerleading squad discovers its previous captain stole all their best routines from an inner-city school and must scramble to compete at this year’s championships.
URL:https://downtownwabash.org/event/retro-reels-bring-it-on/
LOCATION:Wabash\, IN\, 46992\, United States
ATTACH;FMTTYPE=image/jpeg:https://downtownwabash.org/wp-content/uploads/Bring-it-On-99690f49c6561ca73d413ff943f40f39.jpg
END:VEVENT
BEGIN:VEVENT
DTSTART;TZID=America/Indiana/Indianapolis:20240719T080000
DTEND;TZID=America/Indiana/Indianapolis:20240719T170000
DTSTAMP:20260425T113247
CREATED:20240222T144740Z
LAST-MODIFIED:20240411T181205Z
UID:8123-1721376000-1721408400@downtownwabash.org
SUMMARY:Terry Pulley Exhibit
DESCRIPTION:Wabash and Beyond. Sponsored by Mark Barnett
URL:https://downtownwabash.org/event/terry-pulley-exhibit-2024-07-19/
LOCATION:Wabash\, IN\, 46992\, United States
ATTACH;FMTTYPE=image/jpeg:https://downtownwabash.org/wp-content/uploads/HC-Gallery2-9a0651035292067c6606ce068b988777.jpg
END:VEVENT
BEGIN:VEVENT
DTSTART;TZID=America/Indiana/Indianapolis:20240720T080000
DTEND;TZID=America/Indiana/Indianapolis:20240720T120000
DTSTAMP:20260425T113247
CREATED:20240403T172348Z
LAST-MODIFIED:20240513T161721Z
UID:8537-1721462400-1721476800@downtownwabash.org
SUMMARY:Downtown Wabash Farmers Market
DESCRIPTION:Spend your Saturday mornings at the Downtown Wabash Farmers Market in Downtown Wabash\, Indiana! Start your weekend with wholesome\, enriching\, locally sourced products from some of our most unique vendors in Wabash and surrounding counties. \nFind handmade\, homemade & homegrown products like fresh produce\, organic meats\, homemade ice cream\, hand-poured candles & soaps\, cotton candy\, pottery\, wood & metal works and so much more. \nAll dogs welcome! \nThe 2024 Downtown Wabash Farmers Market is presented by Bowen Health Clinic. Additional support comes from Level 3 Event Partner: Grow Wabash County.
URL:https://downtownwabash.org/event/downtown-wabash-farmers-market-3-2024-07-20/
LOCATION:Wabash\, IN\, 46992\, United States
CATEGORIES:Farmers Market,Wabash Cultural District
ATTACH;FMTTYPE=image/jpeg:https://downtownwabash.org/wp-content/uploads/IMG_3116.jpg
ORGANIZER;CN="Downtown Wabash":MAILTO:(260) 563-0975
END:VEVENT
BEGIN:VEVENT
DTSTART;TZID=America/Indiana/Indianapolis:20240722T130000
DTEND;TZID=America/Indiana/Indianapolis:20240722T210000
DTSTAMP:20260425T113247
CREATED:20240625T164300Z
LAST-MODIFIED:20240625T164300Z
UID:8840-1721653200-1721682000@downtownwabash.org
SUMMARY:Free Movie Mondays
DESCRIPTION:Every Monday this summer. Showtimes at 1 pm & 7 pm in the main Eagles Theatre. Sensory-friendly will be available in the Ferguson Theatre for select showings.\nJune 24- Spider-Man: Into the Spider-Verse\nJuly 1- Lyle\, Lyle\, Crocodile\n(No 7 pm sensory-friendly showing available)\nJuly 8 – Peter Rabbit\nJuly 15 – Hotel Transylvania\nJuly 22 – The Angry Birds Movie\n(No 7 pm sensory-friendly showing available)\nJuly 29 – Cloudy with a Chance of Meatballs\nAug. 5 – Spy Kids
URL:https://downtownwabash.org/event/free-movie-mondays-2024-07-22/
LOCATION:Wabash\, IN\, 46992\, United States
ATTACH;FMTTYPE=image/jpeg:https://downtownwabash.org/wp-content/uploads/ET-Eagles-Theatre-b8b2b38a9a4f68623c1faf8c2f53f1af.jpg
END:VEVENT
BEGIN:VEVENT
DTSTART;TZID=America/Indiana/Indianapolis:20240725T190000
DTEND;TZID=America/Indiana/Indianapolis:20240725T200000
DTSTAMP:20260425T113247
CREATED:20240220T212502Z
LAST-MODIFIED:20240220T212502Z
UID:7429-1721934000-1721937600@downtownwabash.org
SUMMARY:Chanticleer
DESCRIPTION:Chanticleer and pianist William Foster McDaniel return to delight Honeywell House audiences with a program to include Haydn‘s String Quartet Op.77 #1.
URL:https://downtownwabash.org/event/chanticleer/
LOCATION:Wabash\, IN\, 46992\, United States
ATTACH;FMTTYPE=image/jpeg:https://downtownwabash.org/wp-content/uploads/HoneywellHouse-6bb2e2089bf4c5e58b032c0902166efc.jpg
END:VEVENT
BEGIN:VEVENT
DTSTART;TZID=America/Indiana/Indianapolis:20240725T213000
DTEND;TZID=America/Indiana/Indianapolis:20240725T233000
DTSTAMP:20260425T113247
CREATED:20240531T164327Z
LAST-MODIFIED:20240531T164327Z
UID:8621-1721943000-1721950200@downtownwabash.org
SUMMARY:Retro Reels: Smokey and the Bandit
DESCRIPTION:The Bandit is hired on to run a tractor trailer full of beer over county lines in hot pursuit by a pesky sheriff.
URL:https://downtownwabash.org/event/retro-reels-smokey-and-the-bandit/
LOCATION:Wabash\, IN\, 46992\, United States
ATTACH;FMTTYPE=image/jpeg:https://downtownwabash.org/wp-content/uploads/Smokey-and-the-Bandit-b92182f5df7ba940290a3b8320c18b22.jpg
END:VEVENT
END:VCALENDAR