BEGIN:VCALENDAR
VERSION:2.0
PRODID:-//Downtown Wabash, Inc. - ECPv6.15.17.1//NONSGML v1.0//EN
CALSCALE:GREGORIAN
METHOD:PUBLISH
X-WR-CALNAME:Downtown Wabash, Inc.
X-ORIGINAL-URL:https://downtownwabash.org
X-WR-CALDESC:Events for Downtown Wabash, Inc.
REFRESH-INTERVAL;VALUE=DURATION:PT1H
X-Robots-Tag:noindex
X-PUBLISHED-TTL:PT1H
BEGIN:VTIMEZONE
TZID:America/Indiana/Indianapolis
BEGIN:DAYLIGHT
TZOFFSETFROM:-0500
TZOFFSETTO:-0400
TZNAME:EDT
DTSTART:20240310T070000
END:DAYLIGHT
BEGIN:STANDARD
TZOFFSETFROM:-0400
TZOFFSETTO:-0500
TZNAME:EST
DTSTART:20241103T060000
END:STANDARD
BEGIN:DAYLIGHT
TZOFFSETFROM:-0500
TZOFFSETTO:-0400
TZNAME:EDT
DTSTART:20250309T070000
END:DAYLIGHT
BEGIN:STANDARD
TZOFFSETFROM:-0400
TZOFFSETTO:-0500
TZNAME:EST
DTSTART:20251102T060000
END:STANDARD
BEGIN:DAYLIGHT
TZOFFSETFROM:-0500
TZOFFSETTO:-0400
TZNAME:EDT
DTSTART:20260308T070000
END:DAYLIGHT
BEGIN:STANDARD
TZOFFSETFROM:-0400
TZOFFSETTO:-0500
TZNAME:EST
DTSTART:20261101T060000
END:STANDARD
END:VTIMEZONE
BEGIN:VEVENT
DTSTART;TZID=America/Indiana/Indianapolis:20250502T080000
DTEND;TZID=America/Indiana/Indianapolis:20250601T170000
DTSTAMP:20260424T120307
CREATED:20250327T223927Z
LAST-MODIFIED:20250327T223927Z
UID:9669-1746172800-1748797200@downtownwabash.org
SUMMARY:Justin Johnson: Elegies of Unrest
DESCRIPTION:War and conflict in the Middle East have profoundly impacted Justin’s motivation. The destruction of antiquity and the suffering of religious communities and minorities inspire his abstract works\, which aim to “describe the indescribable.” Influenced by Robert Motherwell’s “Elegies to the Spanish Republic\,” his art reflects on the constant state of war and the silence of victims. His hope is that these works will gently urge the audience to understand the greater world and reflect on these tragedies. On display mon-fri 8am-5pm.
URL:https://downtownwabash.org/event/justin-johnson-elegies-of-unrest/
ATTACH;FMTTYPE=image/jpeg:https://downtownwabash.org/wp-content/uploads/Justin-Johnson-0a53c5e4dfd750ac4af5435b56b99035.jpg
END:VEVENT
BEGIN:VEVENT
DTSTART;TZID=America/Indiana/Indianapolis:20250501T193000
DTEND;TZID=America/Indiana/Indianapolis:20250501T213000
DTSTAMP:20260424T120307
CREATED:20241205T141504Z
LAST-MODIFIED:20241205T141504Z
UID:9403-1746127800-1746135000@downtownwabash.org
SUMMARY:MJ LIVE
DESCRIPTION:Get ready to immerse yourself in the world of the King of Pop\, Michael Jackson\, at MJ LIVE. Relive the energy and excitement of his music with hits like “Bad\,” “Billie Jean\,” “Beat It\,” “Dangerous\,” and more. Talented musicians\, captivating visuals\, and a dynamic dance ensemble will bring the magic of Michael Jackson’s performances to life.
URL:https://downtownwabash.org/event/mj-live/
ATTACH;FMTTYPE=image/jpeg:https://downtownwabash.org/wp-content/uploads/Show_MJLive_Small-de53962736ffe156fe62ca685094b45a.jpg
END:VEVENT
BEGIN:VEVENT
DTSTART;TZID=America/Indiana/Indianapolis:20250426T193000
DTEND;TZID=America/Indiana/Indianapolis:20250426T213000
DTSTAMP:20260424T120307
CREATED:20250130T194721Z
LAST-MODIFIED:20250130T194721Z
UID:9572-1745695800-1745703000@downtownwabash.org
SUMMARY:Jamie O'Neal
DESCRIPTION:Jamie O’Neal became a household name with her back-to-back #1 singles\, “There Is No Arizona” and “When I Think About Angels.” O’Neal has earned numerous career accolades\, including multiple GRAMMY nominations\, an ACM award\, and a Billboard Music award. She has written hits for artists like Reba McEntire\, Martina McBride\, Leann Rimes\, and more. In 2023\, O’Neal was featured on Kenny Rogers’ album Life Is Like A Song\, a collection of unreleased songs from the archive\, with the track “Straight Into Love.”
URL:https://downtownwabash.org/event/jamie-oneal/
ATTACH;FMTTYPE=image/jpeg:https://downtownwabash.org/wp-content/uploads/Jamie-ONeal_Small-Show-8ebd213d06fce3eef6bf07e6ed42eda3.jpg
END:VEVENT
BEGIN:VEVENT
DTSTART;TZID=America/Indiana/Indianapolis:20250426T193000
DTEND;TZID=America/Indiana/Indianapolis:20250426T213000
DTSTAMP:20260424T120307
CREATED:20241205T141524Z
LAST-MODIFIED:20241205T141524Z
UID:9411-1745695800-1745703000@downtownwabash.org
SUMMARY:Newsboys
DESCRIPTION:Newsboys is one of the biggest bands in Christian music history\, having sold over 10 million albums across 23 recordings and garnering boundless accolades. The group is known for its signature songs like “We Believe\,” “Born Again\,” and the mega-hit “God’s Not Dead\,” which birthed a film franchise of the same name. For over three decades\, Newsboys has toured extensively worldwide to present their unparalleled high-energy shows.
URL:https://downtownwabash.org/event/newsboys/
ATTACH;FMTTYPE=image/jpeg:https://downtownwabash.org/wp-content/uploads/Show_Newsboys_Small-bd84c6f15bf3a5bb0c77beb2fa7c74ae.jpg
END:VEVENT
BEGIN:VEVENT
DTSTART;TZID=America/Indiana/Indianapolis:20250425T193000
DTEND;TZID=America/Indiana/Indianapolis:20250425T213000
DTSTAMP:20260424T120307
CREATED:20250130T194713Z
LAST-MODIFIED:20250130T194713Z
UID:9570-1745609400-1745616600@downtownwabash.org
SUMMARY:Head East
DESCRIPTION:The legendary classic rock band Head East has long set the standard for authentic\, full-vocal\, good-time rock harmonies that few bands can match. Their high-energy shows feature superb vocals\, flashy guitar work\, and memorable keyboard melodies that continue to rock audiences of all ages. Their signature song\, “Never Been Any Reason\,” is often considered “the rock ‘n’ roll national anthem.” Head East will celebrate its 50th anniversary by performing tracks from its iconic record\, Flat As A Pancake.
URL:https://downtownwabash.org/event/head-east/
ATTACH;FMTTYPE=image/jpeg:https://downtownwabash.org/wp-content/uploads/Show_HeadEast_Small-79710ff3d56632887d2426593bc97c2c.jpg
END:VEVENT
BEGIN:VEVENT
DTSTART;TZID=America/Indiana/Indianapolis:20250424T090000
DTEND;TZID=America/Indiana/Indianapolis:20250425T170000
DTSTAMP:20260424T120307
CREATED:20250130T194705Z
LAST-MODIFIED:20250130T194705Z
UID:9568-1745485200-1745600400@downtownwabash.org
SUMMARY:Say Do Achieve Summit
DESCRIPTION:Thomas Blackwell travels the world as an Inspirational Speaker and Best-Selling Author and is excited to invest 2 Full Amazing Days of Inspiration and Implementation with you! This Summit will go from 9am to 5pm both days and a Full Course Lunch will be provided each day. Get ready to learn and implement: How to Change your Language in order to Change your Life\, The Basics of how to give Inspirational Talks and Communication\,  How to Snap Generational Poverty Chains and Attract Financial Abundance\, The Language of Responsibility and Expectation\, Words of Integrity and how to Rise Up and be Worthy of Trust\, The Powerful Language of Gratitude\, Thankfulness\, and Appreciation\, and so much more! There is only space for 240 people and this will sell out\, so act quickly to secure your seat.
URL:https://downtownwabash.org/event/say-do-achieve-summit/
ATTACH;FMTTYPE=image/jpeg:https://downtownwabash.org/wp-content/uploads/Thomas-Blackwell-3b38616e0b32a2d7c9daed7328748d27.jpeg
END:VEVENT
BEGIN:VEVENT
DTSTART;TZID=America/Indiana/Indianapolis:20250422T190000
DTEND;TZID=America/Indiana/Indianapolis:20250422T200000
DTSTAMP:20260424T120307
CREATED:20250130T194339Z
LAST-MODIFIED:20250130T194339Z
UID:9545-1745348400-1745352000@downtownwabash.org
SUMMARY:Dogs Tell A Story Too!
DESCRIPTION:Debbie Bryant will present an insightful session about force-free dog training\, emphasizing the importance of body language and verbal cues in communicating effectively with your dog. Discover techniques for training and nurturing a strong bond without force. Debbie will also delve into the roles of testing and working with therapy dogs\, providing valuable knowledge for pet owners and enthusiasts alike. Free admission\, with reservations required due to limited seating.
URL:https://downtownwabash.org/event/dogs-tell-a-story-too/
END:VEVENT
BEGIN:VEVENT
DTSTART;TZID=America/Indiana/Indianapolis:20250420T103000
DTEND;TZID=America/Indiana/Indianapolis:20250420T133000
DTSTAMP:20260424T120307
CREATED:20250327T224005Z
LAST-MODIFIED:20250327T224005Z
UID:9666-1745145000-1745155800@downtownwabash.org
SUMMARY:Easter Brunch
DESCRIPTION:Join us for an Easter experience with live entertainment! Enjoy a delicious brunch buffet in Legacy Hall at the Honeywell Center. During brunch\, you’ll enjoy live entertainment and an opportunity for the kids to make a seasonal craft. Of course\, visits with the Easter Bunny will be the main attraction. Buy early – this sells out every year! \nBrunch features biscuits\, gravy\, fried potatoes\, bacon\, sausage\, scrambled eggs\, carved ham\, carved roast beef\, fried chicken\, salad station\, side accompaniments\, an omelet and waffle station\, and desserts.
URL:https://downtownwabash.org/event/easter-brunch/
END:VEVENT
BEGIN:VEVENT
DTSTART;TZID=America/Indiana/Indianapolis:20250419T193000
DTEND;TZID=America/Indiana/Indianapolis:20250419T213000
DTSTAMP:20260424T120307
CREATED:20250115T020322Z
LAST-MODIFIED:20250115T020322Z
UID:9522-1745091000-1745098200@downtownwabash.org
SUMMARY:Rachel Platten: The Set Me Free Tour
DESCRIPTION:Rachel Platten is an Emmy Award-winning multi-platinum artist\, singer\, and songwriter known for her anthem\, “Fight Song.” Platten’s songs focus on motherhood\, guilt\, mourning\, expectations\, rebirth\, mental health\, and the support systems we all need to guide us through life’s most earth-shaking curveballs. Her most recent album\, I Am Rachel Platten\, is an artistic journey through life’s peaks and valleys with songs like “I Know\,” “Mercy\,” and “Surrender.”
URL:https://downtownwabash.org/event/rachel-platten-the-set-me-free-tour/
ATTACH;FMTTYPE=image/jpeg:https://downtownwabash.org/wp-content/uploads/Show_RachelPlatten_Small-8d98a06178c364f3df841d72fc7d4db3.jpg
END:VEVENT
BEGIN:VEVENT
DTSTART;TZID=America/Indiana/Indianapolis:20250418T193000
DTEND;TZID=America/Indiana/Indianapolis:20250418T220000
DTSTAMP:20260424T120307
CREATED:20250115T020158Z
LAST-MODIFIED:20250115T020158Z
UID:9509-1745004600-1745013600@downtownwabash.org
SUMMARY:America's Got Talent 2024 Champion Richard Goodall
DESCRIPTION:Richard Goodall\, the “singing janitor” from Terre Haute\, Indiana\, won America’s hearts with his rendition of “Don’t Stop Believin’\,” earning a Golden Buzzer from America’s Got Talent (AGT) judge Heidi Klum and later claiming the title of AGT 2024 Champion. From performing for students at the middle school where he works to singing at church and with a band\, music has always been a constant. Goodall’s authenticity and joy for music shine through in his performances\, including hits from Journey\, Foreigner\, Bruno Mars\, Michael Bublé\, and more.
URL:https://downtownwabash.org/event/americas-got-talent-2024-champion-richard-goodall/
ATTACH;FMTTYPE=image/jpeg:https://downtownwabash.org/wp-content/uploads/Show_AmericasGotTalent_Small-8a92134c31b34cb73b506aed3a994b62.jpg
END:VEVENT
BEGIN:VEVENT
DTSTART;TZID=America/Indiana/Indianapolis:20250417T190000
DTEND;TZID=America/Indiana/Indianapolis:20250417T200000
DTSTAMP:20260424T120307
CREATED:20250130T194332Z
LAST-MODIFIED:20250130T194332Z
UID:9544-1744916400-1744920000@downtownwabash.org
SUMMARY:Construction\, Conflict\, and the Canal: “The Irish War” on the Wabash and Erie
DESCRIPTION:Dr. Jay Perry\, an Indiana native and historian specializing in policy and U.S. immigration history\, will present a compelling lecture on the Irish canal worker wars in Wabash County. With degrees from the University of Evansville\, Indiana University\, and a doctorate from Bowling Green State University\, Dr. Perry offers expert insights into this fascinating local history. Free admission\, with reservations required due to limited seating.
URL:https://downtownwabash.org/event/construction-conflict-and-the-canalthe-irish-waron-the-wabash-and-erie/
END:VEVENT
BEGIN:VEVENT
DTSTART;TZID=America/Indiana/Indianapolis:20250404T190000
DTEND;TZID=America/Indiana/Indianapolis:20250404T210000
DTSTAMP:20260424T120307
CREATED:20250130T194659Z
LAST-MODIFIED:20250130T194659Z
UID:9566-1743793200-1743800400@downtownwabash.org
SUMMARY:Josh Baldwin: Made For More Tour
DESCRIPTION:Josh Baldwin is a gold-certified singer-songwriter and worship leader whose music expresses who God has been for him in every season. Baldwin’s newest album\, Made For More (2024)\, features songs he wrote from his heart for the local church and corporate worship. He recently celebrated his first-ever No. 1 single with “Made For More” at the top of the Mediabase Christian AC and Christian Audience Radio charts.
URL:https://downtownwabash.org/event/josh-baldwin-made-for-more-tour/
ATTACH;FMTTYPE=image/jpeg:https://downtownwabash.org/wp-content/uploads/Josh-Baldwin_Small-Show-6e861276569539634a5832f7c3fee8d3.jpg
END:VEVENT
BEGIN:VEVENT
DTSTART;TZID=America/Indiana/Indianapolis:20250403T190000
DTEND;TZID=America/Indiana/Indianapolis:20250403T210000
DTSTAMP:20260424T120307
CREATED:20241205T141517Z
LAST-MODIFIED:20241205T141517Z
UID:9409-1743706800-1743714000@downtownwabash.org
SUMMARY:REO Survivor & Co.: Tribute to REO Speedwagon\, Loverboy\, and Survivor
DESCRIPTION:REO Survivor & Co. brings classic REO Speedwagon and Loverboy hits mixed with Survivor anthems to the stage\, performing songs like “Take It on the Run\,” “Working for the Weekend\,” and “Eye of the Tiger.” REO Survivor & Co. is a “band on fire” that will have you singing along throughout the heart-pumping rock experience.
URL:https://downtownwabash.org/event/reo-survivor-co-tribute-to-reo-speedwagon-loverboy-and-survivor/
ATTACH;FMTTYPE=image/jpeg:https://downtownwabash.org/wp-content/uploads/Show_REO_Small-2c11d23b2f9c6bef6817450e649e1bf2.jpg
END:VEVENT
BEGIN:VEVENT
DTSTART;TZID=America/Indiana/Indianapolis:20250401T080000
DTEND;TZID=America/Indiana/Indianapolis:20250430T170000
DTSTAMP:20260424T120307
CREATED:20250327T223947Z
LAST-MODIFIED:20250327T223947Z
UID:9667-1743494400-1746032400@downtownwabash.org
SUMMARY:Next Generation: Jr./Sr. High Art Competition
DESCRIPTION:Pablo Picasso\, Claude Monet\, and Leonardo da Vinci – even the greatest artists in history began their journeys as students\, honing their skills and nurturing their creativity. Could the next ‘master artist’ be among us today? We are thrilled to extend an invitation to exceptionally talented high school students to showcase their creativity in this exhibit. Join us in celebrating the boundless potential and artistic brilliance of the next generation. On display Monday through Friday 8am to 5pm.
URL:https://downtownwabash.org/event/next-generation-jrsr-high-art-competition/
END:VEVENT
BEGIN:VEVENT
DTSTART;TZID=America/Indiana/Indianapolis:20250329T193000
DTEND;TZID=America/Indiana/Indianapolis:20250329T213000
DTSTAMP:20260424T120307
CREATED:20241122T152907Z
LAST-MODIFIED:20241122T152907Z
UID:9382-1743276600-1743283800@downtownwabash.org
SUMMARY:A Grand Time
DESCRIPTION:For the eighth time in just over 30 years\, A Grand Time will feature nearly 100 pianists taking their turn on stage\, with as many as 24 playing simultaneously on 12 grand pianos for a marvel of musical virtuosity. First performed at the Honeywell Center in 1990\, A Grand Time is led by Philadelphia-based pianist/conductor Norma Meyer.
URL:https://downtownwabash.org/event/a-grand-time/
ATTACH;FMTTYPE=image/jpeg:https://downtownwabash.org/wp-content/uploads/Show_AGrandTime_Small-eceffebae0a4c7f20c647746a706e417.jpg
END:VEVENT
BEGIN:VEVENT
DTSTART;TZID=America/Indiana/Indianapolis:20250327T190000
DTEND;TZID=America/Indiana/Indianapolis:20250327T200000
DTSTAMP:20260424T120307
CREATED:20250130T194324Z
LAST-MODIFIED:20250130T194324Z
UID:9543-1743102000-1743105600@downtownwabash.org
SUMMARY:America’s Writers: Works\, Quirks\, and Jerks
DESCRIPTION:Mark Canada\, Chancellor of Indiana University Kokomo and former professor of American literature\, will inform\, inspire\, and entertain with his light-hearted lecture. You’ll “read behind the lines” of some of America’s greatest writing to discover the sometimes amusing\, always fascinating stories that accompany the writers and their works. Free admission\, with reservations required due to limited seating.
URL:https://downtownwabash.org/event/americas-writersworks-quirks-and-jerks/
END:VEVENT
BEGIN:VEVENT
DTSTART;TZID=America/Indiana/Indianapolis:20250322T100000
DTEND;TZID=America/Indiana/Indianapolis:20250322T130000
DTSTAMP:20260424T120307
CREATED:20250327T224037Z
LAST-MODIFIED:20250327T224037Z
UID:9644-1742637600-1742648400@downtownwabash.org
SUMMARY:Youth Arts Month: Colorful Watercolor Castles
DESCRIPTION:Kids will design their own vibrant castles\, experimenting with bold colors\, geometric shapes\, and structure. Inspired by the artistic style of Paul Klee\, this workshop encourages creativity and fun! Classes at 10am and 12pm. Registration required.
URL:https://downtownwabash.org/event/youth-arts-month-colorful-watercolor-castles/
END:VEVENT
BEGIN:VEVENT
DTSTART;TZID=America/Indiana/Indianapolis:20250322T090000
DTEND;TZID=America/Indiana/Indianapolis:20250322T120000
DTSTAMP:20260424T120307
CREATED:20250327T223732Z
LAST-MODIFIED:20250327T223732Z
UID:9643-1742634000-1742644800@downtownwabash.org
SUMMARY:Youth Arts Month: Mini-Mosaic Masterpiece
DESCRIPTION:In this hands-on activity\, participants will start with a small wooden frame and create their own mosaic design using colorful glass and tile pieces. Choose your favorite arrangement\, and then we’ll use heat to bond the pieces together. Once the adhesive is melted\, you’ll have your very own framed mosaic art to take home! Classes at 9am and 11am. Registration required.
URL:https://downtownwabash.org/event/youth-arts-month-mini-mosaic-masterpiece/
END:VEVENT
BEGIN:VEVENT
DTSTART;TZID=America/Indiana/Indianapolis:20250321T193000
DTEND;TZID=America/Indiana/Indianapolis:20250321T213000
DTSTAMP:20260424T120307
CREATED:20241205T141458Z
LAST-MODIFIED:20241205T141458Z
UID:9401-1742585400-1742592600@downtownwabash.org
SUMMARY:The Fabulous Thunderbirds
DESCRIPTION:For over 30 years\, The Fabulous Thunderbirds have embodied the essence of an American band. With a distinctive and powerful sound influenced by various musical styles\, the group has created a unique hybrid\, producing hits like “Tuff Enuff” and “Wrap It Up.” Co-founder Kim Wilson (lead vocals\, harmonica) remains the sole original member\, joined by Johnny Moeller (guitar)\, Bob Welsh (piano\, guitar)\, Rudy Albin (drums)\, and Steve Kirsty (bass). Together\, they deliver an energized fusion of blues\, rock and roll\, and R&B.
URL:https://downtownwabash.org/event/the-fabulous-thunderbirds/
ATTACH;FMTTYPE=image/jpeg:https://downtownwabash.org/wp-content/uploads/Show_Thunderbirds_Small-61d4c49359f0c47f0b1fe0f0ecf65692.jpg
END:VEVENT
BEGIN:VEVENT
DTSTART;TZID=America/Indiana/Indianapolis:20250320T190000
DTEND;TZID=America/Indiana/Indianapolis:20250320T210000
DTSTAMP:20260424T120307
CREATED:20241205T141452Z
LAST-MODIFIED:20241205T141452Z
UID:9399-1742497200-1742504400@downtownwabash.org
SUMMARY:RAIN: A Tribute to The Beatles
DESCRIPTION:RAIN – A Tribute to the Beatles is an electrifying concert experience celebrating the timeless music of the legendary Fab Four. With note-for-note precision\, this mind-blowing performance transports you back to the iconic eras of Sgt. Pepper and Magical Mystery Tour\, along with all your favorite hits. RAIN – A Tribute to the Beatles promises an extraordinary journey through the eras that captivates hearts and inspires all generations.
URL:https://downtownwabash.org/event/rain-a-tribute-to-the-beatles/
ATTACH;FMTTYPE=image/jpeg:https://downtownwabash.org/wp-content/uploads/Show_Rain_Small-b9fab49922316b02872f3bdd4b34c10c.jpg
END:VEVENT
BEGIN:VEVENT
DTSTART;TZID=America/Indiana/Indianapolis:20250320T190000
DTEND;TZID=America/Indiana/Indianapolis:20250320T210000
DTSTAMP:20260424T120307
CREATED:20241122T152900Z
LAST-MODIFIED:20241122T152900Z
UID:9380-1742497200-1742504400@downtownwabash.org
SUMMARY:Hank & My Honky Tonk Heroes: 100 Years of Hank Williams
DESCRIPTION:Jason Petty celebrates Hank Williams’ 100th birthday with his critically acclaimed tribute\, a must-see show for classic country fans. Featuring a four-piece band\, this energetic concert performance will take you on a nostalgic journey through the legend’s career and his influence on country music.﻿ ﻿You’ll also hear those who influenced the legend\, including Jimmie Rodgers\, Roy Acuff\, The Carter Family\, and more.
URL:https://downtownwabash.org/event/hank-my-honky-tonk-heroes-100-years-of-hank-williams/
ATTACH;FMTTYPE=image/jpeg:https://downtownwabash.org/wp-content/uploads/Show_HonkyTonk_Small-0f80bb52c5f30b7b869097b5b3ba15a0.jpg
END:VEVENT
BEGIN:VEVENT
DTSTART;TZID=America/Indiana/Indianapolis:20250318T170000
DTEND;TZID=America/Indiana/Indianapolis:20250318T180000
DTSTAMP:20260424T120307
CREATED:20250130T194552Z
LAST-MODIFIED:20250130T194552Z
UID:9561-1742317200-1742320800@downtownwabash.org
SUMMARY:Mixed Media Exploration II
DESCRIPTION:Led by a professional artist and instructor\, young artists will explore projects combining materials and techniques such as printmaking\, collage\, chalk pastel\, graphite pencil\, and colored pencil. Class is every Tuesday from 5:15 pm to 6:15 pm. \nAll supplies included.
URL:https://downtownwabash.org/event/mixed-media-exploration-ii/
ATTACH;FMTTYPE=image/jpeg:https://downtownwabash.org/wp-content/uploads/3831321b-0a0b-48c7-a93e-d2c6cfa71475_Mixed_Media_Image-7d3969dde80e0d33ee8e80e8af4d5709.jpeg
END:VEVENT
BEGIN:VEVENT
DTSTART;TZID=America/Indiana/Indianapolis:20250318T160000
DTEND;TZID=America/Indiana/Indianapolis:20250318T170000
DTSTAMP:20260424T120307
CREATED:20250130T194524Z
LAST-MODIFIED:20250130T194524Z
UID:9559-1742313600-1742317200@downtownwabash.org
SUMMARY:Mixed Media Exploration I
DESCRIPTION:Join our fun-filled art class\, where young artists get to explore techniques like drawing\, painting\, printing\, and sculpting. Each session is packed with creativity and thoughtful professional instruction. Classes will take place every Tuesday from 4:00pm to 5:00pm. \nAll supplies provided.
URL:https://downtownwabash.org/event/mixed-media-exploration-i/
ATTACH;FMTTYPE=image/jpeg:https://downtownwabash.org/wp-content/uploads/mixed-media-1-a7336f8a5ec7642c3c991276581d8c66.jpeg
END:VEVENT
BEGIN:VEVENT
DTSTART;TZID=America/Indiana/Indianapolis:20250318T120000
DTEND;TZID=America/Indiana/Indianapolis:20250513T143000
DTSTAMP:20260424T120307
CREATED:20250130T194641Z
LAST-MODIFIED:20250130T194641Z
UID:9562-1742299200-1747146600@downtownwabash.org
SUMMARY:Senior Perspectives
DESCRIPTION:This fun and casual art class will explore different mediums and techniques. Sign up with a friend\, or plan to meet new ones during this weekly social event!\nAll materials provided\nFree transportation to and from classes is available through Living Well of Wabash County.​\nTo register\, please call Living Well at 260.563.4475 Mon.-Fri. 8-5\nClass is offered every Tuesday from 12pm to 2:30pm.
URL:https://downtownwabash.org/event/senior-perspectives/
END:VEVENT
BEGIN:VEVENT
DTSTART;TZID=America/Indiana/Indianapolis:20250317T180000
DTEND;TZID=America/Indiana/Indianapolis:20250317T193000
DTSTAMP:20260424T120307
CREATED:20250130T194245Z
LAST-MODIFIED:20250130T194245Z
UID:9557-1742234400-1742239800@downtownwabash.org
SUMMARY:Beginner Photography Bootcamp
DESCRIPTION:Explore photography fundamentals in an 8-week journey covering exposure\, composition\, light\, color\, storytelling\, and post-processing. Engage in hands-on challenges\, creative experiments\, and critiques to enhance your skills and curate a stunning portfolio showcasing your growth. Class is every Monday from 6:00pm to 7:30pm.
URL:https://downtownwabash.org/event/beginner-photography-bootcamp/
ATTACH;FMTTYPE=image/jpeg:https://downtownwabash.org/wp-content/uploads/photography-f7140457fa427014805befe4353323ab.jpeg
END:VEVENT
BEGIN:VEVENT
DTSTART;TZID=America/Indiana/Indianapolis:20250315T193000
DTEND;TZID=America/Indiana/Indianapolis:20250315T213000
DTSTAMP:20260424T120307
CREATED:20241205T141445Z
LAST-MODIFIED:20241205T141445Z
UID:9397-1742067000-1742074200@downtownwabash.org
SUMMARY:Montgomery Gentry: Feat. Eddie Montgomery
DESCRIPTION:Montgomery Gentry is known for 20-plus charted undeniable blue-collar anthems like “My Town” and “Hillbilly Shoes\,” earning the Kentucky natives CMA\, ACM\, and GRAMMY awards and nominations. The duo notched five #1 singles with “Something To Be Proud Of\,” “If You Ever Stop Loving Me\,” and more. They were inducted as Grand Ole Opry members in 2009 and into the Kentucky Music Hall of Fame in 2015.
URL:https://downtownwabash.org/event/montgomery-gentry-feat-eddie-montgomery/
ATTACH;FMTTYPE=image/jpeg:https://downtownwabash.org/wp-content/uploads/Show_Montgomery-Gentry-442d7279bab422d59f78c5b0e8f27ebe-scaled.jpg
END:VEVENT
BEGIN:VEVENT
DTSTART;TZID=America/Indiana/Indianapolis:20250310T100000
DTEND;TZID=America/Indiana/Indianapolis:20250310T130000
DTSTAMP:20260424T120307
CREATED:20240625T164149Z
LAST-MODIFIED:20240625T164149Z
UID:8739-1741600800-1741611600@downtownwabash.org
SUMMARY:Shaun Boothe
DESCRIPTION:A Honeywell Arts In Education Student Matinee\nShaun Boothe celebrates diversity and encourages empathy and humanity while honoring the greatest cultural icons of our times including Dr. Martin Luther King Jr.\, Barack Obama\, Malala Yousafzai\, and Muhammad Ali. Shaun uses biographical rap songs to celebrate and examine the lives of these most influential human rights and social justice activists. Shaun’s message is shared using one of the most powerful tools we have to bring people together during such challenging times – MUSIC! Student matinees are held during the school day as field trip opportunities\, but are open to the public as well. Shows at 10am and 12pm.
URL:https://downtownwabash.org/event/shaun-boothe/
LOCATION:Wabash\, IN\, 46992\, United States
ATTACH;FMTTYPE=image/jpeg:https://downtownwabash.org/wp-content/uploads/Show_ShaunBoothe_Large-59bcb80926ce7f9f0796d4a2b2336f88.jpg
END:VEVENT
BEGIN:VEVENT
DTSTART;TZID=America/Indiana/Indianapolis:20250309T180000
DTEND;TZID=America/Indiana/Indianapolis:20250309T200000
DTSTAMP:20260424T120307
CREATED:20240802T162637Z
LAST-MODIFIED:20240802T162637Z
UID:9166-1741543200-1741550400@downtownwabash.org
SUMMARY:Chris Botti
DESCRIPTION:GRAMMY-winning trumpeter Chris Botti has been one of the most popular instrumentalists in the world for nearly three decades. He’s collaborated with some of the biggest superstars on the planet. Botti has topped the jazz charts with numerous albums\, earned multiple Gold and Platinum records\, performed with symphony orchestras\, and on prestigious stages from Carnegie Hall to the Hollywood Bowl to the Sydney Opera House.
URL:https://downtownwabash.org/event/chris-botti/
LOCATION:Wabash\, IN\, 46992\, United States
ATTACH;FMTTYPE=image/jpeg:https://downtownwabash.org/wp-content/uploads/Chris-Botti-277b009863287ebf70290014f4079722.jpg
END:VEVENT
BEGIN:VEVENT
DTSTART;TZID=America/Indiana/Indianapolis:20250309T150000
DTEND;TZID=America/Indiana/Indianapolis:20250309T170000
DTSTAMP:20260424T120307
CREATED:20250130T194653Z
LAST-MODIFIED:20250130T194653Z
UID:9564-1741532400-1741539600@downtownwabash.org
SUMMARY:Manchester Symphony Orchestra: Boomerang!
DESCRIPTION:Experience the energy of Nordic folk music with SVER and the Manchester Symphony Orchestra as they present Boomerang! This vibrant concert will feature the premiere of Debra Lynn’s dynamic composition\, seamlessly blending SVER’s compelling sound with orchestral brilliance for an unforgettable evening of music.
URL:https://downtownwabash.org/event/manchester-symphony-orchestra-boomerang/
ATTACH;FMTTYPE=image/jpeg:https://downtownwabash.org/wp-content/uploads/MSO_Small-Show-657cf206f60c99af8ad1b8cb1829ee0e.jpg
END:VEVENT
BEGIN:VEVENT
DTSTART;TZID=America/Indiana/Indianapolis:20250308T193000
DTEND;TZID=America/Indiana/Indianapolis:20250308T213000
DTSTAMP:20260424T120307
CREATED:20241023T160445Z
LAST-MODIFIED:20241023T160445Z
UID:9347-1741462200-1741469400@downtownwabash.org
SUMMARY:Three Dog Night
DESCRIPTION:Three Dog Night claims some of the most astonishing statistics in popular music\, whether on the radio\, in TV commercials\, or major motion pictures. The band holds a Billboard Magazine record for releasing 21 consecutive Top 40 hits\, including three #1 singles\, seven platinum-selling singles\, and 12 straight RIAA Certified Gold LPs. Three Dog Night is known for hits like “Mama Told Me (Not To Come)\,” “Joy to the World\,” “Black and White\,” “Shambala\,” and “One.”
URL:https://downtownwabash.org/event/three-dog-night/
ATTACH;FMTTYPE=image/jpeg:https://downtownwabash.org/wp-content/uploads/Three-Dog-Night-3f2bd185554dab69bcccab8cb5ab2925.jpg
END:VEVENT
END:VCALENDAR