BEGIN:VCALENDAR
VERSION:2.0
PRODID:-//Downtown Wabash, Inc. - ECPv6.15.17.1//NONSGML v1.0//EN
CALSCALE:GREGORIAN
METHOD:PUBLISH
X-WR-CALNAME:Downtown Wabash, Inc.
X-ORIGINAL-URL:https://downtownwabash.org
X-WR-CALDESC:Events for Downtown Wabash, Inc.
REFRESH-INTERVAL;VALUE=DURATION:PT1H
X-Robots-Tag:noindex
X-PUBLISHED-TTL:PT1H
BEGIN:VTIMEZONE
TZID:America/Indiana/Indianapolis
BEGIN:DAYLIGHT
TZOFFSETFROM:-0500
TZOFFSETTO:-0400
TZNAME:EDT
DTSTART:20230312T070000
END:DAYLIGHT
BEGIN:STANDARD
TZOFFSETFROM:-0400
TZOFFSETTO:-0500
TZNAME:EST
DTSTART:20231105T060000
END:STANDARD
BEGIN:DAYLIGHT
TZOFFSETFROM:-0500
TZOFFSETTO:-0400
TZNAME:EDT
DTSTART:20240310T070000
END:DAYLIGHT
BEGIN:STANDARD
TZOFFSETFROM:-0400
TZOFFSETTO:-0500
TZNAME:EST
DTSTART:20241103T060000
END:STANDARD
BEGIN:DAYLIGHT
TZOFFSETFROM:-0500
TZOFFSETTO:-0400
TZNAME:EDT
DTSTART:20250309T070000
END:DAYLIGHT
BEGIN:STANDARD
TZOFFSETFROM:-0400
TZOFFSETTO:-0500
TZNAME:EST
DTSTART:20251102T060000
END:STANDARD
END:VTIMEZONE
BEGIN:VEVENT
DTSTART;TZID=America/Indiana/Indianapolis:20240716T080000
DTEND;TZID=America/Indiana/Indianapolis:20240716T170000
DTSTAMP:20260425T063104
CREATED:20240222T144740Z
LAST-MODIFIED:20240411T181201Z
UID:8120-1721116800-1721149200@downtownwabash.org
SUMMARY:Terry Pulley Exhibit
DESCRIPTION:Wabash and Beyond. Sponsored by Mark Barnett
URL:https://downtownwabash.org/event/terry-pulley-exhibit-2024-07-16/
LOCATION:Wabash\, IN\, 46992\, United States
ATTACH;FMTTYPE=image/jpeg:https://downtownwabash.org/wp-content/uploads/HC-Gallery2-9a0651035292067c6606ce068b988777.jpg
END:VEVENT
BEGIN:VEVENT
DTSTART;TZID=America/Indiana/Indianapolis:20240717T080000
DTEND;TZID=America/Indiana/Indianapolis:20240717T170000
DTSTAMP:20260425T063104
CREATED:20240222T144740Z
LAST-MODIFIED:20240411T181203Z
UID:8121-1721203200-1721235600@downtownwabash.org
SUMMARY:Terry Pulley Exhibit
DESCRIPTION:Wabash and Beyond. Sponsored by Mark Barnett
URL:https://downtownwabash.org/event/terry-pulley-exhibit-2024-07-17/
LOCATION:Wabash\, IN\, 46992\, United States
ATTACH;FMTTYPE=image/jpeg:https://downtownwabash.org/wp-content/uploads/HC-Gallery2-9a0651035292067c6606ce068b988777.jpg
END:VEVENT
BEGIN:VEVENT
DTSTART;TZID=America/Indiana/Indianapolis:20240718T080000
DTEND;TZID=America/Indiana/Indianapolis:20240718T170000
DTSTAMP:20260425T063104
CREATED:20240222T144740Z
LAST-MODIFIED:20240411T181204Z
UID:8122-1721289600-1721322000@downtownwabash.org
SUMMARY:Terry Pulley Exhibit
DESCRIPTION:Wabash and Beyond. Sponsored by Mark Barnett
URL:https://downtownwabash.org/event/terry-pulley-exhibit-2024-07-18/
LOCATION:Wabash\, IN\, 46992\, United States
ATTACH;FMTTYPE=image/jpeg:https://downtownwabash.org/wp-content/uploads/HC-Gallery2-9a0651035292067c6606ce068b988777.jpg
END:VEVENT
BEGIN:VEVENT
DTSTART;TZID=America/Indiana/Indianapolis:20240718T113000
DTEND;TZID=America/Indiana/Indianapolis:20240718T123000
DTSTAMP:20260425T063104
CREATED:20240220T204737Z
LAST-MODIFIED:20240220T204737Z
UID:7423-1721302200-1721305800@downtownwabash.org
SUMMARY:Mrs. Honeywell's Birthday Tea
DESCRIPTION:Enjoy a very special celebration in honor of Mrs. Honeywell with a “low tea” luncheon and fashion show. The Francis Shoppe will delight you with their beautiful fashions as we savor treats of tea sandwiches\, sweets\, and pastries made by Chef David Ericsson. Treat yourself and invite a friend to attend this delightful event.
URL:https://downtownwabash.org/event/mrs-honeywells-birthday-tea/
LOCATION:Wabash\, IN\, 46992\, United States
ATTACH;FMTTYPE=image/jpeg:https://downtownwabash.org/wp-content/uploads/HoneywellHouse-e88710e12d523906202044eac98ea539.jpg
END:VEVENT
BEGIN:VEVENT
DTSTART;TZID=America/Indiana/Indianapolis:20240718T190000
DTEND;TZID=America/Indiana/Indianapolis:20240718T210000
DTSTAMP:20260425T063104
CREATED:20240220T212626Z
LAST-MODIFIED:20240220T212626Z
UID:7427-1721329200-1721336400@downtownwabash.org
SUMMARY:Twitty and Lynn: A Salute to Conway and Loretta
DESCRIPTION:Step into a time machine with Twitty & Lynn\, where grandchildren of legends Conway Twitty and Loretta Lynn bring the magic of the past to the present in their show\, A Salute to Conway & Loretta. The duo honors the legacy with stories and timeless duets like “Louisiana Woman\, Mississippi Man” and “After the Fire Is Gone.” They bridge generations\, sharing songs and a genuine connection that defines the essence of country music.
URL:https://downtownwabash.org/event/twitty-and-lynn-a-salute-to-conway-and-loretta/
LOCATION:Wabash\, IN\, 46992\, United States
ATTACH;FMTTYPE=image/jpeg:https://downtownwabash.org/wp-content/uploads/ET-Eagles-Theatre-ad192b6904f481886db58498efd82769.jpg
END:VEVENT
BEGIN:VEVENT
DTSTART;TZID=America/Indiana/Indianapolis:20240718T213000
DTEND;TZID=America/Indiana/Indianapolis:20240718T233000
DTSTAMP:20260425T063104
CREATED:20240531T164402Z
LAST-MODIFIED:20240531T164402Z
UID:8619-1721338200-1721345400@downtownwabash.org
SUMMARY:Retro Reels: Bring It On
DESCRIPTION:A champion high school cheerleading squad discovers its previous captain stole all their best routines from an inner-city school and must scramble to compete at this year’s championships.
URL:https://downtownwabash.org/event/retro-reels-bring-it-on/
LOCATION:Wabash\, IN\, 46992\, United States
ATTACH;FMTTYPE=image/jpeg:https://downtownwabash.org/wp-content/uploads/Bring-it-On-99690f49c6561ca73d413ff943f40f39.jpg
END:VEVENT
BEGIN:VEVENT
DTSTART;TZID=America/Indiana/Indianapolis:20240719T080000
DTEND;TZID=America/Indiana/Indianapolis:20240719T170000
DTSTAMP:20260425T063104
CREATED:20240222T144740Z
LAST-MODIFIED:20240411T181205Z
UID:8123-1721376000-1721408400@downtownwabash.org
SUMMARY:Terry Pulley Exhibit
DESCRIPTION:Wabash and Beyond. Sponsored by Mark Barnett
URL:https://downtownwabash.org/event/terry-pulley-exhibit-2024-07-19/
LOCATION:Wabash\, IN\, 46992\, United States
ATTACH;FMTTYPE=image/jpeg:https://downtownwabash.org/wp-content/uploads/HC-Gallery2-9a0651035292067c6606ce068b988777.jpg
END:VEVENT
BEGIN:VEVENT
DTSTART;TZID=America/Indiana/Indianapolis:20240720T080000
DTEND;TZID=America/Indiana/Indianapolis:20240720T120000
DTSTAMP:20260425T063104
CREATED:20240403T172348Z
LAST-MODIFIED:20240513T161721Z
UID:8537-1721462400-1721476800@downtownwabash.org
SUMMARY:Downtown Wabash Farmers Market
DESCRIPTION:Spend your Saturday mornings at the Downtown Wabash Farmers Market in Downtown Wabash\, Indiana! Start your weekend with wholesome\, enriching\, locally sourced products from some of our most unique vendors in Wabash and surrounding counties. \nFind handmade\, homemade & homegrown products like fresh produce\, organic meats\, homemade ice cream\, hand-poured candles & soaps\, cotton candy\, pottery\, wood & metal works and so much more. \nAll dogs welcome! \nThe 2024 Downtown Wabash Farmers Market is presented by Bowen Health Clinic. Additional support comes from Level 3 Event Partner: Grow Wabash County.
URL:https://downtownwabash.org/event/downtown-wabash-farmers-market-3-2024-07-20/
LOCATION:Wabash\, IN\, 46992\, United States
CATEGORIES:Farmers Market,Wabash Cultural District
ATTACH;FMTTYPE=image/jpeg:https://downtownwabash.org/wp-content/uploads/IMG_3116.jpg
ORGANIZER;CN="Downtown Wabash":MAILTO:(260) 563-0975
END:VEVENT
BEGIN:VEVENT
DTSTART;TZID=America/Indiana/Indianapolis:20240722T130000
DTEND;TZID=America/Indiana/Indianapolis:20240722T210000
DTSTAMP:20260425T063104
CREATED:20240625T164300Z
LAST-MODIFIED:20240625T164300Z
UID:8840-1721653200-1721682000@downtownwabash.org
SUMMARY:Free Movie Mondays
DESCRIPTION:Every Monday this summer. Showtimes at 1 pm & 7 pm in the main Eagles Theatre. Sensory-friendly will be available in the Ferguson Theatre for select showings.\nJune 24- Spider-Man: Into the Spider-Verse\nJuly 1- Lyle\, Lyle\, Crocodile\n(No 7 pm sensory-friendly showing available)\nJuly 8 – Peter Rabbit\nJuly 15 – Hotel Transylvania\nJuly 22 – The Angry Birds Movie\n(No 7 pm sensory-friendly showing available)\nJuly 29 – Cloudy with a Chance of Meatballs\nAug. 5 – Spy Kids
URL:https://downtownwabash.org/event/free-movie-mondays-2024-07-22/
LOCATION:Wabash\, IN\, 46992\, United States
ATTACH;FMTTYPE=image/jpeg:https://downtownwabash.org/wp-content/uploads/ET-Eagles-Theatre-b8b2b38a9a4f68623c1faf8c2f53f1af.jpg
END:VEVENT
BEGIN:VEVENT
DTSTART;TZID=America/Indiana/Indianapolis:20240725T190000
DTEND;TZID=America/Indiana/Indianapolis:20240725T200000
DTSTAMP:20260425T063104
CREATED:20240220T212502Z
LAST-MODIFIED:20240220T212502Z
UID:7429-1721934000-1721937600@downtownwabash.org
SUMMARY:Chanticleer
DESCRIPTION:Chanticleer and pianist William Foster McDaniel return to delight Honeywell House audiences with a program to include Haydn‘s String Quartet Op.77 #1.
URL:https://downtownwabash.org/event/chanticleer/
LOCATION:Wabash\, IN\, 46992\, United States
ATTACH;FMTTYPE=image/jpeg:https://downtownwabash.org/wp-content/uploads/HoneywellHouse-6bb2e2089bf4c5e58b032c0902166efc.jpg
END:VEVENT
BEGIN:VEVENT
DTSTART;TZID=America/Indiana/Indianapolis:20240725T213000
DTEND;TZID=America/Indiana/Indianapolis:20240725T233000
DTSTAMP:20260425T063104
CREATED:20240531T164327Z
LAST-MODIFIED:20240531T164327Z
UID:8621-1721943000-1721950200@downtownwabash.org
SUMMARY:Retro Reels: Smokey and the Bandit
DESCRIPTION:The Bandit is hired on to run a tractor trailer full of beer over county lines in hot pursuit by a pesky sheriff.
URL:https://downtownwabash.org/event/retro-reels-smokey-and-the-bandit/
LOCATION:Wabash\, IN\, 46992\, United States
ATTACH;FMTTYPE=image/jpeg:https://downtownwabash.org/wp-content/uploads/Smokey-and-the-Bandit-b92182f5df7ba940290a3b8320c18b22.jpg
END:VEVENT
BEGIN:VEVENT
DTSTART;TZID=America/Indiana/Indianapolis:20240726T183000
DTEND;TZID=America/Indiana/Indianapolis:20240726T210000
DTSTAMP:20260425T063104
CREATED:20240531T164557Z
LAST-MODIFIED:20240531T164557Z
UID:8576-1722018600-1722027600@downtownwabash.org
SUMMARY:Adult Social Media Inspired Squeegee Painting
DESCRIPTION:Try your hand at social media-inspired squeegee painting! This fun technique uses a squeegee and acrylic paints to blend colors and create mesmerizing abstract masterpieces. Wine will be available for purchase.
URL:https://downtownwabash.org/event/adult-social-media-inspired-squeegee-painting/
LOCATION:Wabash\, IN\, 46992\, United States
ATTACH;FMTTYPE=image/jpeg:https://downtownwabash.org/wp-content/uploads/Squeegee-89253d12fbb0701509050ec11f274902.jpg
END:VEVENT
BEGIN:VEVENT
DTSTART;TZID=America/Indiana/Indianapolis:20240727T080000
DTEND;TZID=America/Indiana/Indianapolis:20240727T120000
DTSTAMP:20260425T063104
CREATED:20240403T172348Z
LAST-MODIFIED:20240513T161525Z
UID:8507-1722067200-1722081600@downtownwabash.org
SUMMARY:Downtown Wabash Farmers Market
DESCRIPTION:Spend your Saturday mornings at the Downtown Wabash Farmers Market in Downtown Wabash\, Indiana! Start your weekend with wholesome\, enriching\, locally sourced products from some of our most unique vendors in Wabash and surrounding counties. \nFind handmade\, homemade & homegrown products like fresh produce\, organic meats\, homemade ice cream\, hand-poured candles & soaps\, cotton candy\, pottery\, wood & metal works and so much more. \nAll dogs welcome! \nThe Downtown Wabash Farmers Market in 2024 are presented by Bowen Health Clinic. Additional support comes from Level 2 Event Partner: Grow Wabash County.
URL:https://downtownwabash.org/event/downtown-wabash-farmers-market-3-2024-07-27/
LOCATION:Wabash\, IN\, 46992\, United States
CATEGORIES:Farmers Market,Wabash Cultural District
ATTACH;FMTTYPE=image/jpeg:https://downtownwabash.org/wp-content/uploads/IMG_3116.jpg
ORGANIZER;CN="Downtown Wabash":MAILTO:(260) 563-0975
END:VEVENT
BEGIN:VEVENT
DTSTART;TZID=America/Indiana/Indianapolis:20240727T130000
DTEND;TZID=America/Indiana/Indianapolis:20240727T163000
DTSTAMP:20260425T063104
CREATED:20240531T164544Z
LAST-MODIFIED:20240531T164544Z
UID:8578-1722085200-1722097800@downtownwabash.org
SUMMARY:All Ages Social Media Inspired Squeegee Painting
DESCRIPTION:Try your hand at social media-inspired squeegee painting! This fun technique uses a squeegee and acrylic paints to blend colors and create mesmerizing abstract masterpieces.
URL:https://downtownwabash.org/event/all-ages-social-media-inspired-squeegee-painting/
LOCATION:Wabash\, IN\, 46992\, United States
ATTACH;FMTTYPE=image/jpeg:https://downtownwabash.org/wp-content/uploads/Squeegee-c8c16911a9d6221b9a3e06a03629cd0a.jpg
END:VEVENT
BEGIN:VEVENT
DTSTART;TZID=America/Indiana/Indianapolis:20240727T140000
DTEND;TZID=America/Indiana/Indianapolis:20240727T200000
DTSTAMP:20260425T063104
CREATED:20240404T135524Z
LAST-MODIFIED:20240404T135524Z
UID:7655-1722088800-1722110400@downtownwabash.org
SUMMARY:No Exit
DESCRIPTION:Fire Line Productions of Wabash features local talent in this production of No Exit. Step into the realm of existential drama as the stage transforms into an intimate black box experience like never before. Prepare for an immersive journey into the minds of three strangers who find themselves in a mysterious room. In this thought-provoking adaptation of Jean-Paul Sartre’s timeless masterpiece\, No Exit\, the talented cast will lead viewers through a labyrinth of human emotions\, exposing the complexities of choice\, guilt\, and the haunting nature of existence. Shows will be at 2pm and 7:30pm on 7/27. 2pm and 6pm on 7/28.
URL:https://downtownwabash.org/event/no-exit/
LOCATION:Wabash\, IN\, 46992\, United States
ATTACH;FMTTYPE=image/jpeg:https://downtownwabash.org/wp-content/uploads/HC-Ford-Theater-4ceaed52881f20585294afb7ee68cfc9.jpg
END:VEVENT
BEGIN:VEVENT
DTSTART;TZID=America/Indiana/Indianapolis:20240728T140000
DTEND;TZID=America/Indiana/Indianapolis:20240728T200000
DTSTAMP:20260425T063104
CREATED:20240404T135524Z
LAST-MODIFIED:20240404T135524Z
UID:7921-1722175200-1722196800@downtownwabash.org
SUMMARY:No Exit
DESCRIPTION:Fire Line Productions of Wabash features local talent in this production of No Exit. Step into the realm of existential drama as the stage transforms into an intimate black box experience like never before. Prepare for an immersive journey into the minds of three strangers who find themselves in a mysterious room. In this thought-provoking adaptation of Jean-Paul Sartre’s timeless masterpiece\, No Exit\, the talented cast will lead viewers through a labyrinth of human emotions\, exposing the complexities of choice\, guilt\, and the haunting nature of existence. Shows will be at 2pm and 7:30pm on 7/27. 2pm and 6pm on 7/28.
URL:https://downtownwabash.org/event/no-exit-2024-07-28/
LOCATION:Wabash\, IN\, 46992\, United States
ATTACH;FMTTYPE=image/jpeg:https://downtownwabash.org/wp-content/uploads/HC-Ford-Theater-4ceaed52881f20585294afb7ee68cfc9.jpg
END:VEVENT
BEGIN:VEVENT
DTSTART;TZID=America/Indiana/Indianapolis:20240729T130000
DTEND;TZID=America/Indiana/Indianapolis:20240729T210000
DTSTAMP:20260425T063104
CREATED:20240625T164300Z
LAST-MODIFIED:20240625T164300Z
UID:8841-1722258000-1722286800@downtownwabash.org
SUMMARY:Free Movie Mondays
DESCRIPTION:Every Monday this summer. Showtimes at 1 pm & 7 pm in the main Eagles Theatre. Sensory-friendly will be available in the Ferguson Theatre for select showings.\nJune 24- Spider-Man: Into the Spider-Verse\nJuly 1- Lyle\, Lyle\, Crocodile\n(No 7 pm sensory-friendly showing available)\nJuly 8 – Peter Rabbit\nJuly 15 – Hotel Transylvania\nJuly 22 – The Angry Birds Movie\n(No 7 pm sensory-friendly showing available)\nJuly 29 – Cloudy with a Chance of Meatballs\nAug. 5 – Spy Kids
URL:https://downtownwabash.org/event/free-movie-mondays-2024-07-29/
LOCATION:Wabash\, IN\, 46992\, United States
ATTACH;FMTTYPE=image/jpeg:https://downtownwabash.org/wp-content/uploads/ET-Eagles-Theatre-b8b2b38a9a4f68623c1faf8c2f53f1af.jpg
END:VEVENT
BEGIN:VEVENT
DTSTART;TZID=America/Indiana/Indianapolis:20240801T100000
DTEND;TZID=America/Indiana/Indianapolis:20240801T113000
DTSTAMP:20260425T063104
CREATED:20240531T164349Z
LAST-MODIFIED:20240531T164349Z
UID:8630-1722506400-1722511800@downtownwabash.org
SUMMARY:The Thursday Parlay: The Woman's Clubhouse
DESCRIPTION:Join us for coffee and a treat\, provided by our sponsor Bob Evans Restaurant. Ellen Stouffer will share the history of this historic building and its many lives\, all of which have contributed to life in Wabash. Ellen and her husband\, artist Bill Stouffer\, led the charge in the early 2000s to not Park. only save but to fully restore back to use this 130+ year old building. Today she is here to share the history and impact of this incredible building. “The Thursday Parlay” will take place from 10 to 11:30 am on Thursday\, August 1st. This is a free event brought to you by the Wabash County Museum. RVSPs are encouraged on our website.
URL:https://downtownwabash.org/event/the-thursday-parlay-the-womans-clubhouse/
LOCATION:Wabash\, IN\, 46992\, United States
ATTACH;FMTTYPE=image/png:https://downtownwabash.org/wp-content/uploads/The-Womans-Clubhouse-2-40c5e9379afb4c596594287f43fe4bca.png
END:VEVENT
BEGIN:VEVENT
DTSTART;TZID=America/Indiana/Indianapolis:20240801T190000
DTEND;TZID=America/Indiana/Indianapolis:20240801T210000
DTSTAMP:20260425T063104
CREATED:20240220T212442Z
LAST-MODIFIED:20240220T212442Z
UID:7431-1722538800-1722546000@downtownwabash.org
SUMMARY:Sawyer Brown
DESCRIPTION:Sawyer Brown\, formed in 1981\, has captivated audiences for over four decades. With a unique blend of country\, rock\, and pop\, lead vocalist Mark Miller\, keyboardist Gregg “Hobie” Hubbard\, guitarist Shayne Hill\, and drummer Joe Smyth create a harmonious and recognizable sound. Their breakthrough in the late ’80s with the hit single “Step That Step” solidified their prominence in country music.
URL:https://downtownwabash.org/event/sawyer-brown/
LOCATION:Wabash\, IN\, 46992\, United States
ATTACH;FMTTYPE=image/jpeg:https://downtownwabash.org/wp-content/uploads/HC-Ford-Theater-a43bf10f4591d95c9cc26a57e58cb6d8.jpg
END:VEVENT
BEGIN:VEVENT
DTSTART;TZID=America/Indiana/Indianapolis:20240801T213000
DTEND;TZID=America/Indiana/Indianapolis:20240801T233000
DTSTAMP:20260425T063104
CREATED:20240531T164336Z
LAST-MODIFIED:20240531T164336Z
UID:8623-1722547800-1722555000@downtownwabash.org
SUMMARY:Retro Reels: The Rugrats Movie
DESCRIPTION:Tommy\, Chuckie\, Phil\, Lil and newborn baby Dil get lost in the forest.
URL:https://downtownwabash.org/event/retro-reels-the-rugrats-movie/
LOCATION:Wabash\, IN\, 46992\, United States
ATTACH;FMTTYPE=image/jpeg:https://downtownwabash.org/wp-content/uploads/Rugrats-a9920416ede679007fff704da21eba24.jpg
END:VEVENT
BEGIN:VEVENT
DTSTART;TZID=America/Indiana/Indianapolis:20240802T170000
DTEND;TZID=America/Indiana/Indianapolis:20240802T200000
DTSTAMP:20260425T063104
CREATED:20240709T170856Z
LAST-MODIFIED:20240731T184545Z
UID:8856-1722618000-1722628800@downtownwabash.org
SUMMARY:August First Friday: Downtown Throwdown
DESCRIPTION:Ladies and gentlemen\, please welcome to Miami Street… THE DOWNTOWN THROWDOWN\, presented by the Apache Wrestling Club! This event\, formerly known as Thrash in the Bash\, is a fan-favorite community spectacle. Gather on Miami Street for a friendship format\, folk-style wrestling tournament open to all age brackets. The event will also feature numerous shopping & dining specials\, the return of Food Truck Plaza\, Miami Street community vendor booths and so much more! \nWabash First Fridays in 2024 are presented by MetalX and Bowen Health Clinic. Additional support for Wabash First Fridays come from Event Partners: Indiana Plain Dealer\, Pettit Printing\, Wabash Furniture and Flooring\, 95.9 KISS FM\, Wabash Domino’s and Dynamic Designs by Dyson.  \nWabash First Fridays are events made possible by Downtown Wabash\, Inc.\, a 501(c)(3) nonprofit dedicated to a downtown district that is vibrant every day and night.
URL:https://downtownwabash.org/event/august-first-friday-downtown-throwdown-2/
LOCATION:Wabash\, IN\, 46992\, United States
CATEGORIES:First Friday,Sidewalk Sales,Wabash Cultural District
ATTACH;FMTTYPE=image/png:https://downtownwabash.org/wp-content/uploads/August-First-Friday-Downtown-Throwdown-in-Downtown-Wabash-Indiana.png
ORGANIZER;CN="Downtown Wabash":MAILTO:(260) 563-0975
END:VEVENT
BEGIN:VEVENT
DTSTART;TZID=America/Indiana/Indianapolis:20240803T080000
DTEND;TZID=America/Indiana/Indianapolis:20240803T120000
DTSTAMP:20260425T063104
CREATED:20240403T172348Z
LAST-MODIFIED:20240513T161526Z
UID:8508-1722672000-1722686400@downtownwabash.org
SUMMARY:Downtown Wabash Farmers Market
DESCRIPTION:Spend your Saturday mornings at the Downtown Wabash Farmers Market in Downtown Wabash\, Indiana! Start your weekend with wholesome\, enriching\, locally sourced products from some of our most unique vendors in Wabash and surrounding counties. \nFind handmade\, homemade & homegrown products like fresh produce\, organic meats\, homemade ice cream\, hand-poured candles & soaps\, cotton candy\, pottery\, wood & metal works and so much more. \nAll dogs welcome! \nThe Downtown Wabash Farmers Market in 2024 are presented by Bowen Health Clinic. Additional support comes from Level 2 Event Partner: Grow Wabash County.
URL:https://downtownwabash.org/event/downtown-wabash-farmers-market-3-2024-08-03/
LOCATION:Wabash\, IN\, 46992\, United States
CATEGORIES:Farmers Market,Wabash Cultural District
ATTACH;FMTTYPE=image/jpeg:https://downtownwabash.org/wp-content/uploads/IMG_3116.jpg
ORGANIZER;CN="Downtown Wabash":MAILTO:(260) 563-0975
END:VEVENT
BEGIN:VEVENT
DTSTART;TZID=America/Indiana/Indianapolis:20240803T193000
DTEND;TZID=America/Indiana/Indianapolis:20240803T213000
DTSTAMP:20260425T063104
CREATED:20240220T212424Z
LAST-MODIFIED:20240220T212424Z
UID:7433-1722713400-1722720600@downtownwabash.org
SUMMARY:TUSK: The World's #1 Fleetwood Mac Tribute
DESCRIPTION:Experience TUSK\, The World’s #1 Fleetwood Mac Tribute\, as they honor the 4-decade history of the evolutionary Fleetwood Mac. Enjoy iconic Fleetwood Mac hits like “Go Your Own Way\,” “Rhiannon\,” and “Don’t Stop.” Tusk’s authenticity shines through vocal precision\, physical resemblance\, and dynamic synergy among its five founding members. This genuine connection\, built over time and friendship\, solidifies Tusk as the world’s #1 tribute to Fleetwood Mac.
URL:https://downtownwabash.org/event/tusk-the-worlds-1-fleetwood-mac-tribute/
LOCATION:Wabash\, IN\, 46992\, United States
ATTACH;FMTTYPE=image/jpeg:https://downtownwabash.org/wp-content/uploads/HC-Ford-Theater-de1d16a9749ce884c865096decbb394b.jpg
END:VEVENT
BEGIN:VEVENT
DTSTART;TZID=America/Indiana/Indianapolis:20240805T130000
DTEND;TZID=America/Indiana/Indianapolis:20240805T210000
DTSTAMP:20260425T063104
CREATED:20240625T164300Z
LAST-MODIFIED:20240625T164300Z
UID:8842-1722862800-1722891600@downtownwabash.org
SUMMARY:Free Movie Mondays
DESCRIPTION:Every Monday this summer. Showtimes at 1 pm & 7 pm in the main Eagles Theatre. Sensory-friendly will be available in the Ferguson Theatre for select showings.\nJune 24- Spider-Man: Into the Spider-Verse\nJuly 1- Lyle\, Lyle\, Crocodile\n(No 7 pm sensory-friendly showing available)\nJuly 8 – Peter Rabbit\nJuly 15 – Hotel Transylvania\nJuly 22 – The Angry Birds Movie\n(No 7 pm sensory-friendly showing available)\nJuly 29 – Cloudy with a Chance of Meatballs\nAug. 5 – Spy Kids
URL:https://downtownwabash.org/event/free-movie-mondays-2024-08-05/
LOCATION:Wabash\, IN\, 46992\, United States
ATTACH;FMTTYPE=image/jpeg:https://downtownwabash.org/wp-content/uploads/ET-Eagles-Theatre-b8b2b38a9a4f68623c1faf8c2f53f1af.jpg
END:VEVENT
BEGIN:VEVENT
DTSTART;TZID=America/Indiana/Indianapolis:20240807T090000
DTEND;TZID=America/Indiana/Indianapolis:20240807T100000
DTSTAMP:20260425T063104
CREATED:20240109T194506Z
LAST-MODIFIED:20240109T194934Z
UID:7148-1723021200-1723024800@downtownwabash.org
SUMMARY:Downtown Wabash Merchant Meetings
DESCRIPTION:The monthly meeting held every first Wednesday for all small businesses in Downtown Wabash to stay current with information from Downtown Wabash\, Inc.
URL:https://downtownwabash.org/event/downtown-wabash-merchant-meetings-17/
LOCATION:Wabash\, IN\, 46992\, United States
CATEGORIES:Merchant Meetings
ATTACH;FMTTYPE=image/jpeg:https://downtownwabash.org/wp-content/uploads/Merchant-Meetings-in-Downtown-Wabash-14.jpg
END:VEVENT
BEGIN:VEVENT
DTSTART;TZID=America/Indiana/Indianapolis:20240808T120000
DTEND;TZID=America/Indiana/Indianapolis:20240808T130000
DTSTAMP:20260425T063104
CREATED:20240531T164434Z
LAST-MODIFIED:20240531T164434Z
UID:8595-1723118400-1723122000@downtownwabash.org
SUMMARY:Watercolor Geode Magnets
DESCRIPTION:Using watercolor and salt\, you’ll create mystical\, magical magnets. Bring your lunch and be in and out in an hour!
URL:https://downtownwabash.org/event/watercolor-geode-magnets/
LOCATION:Wabash\, IN\, 46992\, United States
ATTACH;FMTTYPE=image/jpeg:https://downtownwabash.org/wp-content/uploads/Watercolor-Geode-Magnets-825e0f5002a4ecb4e2f33cfda96d75c9.jpg
END:VEVENT
BEGIN:VEVENT
DTSTART;TZID=America/Indiana/Indianapolis:20240808T120000
DTEND;TZID=America/Indiana/Indianapolis:20240808T130000
DTSTAMP:20260425T063104
CREATED:20240531T164523Z
LAST-MODIFIED:20240531T164523Z
UID:8580-1723118400-1723122000@downtownwabash.org
SUMMARY:Watercolor Geode Magnets
DESCRIPTION:Using watercolor and salt\, you’ll create mystical\, magical magnets. Bring your lunch and be in and out in an hour!
URL:https://downtownwabash.org/event/watercolor-geode-magnets/
LOCATION:Wabash\, IN\, 46992\, United States
ATTACH;FMTTYPE=image/jpeg:https://downtownwabash.org/wp-content/uploads/Watercolor-Geode-Magnets-62bb646263d41813006b0ad1dc51e647.jpg
END:VEVENT
BEGIN:VEVENT
DTSTART;TZID=America/Indiana/Indianapolis:20240810T080000
DTEND;TZID=America/Indiana/Indianapolis:20240810T120000
DTSTAMP:20260425T063104
CREATED:20240403T172348Z
LAST-MODIFIED:20240513T161527Z
UID:8509-1723276800-1723291200@downtownwabash.org
SUMMARY:Downtown Wabash Farmers Market
DESCRIPTION:Spend your Saturday mornings at the Downtown Wabash Farmers Market in Downtown Wabash\, Indiana! Start your weekend with wholesome\, enriching\, locally sourced products from some of our most unique vendors in Wabash and surrounding counties. \nFind handmade\, homemade & homegrown products like fresh produce\, organic meats\, homemade ice cream\, hand-poured candles & soaps\, cotton candy\, pottery\, wood & metal works and so much more. \nAll dogs welcome! \nThe Downtown Wabash Farmers Market in 2024 are presented by Bowen Health Clinic. Additional support comes from Level 2 Event Partner: Grow Wabash County.
URL:https://downtownwabash.org/event/downtown-wabash-farmers-market-3-2024-08-10/
LOCATION:Wabash\, IN\, 46992\, United States
CATEGORIES:Farmers Market,Wabash Cultural District
ATTACH;FMTTYPE=image/jpeg:https://downtownwabash.org/wp-content/uploads/IMG_3116.jpg
ORGANIZER;CN="Downtown Wabash":MAILTO:(260) 563-0975
END:VEVENT
BEGIN:VEVENT
DTSTART;TZID=America/Indiana/Indianapolis:20240810T193000
DTEND;TZID=America/Indiana/Indianapolis:20240810T213000
DTSTAMP:20260425T063104
CREATED:20240404T135321Z
LAST-MODIFIED:20240404T135321Z
UID:7915-1723318200-1723325400@downtownwabash.org
SUMMARY:KANSAS
DESCRIPTION:KANSAS will be performing a set of KANSAS classics. Fans will hear KANSAS classics such as “Carry On Wayward Son\,” “Dust in the Wind\,” “Point of Know Return\,” “Fight Fire With Fire\,” “Hold On\,” deep cuts\, and much more.
URL:https://downtownwabash.org/event/kansas/
LOCATION:Wabash\, IN\, 46992\, United States
ATTACH;FMTTYPE=image/jpeg:https://downtownwabash.org/wp-content/uploads/HC-Ford-Theater-a75b32441df23b502cfd4739850264d5.jpg
END:VEVENT
BEGIN:VEVENT
DTSTART;TZID=America/Indiana/Indianapolis:20240813T120000
DTEND;TZID=America/Indiana/Indianapolis:20240813T130000
DTSTAMP:20260425T063104
CREATED:20240102T180005Z
LAST-MODIFIED:20240102T180005Z
UID:7101-1723550400-1723554000@downtownwabash.org
SUMMARY:August 2024 Board Meeting
DESCRIPTION:
URL:https://downtownwabash.org/event/august-2024-board-meeting/
LOCATION:Wabash\, IN\, 46992\, United States
CATEGORIES:Board Member Meeting
ORGANIZER;CN="Downtown Wabash":MAILTO:(260) 563-0975
END:VEVENT
END:VCALENDAR