BEGIN:VCALENDAR
VERSION:2.0
PRODID:-//Downtown Wabash, Inc. - ECPv6.15.17.1//NONSGML v1.0//EN
CALSCALE:GREGORIAN
METHOD:PUBLISH
X-WR-CALNAME:Downtown Wabash, Inc.
X-ORIGINAL-URL:https://downtownwabash.org
X-WR-CALDESC:Events for Downtown Wabash, Inc.
REFRESH-INTERVAL;VALUE=DURATION:PT1H
X-Robots-Tag:noindex
X-PUBLISHED-TTL:PT1H
BEGIN:VTIMEZONE
TZID:America/Indiana/Indianapolis
BEGIN:DAYLIGHT
TZOFFSETFROM:-0500
TZOFFSETTO:-0400
TZNAME:EDT
DTSTART:20230312T070000
END:DAYLIGHT
BEGIN:STANDARD
TZOFFSETFROM:-0400
TZOFFSETTO:-0500
TZNAME:EST
DTSTART:20231105T060000
END:STANDARD
BEGIN:DAYLIGHT
TZOFFSETFROM:-0500
TZOFFSETTO:-0400
TZNAME:EDT
DTSTART:20240310T070000
END:DAYLIGHT
BEGIN:STANDARD
TZOFFSETFROM:-0400
TZOFFSETTO:-0500
TZNAME:EST
DTSTART:20241103T060000
END:STANDARD
BEGIN:DAYLIGHT
TZOFFSETFROM:-0500
TZOFFSETTO:-0400
TZNAME:EDT
DTSTART:20250309T070000
END:DAYLIGHT
BEGIN:STANDARD
TZOFFSETFROM:-0400
TZOFFSETTO:-0500
TZNAME:EST
DTSTART:20251102T060000
END:STANDARD
END:VTIMEZONE
BEGIN:VEVENT
DTSTART;TZID=America/Indiana/Indianapolis:20240418T100000
DTEND;TZID=America/Indiana/Indianapolis:20240418T140000
DTSTAMP:20260425T114754
CREATED:20240412T135238Z
LAST-MODIFIED:20240412T135238Z
UID:8182-1713434400-1713448800@downtownwabash.org
SUMMARY:Spring Swing: Pop Up Mini Golf @ the Museum
DESCRIPTION:Play a round on our flowery 9-hole regulation golf course set inside the museum. \nMini golf tickets include full access to the Museum and can be purchased at the Museum welcome desk. Non-member tickets are $9 for ages 12+ and $6 for ages 2-11. Member tickets are $5 for ages 12+ and $3 for ages 2-11.
URL:https://downtownwabash.org/event/spring-swing-pop-up-mini-golf-the-museum-2024-04-18/
LOCATION:Wabash\, IN\, 46992\, United States
ATTACH;FMTTYPE=image/png:https://downtownwabash.org/wp-content/uploads/Downtown-Wabash-Event-Format-614cd3534f5311882ac117188f19a7f8.png
END:VEVENT
BEGIN:VEVENT
DTSTART;TZID=America/Indiana/Indianapolis:20240418T090000
DTEND;TZID=America/Indiana/Indianapolis:20240418T110000
DTSTAMP:20260425T114754
CREATED:20240415T153932Z
LAST-MODIFIED:20240415T153932Z
UID:8237-1713430800-1713438000@downtownwabash.org
SUMMARY:Class: Acrylic Painting
DESCRIPTION:Whether you’re a complete beginner or an experienced artist\, join us for self-expression and creativity. Our instructors will guide you through various techniques\, from brushstrokes to color mixing\, as you explore your unique artistic style. Enjoy a relaxed and supportive atmosphere\, connect with fellow art enthusiasts\, and bring your imagination to life on canvas. Unwind\, create\, and discover the joy of painting in our inspiring adult art sessions! \nThis class requires that you purchase a “class pass” or “multi pass”.\nOnce you have purchased the pass\, which is sort of like digital punch card\, you will need to register for the individual days you plan on attending.\nPlease contact Carolyn Stoner if you have any questions or need assistance completing the registration.
URL:https://downtownwabash.org/event/class-acrylic-painting-2024-04-18/
LOCATION:Wabash\, IN\, 46992\, United States
ATTACH;FMTTYPE=image/jpeg:https://downtownwabash.org/wp-content/uploads/Gardens-a2957d14d669f5698b5a32780f9c0066.jpg
END:VEVENT
BEGIN:VEVENT
DTSTART;TZID=America/Indiana/Indianapolis:20240418T080000
DTEND;TZID=America/Indiana/Indianapolis:20240418T170000
DTSTAMP:20260425T114754
CREATED:20240415T154228Z
LAST-MODIFIED:20240415T154228Z
UID:8256-1713427200-1713459600@downtownwabash.org
SUMMARY:Wabash Co. Schools & Peru High School Exhibit
DESCRIPTION:Featuring works from all Wabash County Schools and Peru High School students.
URL:https://downtownwabash.org/event/wabash-co-schools-peru-high-school-exhibit-2024-04-18/
LOCATION:Wabash\, IN\, 46992\, United States
ATTACH;FMTTYPE=image/jpeg:https://downtownwabash.org/wp-content/uploads/HC-Gallery2-34356bf000fe97592b7b8688c0269d8e.jpg
END:VEVENT
BEGIN:VEVENT
DTSTART;TZID=America/Indiana/Indianapolis:20240417T190000
DTEND;TZID=America/Indiana/Indianapolis:20240417T200000
DTSTAMP:20260425T114754
CREATED:20240222T145115Z
LAST-MODIFIED:20240222T145115Z
UID:7505-1713380400-1713384000@downtownwabash.org
SUMMARY:The 500: A Hoosier Tradition
DESCRIPTION:Get the inside scoop on the Indy 500! Wabash native Michael Kaltenmark is the Senior Director of Marketing for the Indianapolis Motor Speedway. He will present some Speedway history\, speak about his role\, and share stories about people and events at the track.
URL:https://downtownwabash.org/event/the-500-a-hoosier-tradition/
LOCATION:Wabash\, IN\, 46992\, United States
ATTACH;FMTTYPE=image/jpeg:https://downtownwabash.org/wp-content/uploads/HoneywellHouse-c15e90f8cede3f809e59a6795bbc7011.jpg
END:VEVENT
BEGIN:VEVENT
DTSTART;TZID=America/Indiana/Indianapolis:20240417T100000
DTEND;TZID=America/Indiana/Indianapolis:20240417T140000
DTSTAMP:20260425T114754
CREATED:20240412T135238Z
LAST-MODIFIED:20240412T135238Z
UID:8181-1713348000-1713362400@downtownwabash.org
SUMMARY:Spring Swing: Pop Up Mini Golf @ the Museum
DESCRIPTION:Play a round on our flowery 9-hole regulation golf course set inside the museum. \nMini golf tickets include full access to the Museum and can be purchased at the Museum welcome desk. Non-member tickets are $9 for ages 12+ and $6 for ages 2-11. Member tickets are $5 for ages 12+ and $3 for ages 2-11.
URL:https://downtownwabash.org/event/spring-swing-pop-up-mini-golf-the-museum-2024-04-17/
LOCATION:Wabash\, IN\, 46992\, United States
ATTACH;FMTTYPE=image/png:https://downtownwabash.org/wp-content/uploads/Downtown-Wabash-Event-Format-614cd3534f5311882ac117188f19a7f8.png
END:VEVENT
BEGIN:VEVENT
DTSTART;TZID=America/Indiana/Indianapolis:20240417T080000
DTEND;TZID=America/Indiana/Indianapolis:20240417T170000
DTSTAMP:20260425T114754
CREATED:20240415T154228Z
LAST-MODIFIED:20240415T154228Z
UID:8255-1713340800-1713373200@downtownwabash.org
SUMMARY:Wabash Co. Schools & Peru High School Exhibit
DESCRIPTION:Featuring works from all Wabash County Schools and Peru High School students.
URL:https://downtownwabash.org/event/wabash-co-schools-peru-high-school-exhibit-2024-04-17/
LOCATION:Wabash\, IN\, 46992\, United States
ATTACH;FMTTYPE=image/jpeg:https://downtownwabash.org/wp-content/uploads/HC-Gallery2-34356bf000fe97592b7b8688c0269d8e.jpg
END:VEVENT
BEGIN:VEVENT
DTSTART;TZID=America/Indiana/Indianapolis:20240416T190000
DTEND;TZID=America/Indiana/Indianapolis:20240416T220000
DTSTAMP:20260425T114754
CREATED:20240102T174815Z
LAST-MODIFIED:20240102T174815Z
UID:7028-1713294000-1713304800@downtownwabash.org
SUMMARY:The 500: A Hoosier Tradition
DESCRIPTION:Get the inside scoop on the Indy 500! Wabash native Michael Kaltenmark is the Senior Director of Marketing for the Indianapolis Motor Speedway. He will present some Speedway history\, speak about his role\, and share stories about people and events at the track.
URL:https://downtownwabash.org/event/the-500-a-hoosier-tradition/
LOCATION:Wabash\, IN\, 46992\, United States
ATTACH;FMTTYPE=image/jpeg:https://downtownwabash.org/wp-content/uploads/HoneywellHouse-3a166276bd8135f37fdafa71496f072e.jpg
END:VEVENT
BEGIN:VEVENT
DTSTART;TZID=America/Indiana/Indianapolis:20240416T100000
DTEND;TZID=America/Indiana/Indianapolis:20240416T140000
DTSTAMP:20260425T114754
CREATED:20240412T135238Z
LAST-MODIFIED:20240412T135405Z
UID:8179-1713261600-1713276000@downtownwabash.org
SUMMARY:Spring Swing: Pop Up Mini Golf @ the Museum
DESCRIPTION:Play a round on our flowery 9-hole regulation golf course set inside the museum. \nMini golf tickets include full access to the Museum and can be purchased at the Museum welcome desk. Non-member tickets are $9 for ages 12+ and $6 for ages 2-11. Member tickets are $5 for ages 12+ and $3 for ages 2-11.
URL:https://downtownwabash.org/event/spring-swing-pop-up-mini-golf-the-museum-2024-04-16/
LOCATION:Wabash\, IN\, 46992\, United States
ATTACH;FMTTYPE=image/png:https://downtownwabash.org/wp-content/uploads/Downtown-Wabash-Event-Format-614cd3534f5311882ac117188f19a7f8.png
END:VEVENT
BEGIN:VEVENT
DTSTART;TZID=America/Indiana/Indianapolis:20240416T080000
DTEND;TZID=America/Indiana/Indianapolis:20240416T170000
DTSTAMP:20260425T114754
CREATED:20240415T154228Z
LAST-MODIFIED:20240415T154228Z
UID:8254-1713254400-1713286800@downtownwabash.org
SUMMARY:Wabash Co. Schools & Peru High School Exhibit
DESCRIPTION:Featuring works from all Wabash County Schools and Peru High School students.
URL:https://downtownwabash.org/event/wabash-co-schools-peru-high-school-exhibit-2024-04-16/
LOCATION:Wabash\, IN\, 46992\, United States
ATTACH;FMTTYPE=image/jpeg:https://downtownwabash.org/wp-content/uploads/HC-Gallery2-34356bf000fe97592b7b8688c0269d8e.jpg
END:VEVENT
BEGIN:VEVENT
DTSTART;TZID=America/Indiana/Indianapolis:20240415T183000
DTEND;TZID=America/Indiana/Indianapolis:20240415T193000
DTSTAMP:20260425T114754
CREATED:20240221T163849Z
LAST-MODIFIED:20240221T163849Z
UID:8207-1713205800-1713209400@downtownwabash.org
SUMMARY:Class: Graphic Storytelling & Comic Arts
DESCRIPTION:From cave drawings to comics\, animation\, and beyond\, art and stories have been inseparably inked. In this class we will learn basic techniques\, practices\, and philosophy of creating comics and other graphic narratives.
URL:https://downtownwabash.org/event/class-graphic-storytelling-comic-arts-2024-04-15/
LOCATION:Wabash\, IN\, 46992\, United States
ATTACH;FMTTYPE=image/jpeg:https://downtownwabash.org/wp-content/uploads/EaglesTheatre-db64569ae0464721ddc09a324bf58080.jpg
END:VEVENT
BEGIN:VEVENT
DTSTART;TZID=America/Indiana/Indianapolis:20240415T080000
DTEND;TZID=America/Indiana/Indianapolis:20240415T170000
DTSTAMP:20260425T114754
CREATED:20240415T154228Z
LAST-MODIFIED:20240415T154228Z
UID:8253-1713168000-1713200400@downtownwabash.org
SUMMARY:Wabash Co. Schools & Peru High School Exhibit
DESCRIPTION:Featuring works from all Wabash County Schools and Peru High School students.
URL:https://downtownwabash.org/event/wabash-co-schools-peru-high-school-exhibit-2024-04-15/
LOCATION:Wabash\, IN\, 46992\, United States
ATTACH;FMTTYPE=image/jpeg:https://downtownwabash.org/wp-content/uploads/HC-Gallery2-34356bf000fe97592b7b8688c0269d8e.jpg
END:VEVENT
BEGIN:VEVENT
DTSTART;TZID=America/Indiana/Indianapolis:20240414T100000
DTEND;TZID=America/Indiana/Indianapolis:20240414T170000
DTSTAMP:20260425T114754
CREATED:20240222T144935Z
LAST-MODIFIED:20240222T144935Z
UID:8212-1713088800-1713114000@downtownwabash.org
SUMMARY:Workshop: Stained Glass\, Intermediate Level
DESCRIPTION:Create a beautiful piece of art using stained glass techniques. Build on your stained glass skills with this more advanced design to create a beautiful decorative item. All students will be able to select their own colors and will work from the same pattern. Ages 18+ \nThis workshop takes places over two sessions. Saturday 10a-1p & Sunday 2p-5p.
URL:https://downtownwabash.org/event/workshop-stained-glass-intermediate-level-2024-04-14/
LOCATION:Wabash\, IN\, 46992\, United States
ATTACH;FMTTYPE=image/jpeg:https://downtownwabash.org/wp-content/uploads/Gardens-8e1a173576d9a7aff1506e2cbc3f1641.jpg
END:VEVENT
BEGIN:VEVENT
DTSTART;TZID=America/Indiana/Indianapolis:20240414T080000
DTEND;TZID=America/Indiana/Indianapolis:20240414T170000
DTSTAMP:20260425T114754
CREATED:20240415T154228Z
LAST-MODIFIED:20240415T154228Z
UID:8252-1713081600-1713114000@downtownwabash.org
SUMMARY:Wabash Co. Schools & Peru High School Exhibit
DESCRIPTION:Featuring works from all Wabash County Schools and Peru High School students.
URL:https://downtownwabash.org/event/wabash-co-schools-peru-high-school-exhibit-2024-04-14/
LOCATION:Wabash\, IN\, 46992\, United States
ATTACH;FMTTYPE=image/jpeg:https://downtownwabash.org/wp-content/uploads/HC-Gallery2-34356bf000fe97592b7b8688c0269d8e.jpg
END:VEVENT
BEGIN:VEVENT
DTSTART;TZID=America/Indiana/Indianapolis:20240413T193000
DTEND;TZID=America/Indiana/Indianapolis:20240413T223000
DTSTAMP:20260425T114754
CREATED:20240102T174729Z
LAST-MODIFIED:20240102T174729Z
UID:7026-1713036600-1713047400@downtownwabash.org
SUMMARY:A Salute to the 60s
DESCRIPTION:Step into the world of rock ‘n’ roll legends with Herman’s Hermits starring Peter Noone\, The Grass Roots\, and The Buckinghams. Peter Noone\, the versatile entertainer\, brings you the sounds of a generation. The Grass Roots\, with an impressive 29 chart-toppers and a rich history\, remain classic rock icons. The Buckinghams\, with their timeless pop hits and harmonies\, never fail to captivate. This extraordinary concert experience is a ticket to relive the magic for those who cherish timeless classics.
URL:https://downtownwabash.org/event/a-salute-to-the-60s/
LOCATION:Wabash\, IN\, 46992\, United States
ATTACH;FMTTYPE=image/jpeg:https://downtownwabash.org/wp-content/uploads/HC-Ford-Theater-5e48b2a85bb279318c81a73d59121317.jpg
END:VEVENT
BEGIN:VEVENT
DTSTART;TZID=America/Indiana/Indianapolis:20240413T190000
DTEND;TZID=America/Indiana/Indianapolis:20240413T220000
DTSTAMP:20260425T114754
CREATED:20231130T150759Z
LAST-MODIFIED:20231130T150759Z
UID:6630-1713034800-1713045600@downtownwabash.org
SUMMARY:Mike Almon
DESCRIPTION:With more than 300 shows scheduled each year\, Mike Almon has been playing guitar and writing music since he was 14. This year he plans to release his first studio-recorded album “Had a Good Run” featuring a mix of his originals\, along with two bonus track parodies “Last Fence” and “Detour Land.”
URL:https://downtownwabash.org/event/mike-almon/
LOCATION:Wabash\, IN\, 46992\, United States
ATTACH;FMTTYPE=image/jpeg:https://downtownwabash.org/wp-content/uploads/Mike-Almon-2021-2-60b07a1eda2abf48982330c74edf4fff.jpg
END:VEVENT
BEGIN:VEVENT
DTSTART;TZID=America/Indiana/Indianapolis:20240413T100000
DTEND;TZID=America/Indiana/Indianapolis:20240413T170000
DTSTAMP:20260425T114754
CREATED:20240222T144935Z
LAST-MODIFIED:20240415T153200Z
UID:7493-1713002400-1713027600@downtownwabash.org
SUMMARY:Workshop: Stained Glass\, Intermediate Level
DESCRIPTION:Create a beautiful piece of art using stained glass techniques. Build on your stained glass skills with this more advanced design to create a beautiful decorative item. All students will be able to select their own colors and will work from the same pattern. Ages 18+ \nThis workshop takes places over two sessions. Saturday 10a-1p & Sunday 2p-5p.
URL:https://downtownwabash.org/event/workshop-stained-glass-intermediate-level/
LOCATION:Wabash\, IN\, 46992\, United States
ATTACH;FMTTYPE=image/jpeg:https://downtownwabash.org/wp-content/uploads/Gardens-8e1a173576d9a7aff1506e2cbc3f1641.jpg
END:VEVENT
BEGIN:VEVENT
DTSTART;TZID=America/Indiana/Indianapolis:20240413T100000
DTEND;TZID=America/Indiana/Indianapolis:20240413T140000
DTSTAMP:20260425T114754
CREATED:20240412T135238Z
LAST-MODIFIED:20240412T135404Z
UID:8178-1713002400-1713016800@downtownwabash.org
SUMMARY:Spring Swing: Pop Up Mini Golf @ the Museum
DESCRIPTION:Play a round on our flowery 9-hole regulation golf course set inside the museum. \nMini golf tickets include full access to the Museum and can be purchased at the Museum welcome desk. Non-member tickets are $9 for ages 12+ and $6 for ages 2-11. Member tickets are $5 for ages 12+ and $3 for ages 2-11.
URL:https://downtownwabash.org/event/spring-swing-pop-up-mini-golf-the-museum-2024-04-13/
LOCATION:Wabash\, IN\, 46992\, United States
ATTACH;FMTTYPE=image/png:https://downtownwabash.org/wp-content/uploads/Downtown-Wabash-Event-Format-614cd3534f5311882ac117188f19a7f8.png
END:VEVENT
BEGIN:VEVENT
DTSTART;TZID=America/Indiana/Indianapolis:20240413T080000
DTEND;TZID=America/Indiana/Indianapolis:20240413T170000
DTSTAMP:20260425T114754
CREATED:20240415T154228Z
LAST-MODIFIED:20240415T154228Z
UID:8251-1712995200-1713027600@downtownwabash.org
SUMMARY:Wabash Co. Schools & Peru High School Exhibit
DESCRIPTION:Featuring works from all Wabash County Schools and Peru High School students.
URL:https://downtownwabash.org/event/wabash-co-schools-peru-high-school-exhibit-2024-04-13/
LOCATION:Wabash\, IN\, 46992\, United States
ATTACH;FMTTYPE=image/jpeg:https://downtownwabash.org/wp-content/uploads/HC-Gallery2-34356bf000fe97592b7b8688c0269d8e.jpg
END:VEVENT
BEGIN:VEVENT
DTSTART;TZID=America/Indiana/Indianapolis:20240412T100000
DTEND;TZID=America/Indiana/Indianapolis:20240412T140000
DTSTAMP:20260425T114754
CREATED:20240412T135238Z
LAST-MODIFIED:20240412T135403Z
UID:8177-1712916000-1712930400@downtownwabash.org
SUMMARY:Spring Swing: Pop Up Mini Golf @ the Museum
DESCRIPTION:Play a round on our flowery 9-hole regulation golf course set inside the museum. \nMini golf tickets include full access to the Museum and can be purchased at the Museum welcome desk. Non-member tickets are $9 for ages 12+ and $6 for ages 2-11. Member tickets are $5 for ages 12+ and $3 for ages 2-11.
URL:https://downtownwabash.org/event/spring-swing-pop-up-mini-golf-the-museum-2024-04-12/
LOCATION:Wabash\, IN\, 46992\, United States
ATTACH;FMTTYPE=image/png:https://downtownwabash.org/wp-content/uploads/Downtown-Wabash-Event-Format-614cd3534f5311882ac117188f19a7f8.png
END:VEVENT
BEGIN:VEVENT
DTSTART;TZID=America/Indiana/Indianapolis:20240412T080000
DTEND;TZID=America/Indiana/Indianapolis:20240412T170000
DTSTAMP:20260425T114754
CREATED:20240415T154228Z
LAST-MODIFIED:20240415T154228Z
UID:8250-1712908800-1712941200@downtownwabash.org
SUMMARY:Wabash Co. Schools & Peru High School Exhibit
DESCRIPTION:Featuring works from all Wabash County Schools and Peru High School students.
URL:https://downtownwabash.org/event/wabash-co-schools-peru-high-school-exhibit-2024-04-12/
LOCATION:Wabash\, IN\, 46992\, United States
ATTACH;FMTTYPE=image/jpeg:https://downtownwabash.org/wp-content/uploads/HC-Gallery2-34356bf000fe97592b7b8688c0269d8e.jpg
END:VEVENT
BEGIN:VEVENT
DTSTART;TZID=America/Indiana/Indianapolis:20240411T193000
DTEND;TZID=America/Indiana/Indianapolis:20240411T213000
DTSTAMP:20260425T114754
CREATED:20230622T142031Z
LAST-MODIFIED:20230622T170941Z
UID:5287-1712863800-1712871000@downtownwabash.org
SUMMARY:Celtic Woman
DESCRIPTION:Twenty years on\, Celtic Woman continues its legacy of uplifting performances packed with breathtaking harmonies and instrumental virtuosity. ﻿Following on the success of the album Postcards From Ireland\, Celtic Woman is thrilled to return to US audiences in 2024 with a brand-new live show to celebrate this milestone. ﻿Celtic Woman’s fresh blend of traditional and contemporary Irish music echoes Ireland’s rich musical and cultural heritage while reflecting the vibrant spirit of modern Ireland. ﻿With Irish dancers\, bagpipers\, and an array of traditional Irish instruments – including the bodhrán\, tin whistle\, and uilleann pipes – this dynamic and multi-talented show has captivated audiences worldwide.
URL:https://downtownwabash.org/event/celtic-woman/
CATEGORIES:Wabash Community Event,Wabash Cultural District
ATTACH;FMTTYPE=image/jpeg:https://downtownwabash.org/wp-content/uploads/Celtic-Woman-f7d86a3f57a9668821f2cab2363a4a9f.jpg
END:VEVENT
BEGIN:VEVENT
DTSTART;TZID=America/Indiana/Indianapolis:20240411T180000
DTEND;TZID=America/Indiana/Indianapolis:20240411T200000
DTSTAMP:20260425T114754
CREATED:20240415T154021Z
LAST-MODIFIED:20240415T154021Z
UID:7491-1712858400-1712865600@downtownwabash.org
SUMMARY:Class: Leaded Stained Glass
DESCRIPTION:Experience the oldest method of stained glass construction as you create a moderate sized hanging panel. Review glass cutting and shaping basics and learn the lead cane construction method to build a beautiful stained glass panel. Several patterns will be provided as well as many attractive glass colors. Finished piece will be between 10×10 and 11×14 depending on the pattern chosen. Previous experience is required. Ages 18+
URL:https://downtownwabash.org/event/class-leaded-stained-glass/
LOCATION:Wabash\, IN\, 46992\, United States
ATTACH;FMTTYPE=image/jpeg:https://downtownwabash.org/wp-content/uploads/Gardens-3d7da0800823f2e7c8af58380a712f98.jpg
END:VEVENT
BEGIN:VEVENT
DTSTART;TZID=America/Indiana/Indianapolis:20240411T180000
DTEND;TZID=America/Indiana/Indianapolis:20240411T190000
DTSTAMP:20260425T114754
CREATED:20240415T153835Z
LAST-MODIFIED:20240415T153835Z
UID:8227-1712858400-1712862000@downtownwabash.org
SUMMARY:Class: Mixed Media Exploration
DESCRIPTION:Students will explore sculpture\, color\, and a variety of media in connection with contemporary and modern artists. Students will build independent thinking\, collaboration\, and gross-motor skills through this introduction to the creative process. Grades 4-7.
URL:https://downtownwabash.org/event/class-mixed-media-exploration-2024-04-11/
LOCATION:Wabash\, IN\, 46992\, United States
ATTACH;FMTTYPE=image/jpeg:https://downtownwabash.org/wp-content/uploads/Gardens-e0795e27d99790e2f2f275cb4d7e4fe3.jpg
END:VEVENT
BEGIN:VEVENT
DTSTART;TZID=America/Indiana/Indianapolis:20240411T163000
DTEND;TZID=America/Indiana/Indianapolis:20240411T173000
DTSTAMP:20260425T114754
CREATED:20240415T153746Z
LAST-MODIFIED:20240415T153746Z
UID:8218-1712853000-1712856600@downtownwabash.org
SUMMARY:Class: Little Picassos
DESCRIPTION:Integrating art making with art history\, each session is focused on identifying and stimulating children’s artistic abilities. We’ll draw\, paint\, and create nature and abstract art using a variety of techniques and materials. Grades 1-3.
URL:https://downtownwabash.org/event/class-little-picassos-2024-04-11/
LOCATION:Wabash\, IN\, 46992\, United States
ATTACH;FMTTYPE=image/jpeg:https://downtownwabash.org/wp-content/uploads/Gardens-e1c84e1d5ad5725bba22276b31b0341e.jpg
END:VEVENT
BEGIN:VEVENT
DTSTART;TZID=America/Indiana/Indianapolis:20240411T100000
DTEND;TZID=America/Indiana/Indianapolis:20240411T140000
DTSTAMP:20260425T114754
CREATED:20240412T135238Z
LAST-MODIFIED:20240412T135403Z
UID:8176-1712829600-1712844000@downtownwabash.org
SUMMARY:Spring Swing: Pop Up Mini Golf @ the Museum
DESCRIPTION:Play a round on our flowery 9-hole regulation golf course set inside the museum. \nMini golf tickets include full access to the Museum and can be purchased at the Museum welcome desk. Non-member tickets are $9 for ages 12+ and $6 for ages 2-11. Member tickets are $5 for ages 12+ and $3 for ages 2-11.
URL:https://downtownwabash.org/event/spring-swing-pop-up-mini-golf-the-museum-2024-04-11/
LOCATION:Wabash\, IN\, 46992\, United States
ATTACH;FMTTYPE=image/png:https://downtownwabash.org/wp-content/uploads/Downtown-Wabash-Event-Format-614cd3534f5311882ac117188f19a7f8.png
END:VEVENT
BEGIN:VEVENT
DTSTART;TZID=America/Indiana/Indianapolis:20240411T090000
DTEND;TZID=America/Indiana/Indianapolis:20240411T110000
DTSTAMP:20260425T114754
CREATED:20240415T153932Z
LAST-MODIFIED:20240415T153932Z
UID:8236-1712826000-1712833200@downtownwabash.org
SUMMARY:Class: Acrylic Painting
DESCRIPTION:Whether you’re a complete beginner or an experienced artist\, join us for self-expression and creativity. Our instructors will guide you through various techniques\, from brushstrokes to color mixing\, as you explore your unique artistic style. Enjoy a relaxed and supportive atmosphere\, connect with fellow art enthusiasts\, and bring your imagination to life on canvas. Unwind\, create\, and discover the joy of painting in our inspiring adult art sessions! \nThis class requires that you purchase a “class pass” or “multi pass”.\nOnce you have purchased the pass\, which is sort of like digital punch card\, you will need to register for the individual days you plan on attending.\nPlease contact Carolyn Stoner if you have any questions or need assistance completing the registration.
URL:https://downtownwabash.org/event/class-acrylic-painting-2024-04-11/
LOCATION:Wabash\, IN\, 46992\, United States
ATTACH;FMTTYPE=image/jpeg:https://downtownwabash.org/wp-content/uploads/Gardens-a2957d14d669f5698b5a32780f9c0066.jpg
END:VEVENT
BEGIN:VEVENT
DTSTART;TZID=America/Indiana/Indianapolis:20240411T080000
DTEND;TZID=America/Indiana/Indianapolis:20240411T170000
DTSTAMP:20260425T114754
CREATED:20240415T154228Z
LAST-MODIFIED:20240415T154228Z
UID:8249-1712822400-1712854800@downtownwabash.org
SUMMARY:Wabash Co. Schools & Peru High School Exhibit
DESCRIPTION:Featuring works from all Wabash County Schools and Peru High School students.
URL:https://downtownwabash.org/event/wabash-co-schools-peru-high-school-exhibit-2024-04-11/
LOCATION:Wabash\, IN\, 46992\, United States
ATTACH;FMTTYPE=image/jpeg:https://downtownwabash.org/wp-content/uploads/HC-Gallery2-34356bf000fe97592b7b8688c0269d8e.jpg
END:VEVENT
BEGIN:VEVENT
DTSTART;TZID=America/Indiana/Indianapolis:20240410T173000
DTEND;TZID=America/Indiana/Indianapolis:20240410T203000
DTSTAMP:20260425T114754
CREATED:20240222T144907Z
LAST-MODIFIED:20240222T144907Z
UID:7489-1712770200-1712781000@downtownwabash.org
SUMMARY:Workshop: Stained Glass\, Beginner Level
DESCRIPTION:Create a beautiful piece of art using stained glass techniques. You’ll learn how to score\, break\, and shape colorful pieces of glass to create a beautiful decorative item. All students will make the same design. A variety of color options will be available. Ages 13+
URL:https://downtownwabash.org/event/workshop-stained-glass-beginner-level/
LOCATION:Wabash\, IN\, 46992\, United States
ATTACH;FMTTYPE=image/jpeg:https://downtownwabash.org/wp-content/uploads/Gardens-644713209a50ee010eb17889c32b733c.jpg
END:VEVENT
BEGIN:VEVENT
DTSTART;TZID=America/Indiana/Indianapolis:20240410T100000
DTEND;TZID=America/Indiana/Indianapolis:20240410T140000
DTSTAMP:20260425T114754
CREATED:20240412T135238Z
LAST-MODIFIED:20240412T135402Z
UID:8175-1712743200-1712757600@downtownwabash.org
SUMMARY:Spring Swing: Pop Up Mini Golf @ the Museum
DESCRIPTION:Play a round on our flowery 9-hole regulation golf course set inside the museum. \nMini golf tickets include full access to the Museum and can be purchased at the Museum welcome desk. Non-member tickets are $9 for ages 12+ and $6 for ages 2-11. Member tickets are $5 for ages 12+ and $3 for ages 2-11.
URL:https://downtownwabash.org/event/spring-swing-pop-up-mini-golf-the-museum-2024-04-10/
LOCATION:Wabash\, IN\, 46992\, United States
ATTACH;FMTTYPE=image/png:https://downtownwabash.org/wp-content/uploads/Downtown-Wabash-Event-Format-614cd3534f5311882ac117188f19a7f8.png
END:VEVENT
BEGIN:VEVENT
DTSTART;TZID=America/Indiana/Indianapolis:20240410T080000
DTEND;TZID=America/Indiana/Indianapolis:20240410T170000
DTSTAMP:20260425T114754
CREATED:20240415T154228Z
LAST-MODIFIED:20240415T154228Z
UID:7503-1712736000-1712768400@downtownwabash.org
SUMMARY:Wabash Co. Schools & Peru High School Exhibit
DESCRIPTION:Featuring works from all Wabash County Schools and Peru High School students.
URL:https://downtownwabash.org/event/wabash-co-schools-peru-high-school-exhibit/
LOCATION:Wabash\, IN\, 46992\, United States
ATTACH;FMTTYPE=image/jpeg:https://downtownwabash.org/wp-content/uploads/HC-Gallery2-34356bf000fe97592b7b8688c0269d8e.jpg
END:VEVENT
END:VCALENDAR