BEGIN:VCALENDAR
VERSION:2.0
PRODID:-//Downtown Wabash, Inc. - ECPv6.15.17.1//NONSGML v1.0//EN
CALSCALE:GREGORIAN
METHOD:PUBLISH
X-WR-CALNAME:Downtown Wabash, Inc.
X-ORIGINAL-URL:https://downtownwabash.org
X-WR-CALDESC:Events for Downtown Wabash, Inc.
REFRESH-INTERVAL;VALUE=DURATION:PT1H
X-Robots-Tag:noindex
X-PUBLISHED-TTL:PT1H
BEGIN:VTIMEZONE
TZID:America/Indiana/Indianapolis
BEGIN:DAYLIGHT
TZOFFSETFROM:-0500
TZOFFSETTO:-0400
TZNAME:EDT
DTSTART:20220313T070000
END:DAYLIGHT
BEGIN:STANDARD
TZOFFSETFROM:-0400
TZOFFSETTO:-0500
TZNAME:EST
DTSTART:20221106T060000
END:STANDARD
BEGIN:DAYLIGHT
TZOFFSETFROM:-0500
TZOFFSETTO:-0400
TZNAME:EDT
DTSTART:20230312T070000
END:DAYLIGHT
BEGIN:STANDARD
TZOFFSETFROM:-0400
TZOFFSETTO:-0500
TZNAME:EST
DTSTART:20231105T060000
END:STANDARD
BEGIN:DAYLIGHT
TZOFFSETFROM:-0500
TZOFFSETTO:-0400
TZNAME:EDT
DTSTART:20240310T070000
END:DAYLIGHT
BEGIN:STANDARD
TZOFFSETFROM:-0400
TZOFFSETTO:-0500
TZNAME:EST
DTSTART:20241103T060000
END:STANDARD
END:VTIMEZONE
BEGIN:VEVENT
DTSTART;TZID=America/Indiana/Indianapolis:20230602T170000
DTEND;TZID=America/Indiana/Indianapolis:20230602T200000
DTSTAMP:20260425T103001
CREATED:20230526T002428Z
LAST-MODIFIED:20230810T025711Z
UID:5121-1685725200-1685736000@downtownwabash.org
SUMMARY:June First Friday: Wabash Cultural District Celebration
DESCRIPTION:The Wabash Cultural District is celebrating its 2-year anniversary since the 2021 designation from the Indiana Arts Commission! Join us for a night of immersive art experiences\, a celebrity guest appearance\, community-focused fun and plenty to do around every corner on June’s First Friday in Downtown Wabash\, Indiana. \nThe Wabash Cultural District is a 2.5 mile perimeter of walkable terrain. The boundaries are Hill Street along the influential railway tracks on the north\, Carroll Street on the west\, Paradise Spring Park on the east and the Wabash River on the south. A unique characteristic is our hilly topography. Standing at the District’s entrance\, you can see the entire District unfolding before your eyes. \nWabash First Fridays in 2023 are presented by MetalX. Additional support for Wabash First Fridays come from Top Level Sponsors: Pettit Printing and Crossroads Bank; and Mid Level Sponsor: 95.9 KISS FM.
URL:https://downtownwabash.org/event/june-first-friday-wabash-cultural-district-celebration/
LOCATION:Wabash\, IN\, 46992\, United States
CATEGORIES:First Friday,Wabash Cultural District
ATTACH;FMTTYPE=image/jpeg:https://downtownwabash.org/wp-content/uploads/cultural-district.jpg
ORGANIZER;CN="Downtown Wabash":MAILTO:(260) 563-0975
END:VEVENT
BEGIN:VEVENT
DTSTART;TZID=America/Indiana/Indianapolis:20230607T170000
DTEND;TZID=America/Indiana/Indianapolis:20230607T200000
DTSTAMP:20260425T103001
CREATED:20230128T220201Z
LAST-MODIFIED:20230130T154545Z
UID:4269-1686157200-1686168000@downtownwabash.org
SUMMARY:Tastes on the Terrace
DESCRIPTION:Sponsored by Nancy Fisher with additional support provided by Richard Tucker \nEvery Wed. in June 5-8 pm \nThe terrace will be open every Wednesday for dining. View the weekly menu updates on the Honeywell House Facebook page. Inside seating available in case of rain. \n*In case of inclement weather\, indoor seating will be available
URL:https://downtownwabash.org/event/tastes-on-the-terrace/
CATEGORIES:Wabash Community Event
ATTACH;FMTTYPE=image/jpeg:https://downtownwabash.org/wp-content/uploads/Tastes-on-the-Terrace-ef4ba147ad795147debf62887b50bb03.jpg
END:VEVENT
BEGIN:VEVENT
DTSTART;TZID=America/Indiana/Indianapolis:20230608T173000
DTEND;TZID=America/Indiana/Indianapolis:20230608T193000
DTSTAMP:20260425T103001
CREATED:20230228T165504Z
LAST-MODIFIED:20230228T165829Z
UID:4414-1686245400-1686252600@downtownwabash.org
SUMMARY:Prime Rib Dinner
DESCRIPTION:Don’t miss our popular\, all-you-can-eat prime rib buffet with side and salad accompaniments. Menu and dessert options also available. Come early\, grab a drink\, and enjoy our lounge area before you’re seated!
URL:https://downtownwabash.org/event/prime-rib-dinner/
CATEGORIES:Wabash Community Event
ATTACH;FMTTYPE=image/jpeg:https://downtownwabash.org/wp-content/uploads/ET-Ballroom-fb2bd87a47d664bcce2fa90637d73baa.jpg
END:VEVENT
BEGIN:VEVENT
DTSTART;TZID=America/Indiana/Indianapolis:20230608T190000
DTEND;TZID=America/Indiana/Indianapolis:20230608T203000
DTSTAMP:20260425T103001
CREATED:20230128T215737Z
LAST-MODIFIED:20230130T154530Z
UID:4265-1686250800-1686256200@downtownwabash.org
SUMMARY:Unforgettable! Music of the 50s - Presented by Nostalgia Entertains
DESCRIPTION:The 50s come alive in this Nostalgia Entertains cabaret highlighting the musical styles of the era. The professional dynamic duo of Matt and Cynthia Gruel from Chicago will delight audiences with songs\, costumes and fascinating stories behind the music and artists.
URL:https://downtownwabash.org/event/unforgettable-music-of-the-50s-presented-by-nostalgia-entertains/
LOCATION:Wabash\, IN\, 46992\, United States
CATEGORIES:Wabash Community Event
ATTACH;FMTTYPE=image/jpeg:https://downtownwabash.org/wp-content/uploads/Unforgettable-Music-of-the-50s-ca4b826a651048616c91ba8baa115948.jpg
END:VEVENT
BEGIN:VEVENT
DTSTART;TZID=America/Indiana/Indianapolis:20230610T163000
DTEND;TZID=America/Indiana/Indianapolis:20230610T203000
DTSTAMP:20260425T103001
CREATED:20230504T183541Z
LAST-MODIFIED:20230608T175641Z
UID:4881-1686414600-1686429000@downtownwabash.org
SUMMARY:Block Party
DESCRIPTION:Join us at the start/finish line as we celebrate a fun event with a Block Party on Miami Street where friends and family can enjoy savory food\, a sip of tasty drinks\, and jam to fun music before\, during\, and after the race.
URL:https://downtownwabash.org/event/block-party/
LOCATION:Wabash\, IN\, 46992\, United States
CATEGORIES:Wabash Community Event,Wabash Cultural District
ATTACH;FMTTYPE=image/jpeg:https://downtownwabash.org/wp-content/uploads/348548119_1103246757121162_6790523569105782943_n.jpeg
END:VEVENT
BEGIN:VEVENT
DTSTART;TZID=America/Indiana/Indianapolis:20230610T173000
DTEND;TZID=America/Indiana/Indianapolis:20230610T220000
DTSTAMP:20260425T103001
CREATED:20230501T165727Z
LAST-MODIFIED:20230501T193628Z
UID:4821-1686418200-1686434400@downtownwabash.org
SUMMARY:Wabash Run The River
DESCRIPTION:Back for the second year\, Wabash Run the River starts and ends in Downtown Wabash. Choose run options from a 5K\, 10K\, or 13.1M half marathon that will take you through downtown onto the scenic Wabash River Trail located along the Wabash River. Cash prizes will be awarded to the top male and female half-marathon\, 10K\, and 5K  finishers.
URL:https://downtownwabash.org/event/wabash-run-the-river/
CATEGORIES:Wabash Community Event,Wabash Cultural District
ATTACH;FMTTYPE=image/png:https://downtownwabash.org/wp-content/uploads/Voted-Must-DoAnnual-Events-27-bc93d72a389a571192aa2ae9f96c4d82.png
END:VEVENT
BEGIN:VEVENT
DTSTART;TZID=America/Indiana/Indianapolis:20230613T120000
DTEND;TZID=America/Indiana/Indianapolis:20230613T130000
DTSTAMP:20260425T103001
CREATED:20230105T193511Z
LAST-MODIFIED:20230105T193511Z
UID:4098-1686657600-1686661200@downtownwabash.org
SUMMARY:June Board Meeting
DESCRIPTION:
URL:https://downtownwabash.org/event/june-board-meeting/
LOCATION:Wabash\, IN\, 46992\, United States
CATEGORIES:Board Member Meeting
ORGANIZER;CN="Downtown Wabash":MAILTO:(260) 563-0975
END:VEVENT
BEGIN:VEVENT
DTSTART;TZID=America/Indiana/Indianapolis:20230613T190000
DTEND;TZID=America/Indiana/Indianapolis:20230613T203000
DTSTAMP:20260425T103001
CREATED:20230128T215907Z
LAST-MODIFIED:20230130T154540Z
UID:4267-1686682800-1686688200@downtownwabash.org
SUMMARY:The Gershwins in Hollywood - Presented by Charles Troy
DESCRIPTION:In August 1936\, George and Ira Gershwin boarded a plane for Hollywood to write three movie musicals. Little did they know it would be the last year of George’s life. Charles Troy’s unique presentations employ a seamless blend of recorded songs\, original graphics\, vintage photos\, historic video\, and an extensively researched and scripted narrative to dramatize the stories behind the great creations of the American Musical Theatre.
URL:https://downtownwabash.org/event/the-gershwins-in-hollywood-presented-by-charles-troy/
CATEGORIES:Wabash Community Event
ATTACH;FMTTYPE=image/jpeg:https://downtownwabash.org/wp-content/uploads/The-Gershwins-in-Hollywood-1ea02b70c5eb5b43716daf572a50a205.jpg
END:VEVENT
BEGIN:VEVENT
DTSTART;TZID=America/Indiana/Indianapolis:20230614T170000
DTEND;TZID=America/Indiana/Indianapolis:20230614T200000
DTSTAMP:20260425T103001
CREATED:20230128T220342Z
LAST-MODIFIED:20230130T154550Z
UID:4271-1686762000-1686772800@downtownwabash.org
SUMMARY:Tastes on the Terrace
DESCRIPTION:Sponsored by Nancy Fisher with additional support provided by Richard Tucker \nEvery Wed. in June 5-8 pm \nThe terrace will be open every Wednesday for dining. View the weekly menu updates on the Honeywell House Facebook page. Inside seating available in case of rain. \n*In case of inclement weather\, indoor seating will be available
URL:https://downtownwabash.org/event/tastes-on-the-terrace/
CATEGORIES:Wabash Community Event
ATTACH;FMTTYPE=image/jpeg:https://downtownwabash.org/wp-content/uploads/Tastes-on-the-Terrace-5903dc482ee87a5c2cd018f2f65543b0.jpg
END:VEVENT
BEGIN:VEVENT
DTSTART;TZID=America/Indiana/Indianapolis:20230615T170000
DTEND;TZID=America/Indiana/Indianapolis:20230615T190000
DTSTAMP:20260425T103001
CREATED:20230515T140621Z
LAST-MODIFIED:20230608T175901Z
UID:4961-1686848400-1686855600@downtownwabash.org
SUMMARY:Barrel Scrapers - Plaza Series
DESCRIPTION:Bluegrass
URL:https://downtownwabash.org/event/barrel-scrapers-plaza-series/
LOCATION:Wabash\, IN\, 46992\, United States
CATEGORIES:Wabash Community Event,Wabash Cultural District
ATTACH;FMTTYPE=image/jpeg:https://downtownwabash.org/wp-content/uploads/Plaza-Series-in-Downtown-Wabash-Indiana.jpeg
END:VEVENT
BEGIN:VEVENT
DTSTART;TZID=America/Indiana/Indianapolis:20230616T193000
DTEND;TZID=America/Indiana/Indianapolis:20230616T213000
DTSTAMP:20260425T103001
CREATED:20230515T143043Z
LAST-MODIFIED:20230515T153306Z
UID:4963-1686943800-1686951000@downtownwabash.org
SUMMARY:Wabass Live
DESCRIPTION:Now in its 16th year\, Wabass Institute is a staple of summer music in the Wabash community. Wabass dazzles audiences with the agility each scholar brings to the double bass. Faculty mentors Eric Larson\, Ranaan Meyer\, and Hal Robinson curate a wonderful evening of musicianship and personality. Concluding the performance\, guests are invited to a meet and greet reception to mingle with the artists and faculty mentors.
URL:https://downtownwabash.org/event/wabass-live/
CATEGORIES:Wabash Community Event,Wabash Cultural District
ATTACH;FMTTYPE=image/jpeg:https://downtownwabash.org/wp-content/uploads/Wabass-Live-39d05d8637c474ca8e76a66e44f91124.jpg
END:VEVENT
BEGIN:VEVENT
DTSTART;TZID=America/Indiana/Indianapolis:20230616T193000
DTEND;TZID=America/Indiana/Indianapolis:20230616T213000
DTSTAMP:20260425T103001
CREATED:20230515T145005Z
LAST-MODIFIED:20230608T175131Z
UID:4964-1686943800-1686951000@downtownwabash.org
SUMMARY:Hoosier Shakes: The Comedy of Errors
DESCRIPTION:The Comedy of Errors Get ready for a night of side-splitting laughter with The Comedy of Errors\, Shakespeare’s most uproarious play! Two sets of identical twins who were separated at birth are reunited by chance years later in the same town. Mistaken identities\, slapstick humor\, and zany hijinks ensue as the characters try to untangle the confusion and chaos. A guaranteed LOL experience.
URL:https://downtownwabash.org/event/hoosier-shakes-the-comedy-of-errors/
LOCATION:Wabash\, IN\, 46992\, United States
CATEGORIES:Wabash Community Event
END:VEVENT
BEGIN:VEVENT
DTSTART;TZID=America/Indiana/Indianapolis:20230618T103000
DTEND;TZID=America/Indiana/Indianapolis:20230618T130000
DTSTAMP:20260425T103001
CREATED:20230228T165643Z
LAST-MODIFIED:20230228T165835Z
UID:4416-1687084200-1687093200@downtownwabash.org
SUMMARY:Father's Day Brunch
DESCRIPTION:Enjoy our classic brunch buffet featuring breakfast classics\, entrée selections\, a chef-attended carving station\, side accompaniments\, and desserts.
URL:https://downtownwabash.org/event/fathers-day-brunch/
CATEGORIES:Wabash Community Event
ATTACH;FMTTYPE=image/jpeg:https://downtownwabash.org/wp-content/uploads/HoneywellCenter-ad2ff7fb1c8110d76887f1f4902769be.jpg
END:VEVENT
BEGIN:VEVENT
DTSTART;TZID=America/Indiana/Indianapolis:20230620T193000
DTEND;TZID=America/Indiana/Indianapolis:20230620T213000
DTSTAMP:20260425T103001
CREATED:20230515T150106Z
LAST-MODIFIED:20230608T175216Z
UID:4966-1687289400-1687296600@downtownwabash.org
SUMMARY:Hoosier Shakes: Measure for Measure
DESCRIPTION:Measure for Measure After the newly appointed\, strict ruler of Vienna cracks down on morality laws\, his true character is revealed when a beautiful\, young nun comes to plead for her brother’s life. Funny\, intense\, and thought-provoking\, Measure for Measure blends\, sex\, politics\, religion\, deceit\, and betrayal in a gripping story that is shockingly relevant to 21st century America.
URL:https://downtownwabash.org/event/hoosier-shakes-measure-for-measure/
LOCATION:Wabash\, IN\, 46992\, United States
CATEGORIES:Wabash Community Event
END:VEVENT
BEGIN:VEVENT
DTSTART;TZID=America/Indiana/Indianapolis:20230621T170000
DTEND;TZID=America/Indiana/Indianapolis:20230621T200000
DTSTAMP:20260425T103001
CREATED:20230128T220521Z
LAST-MODIFIED:20230130T154555Z
UID:4273-1687366800-1687377600@downtownwabash.org
SUMMARY:Tastes on the Terrace
DESCRIPTION:Sponsored by Nancy Fisher with additional support provided by Richard Tucker \nEvery Wed. in June 5-8 pm \nThe terrace will be open every Wednesday for dining. View the weekly menu updates on the Honeywell House Facebook page. Inside seating available in case of rain. \n*In case of inclement weather\, indoor seating will be available
URL:https://downtownwabash.org/event/tastes-on-the-terrace/
CATEGORIES:Wabash Community Event
ATTACH;FMTTYPE=image/jpeg:https://downtownwabash.org/wp-content/uploads/Tastes-on-the-Terrace-be2d0024adcfdc7fb2177e3cbafd8bed.jpg
END:VEVENT
BEGIN:VEVENT
DTSTART;TZID=America/Indiana/Indianapolis:20230622T170000
DTEND;TZID=America/Indiana/Indianapolis:20230622T190000
DTSTAMP:20260425T103001
CREATED:20230515T145607Z
LAST-MODIFIED:20230515T153320Z
UID:4965-1687453200-1687460400@downtownwabash.org
SUMMARY:Three to One - Plaza Series
DESCRIPTION:60’s and 70’s
URL:https://downtownwabash.org/event/three-to-one-plaza-series/
CATEGORIES:Wabash Community Event,Wabash Cultural District
END:VEVENT
BEGIN:VEVENT
DTSTART;TZID=America/Indiana/Indianapolis:20230623T170000
DTEND;TZID=America/Indiana/Indianapolis:20230624T190000
DTSTAMP:20260425T103001
CREATED:20230515T151613Z
LAST-MODIFIED:20230515T153339Z
UID:4969-1687539600-1687633200@downtownwabash.org
SUMMARY:Honeywell Summer Theatre Camp Performance (Grades 5-8) - Dear Edwina\, Jr.
DESCRIPTION:Summer Theatre Performance for Grades 5-8 Friday\, June 23 and Saturday\, June 24\, both at 5:00 pm Show is Dear Edwina\, Jr. \nFrom the writer of the Junie B. Jones musical\, Dear Edwina follows the adventures of plucky advice-giver-extraordinaire Edwina Spoonapple as she directs the neighborhood in a series of buoyant production numbers for the latest edition of her weekly “Advice-a-Palooza.” Edwina and her friends share wisdom on everything from trying new foods to making new friends\, through clever\, catchy and poignant songs.
URL:https://downtownwabash.org/event/honeywell-summer-theatre-camp-performance-grades-5-8-dear-edwina-jr/
CATEGORIES:Wabash Community Event,Wabash Cultural District
END:VEVENT
BEGIN:VEVENT
DTSTART;TZID=America/Indiana/Indianapolis:20230623T193000
DTEND;TZID=America/Indiana/Indianapolis:20230623T213000
DTSTAMP:20260425T103001
CREATED:20230515T150556Z
LAST-MODIFIED:20230515T153333Z
UID:4968-1687548600-1687555800@downtownwabash.org
SUMMARY:Soundboard Live
DESCRIPTION:Soundboard showcases the work of international pianists. With a focus on standard repertoire\, Soundboard is led by faculty mentors Matti Raekaillo and Peter Dugan as they stretch these classically trained musicians’ boundaries to include jazz\, funk\, and more. Concluding the performance\, guests are invited to a meet and greet reception to mingle with the artists and faculty mentors.
URL:https://downtownwabash.org/event/soundboard-live/
CATEGORIES:Wabash Community Event,Wabash Cultural District
ATTACH;FMTTYPE=image/jpeg:https://downtownwabash.org/wp-content/uploads/Soundboard-Live-6ec08486d73eb86be276fbc041321525.jpg
END:VEVENT
BEGIN:VEVENT
DTSTART;TZID=America/Indiana/Indianapolis:20230623T193000
DTEND;TZID=America/Indiana/Indianapolis:20230624T213000
DTSTAMP:20260425T103001
CREATED:20230515T153030Z
LAST-MODIFIED:20230515T153346Z
UID:4972-1687548600-1687642200@downtownwabash.org
SUMMARY:Honeywell Summer Theatre Camp Performance (Grades 9-12) - The SpongeBob Musical
DESCRIPTION:Summer Theatre Performance for Grades 9-12 Friday\, June 23 and Saturday\, June 24\, both performances at 7:30 pm Show is The SpongeBob Musical \nThe stakes are higher than ever in this dynamic stage musical\, as SpongeBob and all of Bikini Bottom face the total annihilation of their undersea world. Chaos erupts. Lives hang in the balance. And just when all hope seems lost\, a most unexpected hero rises up and takes center stage. The power of optimism really can save the world!
URL:https://downtownwabash.org/event/honeywell-summer-theatre-camp-performance-grades-9-12-the-spongebob-musical/
CATEGORIES:Wabash Community Event,Wabash Cultural District
END:VEVENT
BEGIN:VEVENT
DTSTART;TZID=America/Indiana/Indianapolis:20230628T170000
DTEND;TZID=America/Indiana/Indianapolis:20230628T200000
DTSTAMP:20260425T103001
CREATED:20230128T220647Z
LAST-MODIFIED:20230130T154600Z
UID:4275-1687971600-1687982400@downtownwabash.org
SUMMARY:Tastes on the Terrace
DESCRIPTION:Sponsored by Nancy Fisher with additional support provided by Richard Tucker \nEvery Wed. in June 5-8 pm \nThe terrace will be open every Wednesday for dining. View the weekly menu updates on the Honeywell House Facebook page. Inside seating available in case of rain. \n*In case of inclement weather\, indoor seating will be available
URL:https://downtownwabash.org/event/tastes-on-the-terrace/
CATEGORIES:Wabash Community Event
ATTACH;FMTTYPE=image/jpeg:https://downtownwabash.org/wp-content/uploads/Tastes-on-the-Terrace-6cc2ecb697f8bf0898fd7b1b8a4e154d.jpg
END:VEVENT
BEGIN:VEVENT
DTSTART;TZID=America/Indiana/Indianapolis:20230628T193000
DTEND;TZID=America/Indiana/Indianapolis:20230628T213000
DTSTAMP:20260425T103001
CREATED:20230515T153332Z
LAST-MODIFIED:20230515T153356Z
UID:4978-1687980600-1687987800@downtownwabash.org
SUMMARY:Nitty Gritty Dirt Band
DESCRIPTION:Nitty Gritty Dirt Band scored its first charting single in 1967\, “Buy for Me the Rain\,” and embarked on a self-propelled ride through folk\, country\, rock ‘n’ roll\, pop\, bluegrass\, and the amalgam now known as “Americana\,” producing timeless classics like “Fishin’ in the Dark\,” “Mr. Bojangles\,” and “Will the Circle Be Unbroken.”
URL:https://downtownwabash.org/event/nitty-gritty-dirt-band/
CATEGORIES:Wabash Community Event,Wabash Cultural District
END:VEVENT
BEGIN:VEVENT
DTSTART;TZID=America/Indiana/Indianapolis:20230629T193000
DTEND;TZID=America/Indiana/Indianapolis:20230629T213000
DTSTAMP:20260425T103001
CREATED:20230515T153751Z
LAST-MODIFIED:20230515T154509Z
UID:4983-1688067000-1688074200@downtownwabash.org
SUMMARY:Mississinewa Valley Band
DESCRIPTION:Patriotic Pops
URL:https://downtownwabash.org/event/mississinewa-valley-band/
CATEGORIES:Wabash Community Event,Wabash Cultural District
END:VEVENT
BEGIN:VEVENT
DTSTART;TZID=America/Indiana/Indianapolis:20230630T193000
DTEND;TZID=America/Indiana/Indianapolis:20230630T213000
DTSTAMP:20260425T103001
CREATED:20230515T155056Z
LAST-MODIFIED:20230515T172534Z
UID:4986-1688153400-1688160600@downtownwabash.org
SUMMARY:Resonance Live
DESCRIPTION:The Resonance performance lies at the intersection of the pristine technical training of classical musicians and cross-genre fluidity\, culminating in an indescribable musical experience. Featuring faculty mentors Pianist Peter Dugan\, GRAMMY-winning Time for Three; Violinists Nicolas Kendall & Charles Yang\, Double Bassist Ranaan Meyer\, the performance will include musical favorites as well as original compositions. Concluding the performance\, guests are invited to a meet and greet reception to mingle with the artists and faculty mentors.
URL:https://downtownwabash.org/event/resonance-live/
CATEGORIES:Wabash Community Event,Wabash Cultural District
ATTACH;FMTTYPE=image/jpeg:https://downtownwabash.org/wp-content/uploads/Resonance-Live-238750a4e160dec07c995519db7f53c9.jpg
END:VEVENT
BEGIN:VEVENT
DTSTART;TZID=America/Indiana/Indianapolis:20230701T170000
DTEND;TZID=America/Indiana/Indianapolis:20230701T200000
DTSTAMP:20260425T103001
CREATED:20230621T175025Z
LAST-MODIFIED:20230622T170806Z
UID:5256-1688230800-1688241600@downtownwabash.org
SUMMARY:Ice Cream Social
DESCRIPTION:Ice Cream Social\nSponsored by Brainard Excavating & Snow Removal\nDr. Ford Home\nFri. July 1 from 5-8 pm\nJoin us during Wabash’s First Friday for an ice cream sundae bar!
URL:https://downtownwabash.org/event/ice-cream-social/
CATEGORIES:Wabash Community Event,Wabash Cultural District
ATTACH;FMTTYPE=image/jpeg:https://downtownwabash.org/wp-content/uploads/FordHome-f19c5e099149b87af8a91f7112f19c25.jpg
END:VEVENT
BEGIN:VEVENT
DTSTART;TZID=America/Indiana/Indianapolis:20230703T130000
DTEND;TZID=America/Indiana/Indianapolis:20230703T150000
DTSTAMP:20260425T103001
CREATED:20230621T162241Z
LAST-MODIFIED:20230621T190035Z
UID:5214-1688389200-1688396400@downtownwabash.org
SUMMARY:Trolls World Tour
DESCRIPTION:Free Movie Mondays \nJoin us on select Mondays this summer at Eagles Theatre for FREE movies! Showings are at 1 pm & 7 pm.
URL:https://downtownwabash.org/event/trolls-world-tour/
CATEGORIES:Wabash Community Event,Wabash Cultural District
ATTACH;FMTTYPE=image/jpeg:https://downtownwabash.org/wp-content/uploads/EaglesTheatre-78cde68aac78192b954731707a656be6.jpg
END:VEVENT
BEGIN:VEVENT
DTSTART;TZID=America/Indiana/Indianapolis:20230703T190000
DTEND;TZID=America/Indiana/Indianapolis:20230703T210000
DTSTAMP:20260425T103001
CREATED:20230621T162549Z
LAST-MODIFIED:20230621T190042Z
UID:5216-1688410800-1688418000@downtownwabash.org
SUMMARY:Trolls World Tour
DESCRIPTION:Free Movie Mondays \nJoin us on select Mondays this summer at Eagles Theatre for FREE movies! Showings are at 1 pm & 7 pm.
URL:https://downtownwabash.org/event/trolls-world-tour/
CATEGORIES:Wabash Community Event,Wabash Cultural District
ATTACH;FMTTYPE=image/jpeg:https://downtownwabash.org/wp-content/uploads/EaglesTheatre-f752b67ff60cf694c3077d18ee781f35.jpg
END:VEVENT
BEGIN:VEVENT
DTSTART;TZID=America/Indiana/Indianapolis:20230706T100000
DTEND;TZID=America/Indiana/Indianapolis:20230706T113000
DTSTAMP:20260425T103001
CREATED:20230321T164559Z
LAST-MODIFIED:20230330T163447Z
UID:4705-1688637600-1688643000@downtownwabash.org
SUMMARY:Wabash County Museum's Thursday Parlay
DESCRIPTION:The Roaring Twenties. Between flapper dresses and the bowler hat to the Prohibition\, what is the first thing you think of when you hear someone mention the 1920’s? Our guest speaker\, Heather Allen\, is the former archivist at the Wabash County Museum and current Vice President of Mississinewa 1812 Battlefield Society. She will be illuminating what life was like in the 1920’s as well as showing us photographs taken by Dr. Frank DePuy and giving us a glimpse of the 1920’s through his eyes 100 years ago. \nJoin us for our Thursday Parlay in the Wabash County Museum Porter Room from 10 – 11:30 am on July 6\, while enjoying coffee and treats provided by our sponsor\, Bob Evans Restaurant. This is a free event brought to you by the Wabash County Museum. Visit our website at wabashmuseum.org for more details and to RSVP.
URL:https://downtownwabash.org/event/wabash-county-museums-thursday-parlay-3/
LOCATION:Wabash\, IN\, 46992\, United States
CATEGORIES:Wabash Community Event,Wabash Cultural District
ATTACH;FMTTYPE=image/jpeg:https://downtownwabash.org/wp-content/uploads/The-Thursday-Parley-Flyer-5-×-7-in-7-×-5-in-1.jpg
END:VEVENT
BEGIN:VEVENT
DTSTART;TZID=America/Indiana/Indianapolis:20230707T100000
DTEND;TZID=America/Indiana/Indianapolis:20230707T110000
DTSTAMP:20260425T103001
CREATED:20230608T193513Z
LAST-MODIFIED:20230609T152930Z
UID:5193-1688724000-1688727600@downtownwabash.org
SUMMARY:Wabash County YMCA FREE BINGO
DESCRIPTION:The Wabash County YMCA is hosting FREE BINGO every first & third Friday of the month starting at 10:00 am for any active older adult. This event is free and open to the public and includes free prizes and refreshments.. Sponsored by the Senior Marketing Group & the Waters of Wabash.
URL:https://downtownwabash.org/event/wabash-county-ymca-free-bingo/
CATEGORIES:Wabash Community Event
END:VEVENT
BEGIN:VEVENT
DTSTART;TZID=America/Indiana/Indianapolis:20230707T170000
DTEND;TZID=America/Indiana/Indianapolis:20230707T200000
DTSTAMP:20260425T103001
CREATED:20230629T182835Z
LAST-MODIFIED:20230810T030429Z
UID:5329-1688749200-1688760000@downtownwabash.org
SUMMARY:July First Friday: The All-American
DESCRIPTION:Burgers and hot dogs. Dancing and live music. Shopping and things to do. The All American First Friday is open to families everywhere for an evening of summertime fun in Downtown Wabash\, Indiana! Carry on with festivities like live 50s and 60s rock-n-roll from The Bulldogs on Miami Street\, lots of summertime shopping specials from local businesses\, dining and drink features from local eateries and bars\, things to do around every corner\, a fun First Friday Vendor Market and arts and culture-infused attractions. \nWabash First Fridays in 2023 are presented by MetalX. Additional support for Wabash First Fridays come from Top Level Sponsors: Pettit Printing and Crossroads Bank; and Mid Level Sponsor: 95.9 KISS FM. July’s First Friday is generously sponsored by Renewal By Andersen. \nWabash First Fridays are events made possible by Downtown Wabash\, Inc.\, a 501(c)(3) nonprofit dedicated to a downtown district that is vibrant every day and night.
URL:https://downtownwabash.org/event/july-first-friday-the-all-american/
LOCATION:Wabash\, IN\, 46992\, United States
CATEGORIES:First Friday,Wabash Cultural District
ATTACH;FMTTYPE=image/jpeg:https://downtownwabash.org/wp-content/uploads/Copy-of-Concerts-in-Downtown-Wabash-2-1-scaled.jpg
ORGANIZER;CN="Downtown Wabash":MAILTO:(260) 563-0975
END:VEVENT
BEGIN:VEVENT
DTSTART;TZID=America/Indiana/Indianapolis:20230710T130000
DTEND;TZID=America/Indiana/Indianapolis:20230710T150000
DTSTAMP:20260425T103001
CREATED:20230621T162750Z
LAST-MODIFIED:20230621T190158Z
UID:5218-1688994000-1689001200@downtownwabash.org
SUMMARY:Puss in Boots: The Last Wish
DESCRIPTION:Free Movie Mondays \nJoin us on select Mondays this summer at Eagles Theatre for FREE movies! Showings are at 1 pm & 7 pm.
URL:https://downtownwabash.org/event/puss-in-boots-the-last-wish/
CATEGORIES:Wabash Community Event,Wabash Cultural District
ATTACH;FMTTYPE=image/jpeg:https://downtownwabash.org/wp-content/uploads/EaglesTheatre-a3a64fcd4a9928873ba795e81fa192f8.jpg
END:VEVENT
END:VCALENDAR