BEGIN:VCALENDAR
VERSION:2.0
PRODID:-//Downtown Wabash, Inc. - ECPv6.15.17.1//NONSGML v1.0//EN
CALSCALE:GREGORIAN
METHOD:PUBLISH
X-WR-CALNAME:Downtown Wabash, Inc.
X-ORIGINAL-URL:https://downtownwabash.org
X-WR-CALDESC:Events for Downtown Wabash, Inc.
REFRESH-INTERVAL;VALUE=DURATION:PT1H
X-Robots-Tag:noindex
X-PUBLISHED-TTL:PT1H
BEGIN:VTIMEZONE
TZID:America/Indiana/Indianapolis
BEGIN:DAYLIGHT
TZOFFSETFROM:-0500
TZOFFSETTO:-0400
TZNAME:EDT
DTSTART:20240310T070000
END:DAYLIGHT
BEGIN:STANDARD
TZOFFSETFROM:-0400
TZOFFSETTO:-0500
TZNAME:EST
DTSTART:20241103T060000
END:STANDARD
BEGIN:DAYLIGHT
TZOFFSETFROM:-0500
TZOFFSETTO:-0400
TZNAME:EDT
DTSTART:20250309T070000
END:DAYLIGHT
BEGIN:STANDARD
TZOFFSETFROM:-0400
TZOFFSETTO:-0500
TZNAME:EST
DTSTART:20251102T060000
END:STANDARD
BEGIN:DAYLIGHT
TZOFFSETFROM:-0500
TZOFFSETTO:-0400
TZNAME:EDT
DTSTART:20260308T070000
END:DAYLIGHT
BEGIN:STANDARD
TZOFFSETFROM:-0400
TZOFFSETTO:-0500
TZNAME:EST
DTSTART:20261101T060000
END:STANDARD
BEGIN:DAYLIGHT
TZOFFSETFROM:-0500
TZOFFSETTO:-0400
TZNAME:EDT
DTSTART:20270314T070000
END:DAYLIGHT
BEGIN:STANDARD
TZOFFSETFROM:-0400
TZOFFSETTO:-0500
TZNAME:EST
DTSTART:20271107T060000
END:STANDARD
END:VTIMEZONE
BEGIN:VEVENT
DTSTART;TZID=America/Indiana/Indianapolis:20260207T123000
DTEND;TZID=America/Indiana/Indianapolis:20260207T160000
DTSTAMP:20260423T201103
CREATED:20260106T153538Z
LAST-MODIFIED:20260106T153538Z
UID:10243-1770467400-1770480000@downtownwabash.org
SUMMARY:Workshop: Joyful Brushstrokes Oil Painting
DESCRIPTION:Channel your inner Bob Ross in this oil painting workshop! Using his approachable\, joy-filled techniques\, you’ll explore blending\, brushwork\, and happy little details to create a landscape of your own. No experience needed—just bring your creativity and enjoy a fun\, relaxing class where mistakes turn into masterpieces. \nAll participants will make the design in the activity photo. \nParticipants ages 12–18 are welcome with an accompanying adult. \nTaught by Jen Stafford\, a Certified Bob Ross Instructor®. \nAll supplies will be provided.
URL:https://downtownwabash.org/event/workshop-joyful-brushstrokes-oil-painting-3/
END:VEVENT
BEGIN:VEVENT
DTSTART;TZID=America/Indiana/Indianapolis:20260206T190000
DTEND;TZID=America/Indiana/Indianapolis:20260206T210000
DTSTAMP:20260423T201103
CREATED:20251117T135312Z
LAST-MODIFIED:20251117T135312Z
UID:10166-1770404400-1770411600@downtownwabash.org
SUMMARY:Gabby's Dollhouse Live!
DESCRIPTION:Terrapin Station Entertainment and TEG Life Like Touring\, in association with Universal Destinations and Experiences\, present Gabby’s Dollhouse Live! Presented by Walmart on tour from September 2025. In this a-MEOW-zing new live show\, Gabby unboxes a special acorn that needs the magical touch of a rainbow to grow. But when CatRat causes a color cat-astrophe and breaks the rainbow\, Gabby and the Gabby Cats must find the colors again to set things right. Gabby’s Dollhouse Live! Presented by Walmart brings to life an original story featuring incredible puppets\, dynamic staging\, and songs that will have audiences singing and dancing along\, from beginning to end.
URL:https://downtownwabash.org/event/gabbys-dollhouse-live/
END:VEVENT
BEGIN:VEVENT
DTSTART;TZID=America/Indiana/Indianapolis:20260206T180000
DTEND;TZID=America/Indiana/Indianapolis:20260206T210000
DTSTAMP:20260423T201103
CREATED:20260120T155908Z
LAST-MODIFIED:20260120T155908Z
UID:10305-1770400800-1770411600@downtownwabash.org
SUMMARY:Wine & Sweets Tasting Tour
DESCRIPTION:Indulge in one of Wabash’s most anticipated traditions—the Annual Chocolate & Sweets Tasting in the Cloud Club. This signature seasonal event invites guests to savor decadent pairings of fine wines and artisanal sweets. \nExperience the Pairings:\n• Zinfandel – 7 Deadly Zins (Lodi\, CA) paired with Dark Chocolate Almonds: Bold\, jammy fruit and peppery spice balanced by rich cocoa.\n• Vinho Verde – Twin Vines (Portugal) paired with Cheesecake Bites: Refreshing citrus spritz cuts through creamy indulgence.\n• Chardonnay – Little Penguin (Australia) paired with Milk Chocolate Caramels: Tropical fruit and vanilla notes complement caramel’s sweetness.\n• Port – San Antonio Cardinale (California) paired with Milk Chocolate Pecans: Nutty\, fruit-forward richness meets smooth chocolate.\n• Rosé – Vino Rosé (Washington State) paired with Macarons: Guava\, apricot\, and honeysuckle harmonize with delicate\, colorful confections.\n• Cabernet Sauvignon – Freakshow Cabernet (Lodi\, CA) paired with Milk Chocolate Meltaways: Bold tannins and cherry notes balanced by creamy chocolate.\n• Shiraz – Woop Woop Winery (Australia) paired with Milk Chocolate Raspberry Creams: Blackberry\, cassis\, and blueberry flavors with soft tannins and bright acidity\, complemented by dark chocolate and fruit‑based desserts.\n• Pink Moscato – (Australia) paired with Biscotti Cookies: Cotton candy\, blackcurrant\, and mandarin peel aromas balanced by spritzy freshness\, enhanced by nutty almond biscotti. \nWhy Attend:\n• A curated tasting menu showcasing indulgent pairings\n• A festive evening perfect for couples\, friends\, and food & wine enthusiasts\n• A chance to experience one of Wabash’s must‑attend annual traditions \nTickets:\n• Advance Purchase: $25 Available in person at the Wine & Cheese Bar or online at: https://www.eventzilla.net/…/wine-amp-sweets-tasting…?\n• At the Door: $30 (if space is still available) \nJoin us for an unforgettable evening of wine\, chocolate\, and celebration.
URL:https://downtownwabash.org/event/wine-sweets-tasting-tour/
END:VEVENT
BEGIN:VEVENT
DTSTART;TZID=America/Indiana/Indianapolis:20260205T190000
DTEND;TZID=America/Indiana/Indianapolis:20260205T210000
DTSTAMP:20260423T201103
CREATED:20251203T192931Z
LAST-MODIFIED:20251203T192931Z
UID:10217-1770318000-1770325200@downtownwabash.org
SUMMARY:Blackberry Smoke
DESCRIPTION:Blackberry Smoke has embodied Georgia’s rich musical legacy\, honoring the people\, places\, and sounds of their home state. Their latest album\, Be Right Here\, draws on Southern rock\, blues-leaning classic rock\, and rootsy country\, full of vivid\, relatable characters. You Hear Georgia (2021) hit #1 on Billboard’s Americana/Folk Albums chart\, and Be Right Here (2024) climbed to the top 5 on Top Current Album Sales. Touring for over two decades\, they continue to give fans a place to belong.
URL:https://downtownwabash.org/event/blackberry-smoke/
END:VEVENT
BEGIN:VEVENT
DTSTART;TZID=America/Indiana/Indianapolis:20260201T183000
DTEND;TZID=America/Indiana/Indianapolis:20260201T203000
DTSTAMP:20260423T201103
CREATED:20260106T153819Z
LAST-MODIFIED:20260106T153819Z
UID:10255-1769970600-1769977800@downtownwabash.org
SUMMARY:Map of My Kingdom
DESCRIPTION:Map of My Kingdom explores the critical\, often emotional issue of land transition. Commissioned by Practical Farmers of Iowa and written by the recent Poet Laureate of the State of Iowa\, Mary Swander\, the play follows Angela Martin\, a lawyer and mediator\, as she shares real stories of families navigating the transfer of their farms. Balancing conflict\, legacy\, and the future of the land\, this compelling drama inspires audiences to confront the conversations about ownership\, fairness\, and stewardship that cannot wait.
URL:https://downtownwabash.org/event/map-of-my-kingdom/
END:VEVENT
BEGIN:VEVENT
DTSTART;TZID=America/Indiana/Indianapolis:20260131T193000
DTEND;TZID=America/Indiana/Indianapolis:20260131T213000
DTSTAMP:20260423T201103
CREATED:20251203T192922Z
LAST-MODIFIED:20251203T192922Z
UID:10216-1769887800-1769895000@downtownwabash.org
SUMMARY:Brett Young
DESCRIPTION:From his self-titled debut album in 2017\, Brett Young has captured fans everywhere through his honest lyrics and “Caliville” style. With seven No. 1 hits\, including “In Case You Didn’t Know\,” “Mercy\,” and “Lady\,” and over 8.1 billion global streams\, he’s cemented his status as a master of matters of the heart. Young continues to top charts with albums like Ticket To L.A. and Across The Sheets\, bringing his heartfelt sound to audiences worldwide.
URL:https://downtownwabash.org/event/brett-young/
END:VEVENT
BEGIN:VEVENT
DTSTART;TZID=America/Indiana/Indianapolis:20260131T193000
DTEND;TZID=America/Indiana/Indianapolis:20260131T213000
DTSTAMP:20260423T201103
CREATED:20250731T135856Z
LAST-MODIFIED:20250731T135856Z
UID:9863-1769887800-1769895000@downtownwabash.org
SUMMARY:The Jokers of Magic
DESCRIPTION:Introducing The Jokers of Magic – the irreverent\, laugh-your-butt-off night of comedy and magic you didn’t know you needed (but trust us\, you do). Armed with credits from America’s Got Talent\, Penn & Teller: Fool Us\, and a few places that might technically be illegal to perform in\, these slick tricksters will blow your mind and swindle their way into your heart in a no-holds-barred evening of tricks\, lies\, and laughs. It’s like SNL and Whose Line Is It Anyway? had a love child and sent it to Hogwarts.
URL:https://downtownwabash.org/event/the-jokers-of-magic/
END:VEVENT
BEGIN:VEVENT
DTSTART;TZID=America/Indiana/Indianapolis:20260131T190000
DTEND;TZID=America/Indiana/Indianapolis:20260131T220000
DTSTAMP:20260423T201103
CREATED:20260202T192329Z
LAST-MODIFIED:20260202T192329Z
UID:10312-1769886000-1769896800@downtownwabash.org
SUMMARY:Chris Rutkowski
DESCRIPTION:Jazz pianist Chris Rutkowski has enjoyed several careers over a lifetime in music. Beginning as a self-taught improviser\, he digressed into the study of philosophy at Kings College London. He returned to Detroit\, immersed in its rich jazz world\, working with trumpeter Marcus Belgrave\, The Temptations\, etc. He also began writing classical music\, studying with Aaron Copland student Anthony Iannaccone\, subsequently pursuing graduate work at Indiana University. There followed a 20-year period of academic musical appointments at institutions such as the College of Wooster and Indiana-Purdue Fort Wayne. Currently he devotes his time to jazz piano performance with his band\, the Project (watch/listen at CRPJazz.com)\, focused on his original compositions. Performance venues include the Detroit\, Elkhart\, Indianapolis and Carmel Jazz Festivals; the Jazz Kitchen\, Baker’s Keyboard Lounge (Detroit)\, the Chatterbox\, Penrod Art Fair\, Concerts on the Canal (Indianapolis) and many more.
URL:https://downtownwabash.org/event/chris-rutkowski/
END:VEVENT
BEGIN:VEVENT
DTSTART;TZID=America/Indiana/Indianapolis:20260131T140000
DTEND;TZID=America/Indiana/Indianapolis:20260131T160000
DTSTAMP:20260423T201103
CREATED:20250731T135847Z
LAST-MODIFIED:20250731T135847Z
UID:9862-1769868000-1769875200@downtownwabash.org
SUMMARY:The Jokers of Magic
DESCRIPTION:Introducing The Jokers of Magic – the irreverent\, laugh-your-butt-off night of comedy and magic you didn’t know you needed (but trust us\, you do). Armed with credits from America’s Got Talent\, Penn & Teller: Fool Us\, and a few places that might technically be illegal to perform in\, these slick tricksters will blow your mind and swindle their way into your heart in a no-holds-barred evening of tricks\, lies\, and laughs. It’s like SNL and Whose Line Is It Anyway? had a love child and sent it to Hogwarts.
URL:https://downtownwabash.org/event/the-jokers-of-magic/
END:VEVENT
BEGIN:VEVENT
DTSTART;TZID=America/Indiana/Indianapolis:20260130T193000
DTEND;TZID=America/Indiana/Indianapolis:20260130T213000
DTSTAMP:20260423T201103
CREATED:20250707T141143Z
LAST-MODIFIED:20250707T141143Z
UID:9853-1769801400-1769808600@downtownwabash.org
SUMMARY:The Lovin’ Spoonful: With The Hollies Greatest Hits Starring Terry Sylvester
DESCRIPTION:The Lovin’ Spoonful is known for timeless hits\, including “Do You Believe in Magic\,” “Daydream\,” and “Summer in the City.” Rock & Roll Hall of Fame inductee Terry Sylvester will showcase The Hollies’ chart-toppers like “Long Cool Woman (In a Black Dress)” and “He Ain’t Heavy (He’s My Brother).” Classic hits from two iconic groups that helped shape the sound of the ’60s!
URL:https://downtownwabash.org/event/the-lovin-spoonful-with-the-hollies-greatest-hits-starring-terry-sylvester/
END:VEVENT
BEGIN:VEVENT
DTSTART;TZID=America/Indiana/Indianapolis:20260126T080000
DTEND;TZID=America/Indiana/Indianapolis:20260225T170000
DTSTAMP:20260423T201103
CREATED:20260106T153715Z
LAST-MODIFIED:20260106T153715Z
UID:10250-1769414400-1772038800@downtownwabash.org
SUMMARY:Annual Fine Art Competition Exhibit
DESCRIPTION:The Annual Fine Art Competition showcases outstanding artwork from artists across the country. Open to artists working in a variety of mediums\, the competition provides a platform for both emerging and established artists to share their work. The competition features diverse styles – from traditional landscapes to contemporary expressions – reflecting the depth and breadth of today’s visual arts.
URL:https://downtownwabash.org/event/annual-fine-art-competition-exhibit/
END:VEVENT
BEGIN:VEVENT
DTSTART;TZID=America/Indiana/Indianapolis:20260124T190000
DTEND;TZID=America/Indiana/Indianapolis:20260124T220000
DTSTAMP:20260423T201103
CREATED:20260202T191444Z
LAST-MODIFIED:20260202T191444Z
UID:10311-1769281200-1769292000@downtownwabash.org
SUMMARY:Karen Wehr
DESCRIPTION:Karen Wehr is a seasoned singer-songwriter whose musical roots run deep in the heart of Indiana. Growing up on a 1970s farm\, she absorbed the sounds of classic rock and country\, which now merge beautifully with her soaring\, smooth vocals. Throughout her more than 30-year career\, Wehr has enchanted audiences with riveting acoustic sets and electrifying group performances as part of “Karen Wehr & Friends.” Her credentials include notable performances at “Rockin’ The Hall of Fame” at the Eagles Theater in Wabash and opening for celebrated acts like Lita Ford of The Runaways and The Little River Band. With the release of her debut EP “Here In The Country\,” Wehr’s empowering and heartfelt lyrics continue to resonate with listeners. Her authentic stage presence and unwavering dedication to her craft make her an unforgettable act and a true testament to the enduring spirit of Midwest music. \nDinner Reservations available at: https://www.charleycreekinn.com/eat-drink/twenty
URL:https://downtownwabash.org/event/karen-wehr/
END:VEVENT
BEGIN:VEVENT
DTSTART;TZID=America/Indiana/Indianapolis:20260124T130000
DTEND;TZID=America/Indiana/Indianapolis:20260124T163000
DTSTAMP:20260423T201103
CREATED:20260106T153501Z
LAST-MODIFIED:20260106T153501Z
UID:10242-1769259600-1769272200@downtownwabash.org
SUMMARY:Workshop: Needle Felted Sunset Landscape
DESCRIPTION:Learn how to “paint” with wool as you craft a needle-felted landscape full of texture and vibrant color blends. In this guided workshop\, you’ll explore layering techniques\, shaping details\, and bringing depth to your scene using simple tools and natural fibers. Your finished artwork will measure about 8×8. \nAll supplies will be provided.
URL:https://downtownwabash.org/event/workshop-needle-felted-sunset-landscape/
END:VEVENT
BEGIN:VEVENT
DTSTART;TZID=America/Indiana/Indianapolis:20260123T193000
DTEND;TZID=America/Indiana/Indianapolis:20260123T213000
DTSTAMP:20260423T201103
CREATED:20250731T140512Z
LAST-MODIFIED:20250731T140512Z
UID:9901-1769196600-1769203800@downtownwabash.org
SUMMARY:Fan Halen
DESCRIPTION:Known as “The World’s Most Authentic Tribute to Van Halen\,” Fan Halen sets the stage for a night with Dave\, Eddie\, Alex\, and Michael with a true-to-life tribute to the band and the spirit of an era! You’ll feel like it’s 1984 all over again – from the look of the band\, the choreography\, and the note-for-note reproduction of the greatest rock songs ever written. Relive your favorite hits like “Jump\,” “Can’t Stop Lovin’ You\,” “Panama\,” and more.
URL:https://downtownwabash.org/event/fan-halen/
END:VEVENT
BEGIN:VEVENT
DTSTART;TZID=America/Indiana/Indianapolis:20260122T180000
DTEND;TZID=America/Indiana/Indianapolis:20260122T200000
DTSTAMP:20260423T201103
CREATED:20260106T153705Z
LAST-MODIFIED:20260106T153705Z
UID:10249-1769104800-1769112000@downtownwabash.org
SUMMARY:Flex Band
DESCRIPTION:Calling all woodwind\, brass\, and rhythm section players! Flex Band is a laid-back\, welcoming group where musicians of all levels can play together and connect through music in a fun\, supportive setting. Haven’t played in a while? No problem! This is the perfect chance to dust off your instrument and jump back in. There’s no audition or performance – just bring your instrument and enthusiasm. Be sure to register ahead of time so we can send you the music in advance.
URL:https://downtownwabash.org/event/flex-band/
END:VEVENT
BEGIN:VEVENT
DTSTART;TZID=America/Indiana/Indianapolis:20260121T173000
DTEND;TZID=America/Indiana/Indianapolis:20260121T190000
DTSTAMP:20260423T201103
CREATED:20251117T135203Z
LAST-MODIFIED:20251117T135203Z
UID:10097-1769016600-1769022000@downtownwabash.org
SUMMARY:Next Generation: University Art Competition Reception
DESCRIPTION:Public reception on Wed. Jan. 21\, 2026 at 5:30 pm. RSVPs are appreciated. \nThe University Art Competition showcases the talent and creativity of higher education students. This state-wide juried exhibit is open to students currently enrolled in higher education programs across Indiana. Submissions are welcome from those pursuing an Associate’s\, Bachelor’s\, or Master’s Degree in any field of fine art or craft.
URL:https://downtownwabash.org/event/next-generation-university-art-competition-reception/
END:VEVENT
BEGIN:VEVENT
DTSTART;TZID=America/Indiana/Indianapolis:20260118T140000
DTEND;TZID=America/Indiana/Indianapolis:20260118T160000
DTSTAMP:20260423T201103
CREATED:20251013T170633Z
LAST-MODIFIED:20251013T170633Z
UID:9950-1768744800-1768752000@downtownwabash.org
SUMMARY:Vicki Lawrence and Mama
DESCRIPTION:Emmy award-winning comedian Vicki Lawrence is one of the most beloved television personalities of her generation. Lawrence was part of the legendary cast of the Carol Burnett Show\, where she created her most endearing character to date\, Thelma Harper\, better known as “Mama.” With new material with a modern twist\, expect the unexpected from Vicki and Mama. Please note this performance is rated PG-13 and includes some mature content.
URL:https://downtownwabash.org/event/vicki-lawrence-and-mama/
END:VEVENT
BEGIN:VEVENT
DTSTART;TZID=America/Indiana/Indianapolis:20260117T193000
DTEND;TZID=America/Indiana/Indianapolis:20260117T213000
DTSTAMP:20260423T201103
CREATED:20251117T135302Z
LAST-MODIFIED:20251117T135302Z
UID:10165-1768678200-1768685400@downtownwabash.org
SUMMARY:Night Ranger
DESCRIPTION:It all started when five hard-rockin’ kids joined forces in the early ’80s to form Night Ranger. The band has sold more than 16 million albums worldwide\, fueled by an impressive string of instantly recognizable hits like “Sister Christian\,” “(You Can Still) Rock In America\,” “When You Close Your Eyes\,” “Sentimental Street\,” “Goodbye\,” and “Don’t Tell Me You Love Me.” Night Ranger set the standard for a new sound.
URL:https://downtownwabash.org/event/night-ranger/
END:VEVENT
BEGIN:VEVENT
DTSTART;TZID=America/Indiana/Indianapolis:20260117T190000
DTEND;TZID=America/Indiana/Indianapolis:20260117T220000
DTSTAMP:20260423T201103
CREATED:20260120T155856Z
LAST-MODIFIED:20260120T155856Z
UID:10302-1768676400-1768687200@downtownwabash.org
SUMMARY:Two of Us
DESCRIPTION:Two of Us features father-daughter duo\, Larry and Toni-ann Mattera\, covering hits from the 50s through today. The pair began singing together at local events and restaurants in their hometown of Norwalk\, CT back in 2007. Now\, with Larry in Los Angeles and Toni-ann in New Orleans\, they perform together whenever they can\, wherever they can\, and are often joined by the other musical friends in their lives. This time around\, they will be joined by Larry’s high school bandmate and long-time music collaborator\, Todd Forcellina\, and Kids That Fly band frontman\, Nick Smeriglio. \nWith a shared love for melodic tunes from the 50s and 60s\, 90s rock\, and today’s pop and alternative scene\, together they love to cover songs from Fleetwood Mac and The Beatles to Alanis Morrissette\, Paramore\, and more.
URL:https://downtownwabash.org/event/two-of-us/
END:VEVENT
BEGIN:VEVENT
DTSTART;TZID=America/Indiana/Indianapolis:20260116T183000
DTEND;TZID=America/Indiana/Indianapolis:20260116T203000
DTSTAMP:20260423T201103
CREATED:20250731T140330Z
LAST-MODIFIED:20250731T140330Z
UID:9887-1768588200-1768595400@downtownwabash.org
SUMMARY:Mark Honeywell’s Birthday Bash with the Brits
DESCRIPTION:Enjoy an evening of fun and frivolities with an English flair. Delicious food and great entertainment will help us celebrate Mark Honeywell’s 153rd birthday in style!
URL:https://downtownwabash.org/event/mark-honeywells-birthday-bash-with-the-brits/
END:VEVENT
BEGIN:VEVENT
DTSTART;TZID=America/Indiana/Indianapolis:20260110T190000
DTEND;TZID=America/Indiana/Indianapolis:20260110T220000
DTSTAMP:20260423T201103
CREATED:20260120T155845Z
LAST-MODIFIED:20260120T155845Z
UID:10301-1768071600-1768082400@downtownwabash.org
SUMMARY:Kyle Johnson
DESCRIPTION:With a musical journey spanning more than 18 years\, Kyle Johnson is a seasoned performer hailing from Peru and Indianapolis. Specializing in an acoustic style that spans from the timeless hits of the 1960s to today’s chart-topping songs\, Kyle captivates audiences with soulful interpretations. Notable highlights of Kyle’s career include opening for acclaimed acts such as Andy Grammer and Big Time Rush at the Ruoff Music Center\, as well as gracing the stage at The Honeywell Center. Kyle’s passion for music shines through in every performance\, offering a blend of nostalgia and contemporary flair that leaves a lasting impression on listeners\n.\nLearn more about other upcoming events at: https://www.charleycreekinn.com/events
URL:https://downtownwabash.org/event/kyle-johnson/
END:VEVENT
BEGIN:VEVENT
DTSTART;TZID=America/Indiana/Indianapolis:20260109T193000
DTEND;TZID=America/Indiana/Indianapolis:20260109T213000
DTSTAMP:20260423T201103
CREATED:20250707T141105Z
LAST-MODIFIED:20250707T141105Z
UID:9850-1767987000-1767994200@downtownwabash.org
SUMMARY:Classic Albums Live: Led Zeppelin II
DESCRIPTION:Founded in 2003\, Classic Albums Live takes the greatest albums and recreates them live on stage – note for note\, cut for cut\, using the best musicians. With 200+ shows a year\, Classic Albums Live has found success in concentrating solely on the music. Hear your favorite hits from the Led Zeppelin album\, Led Zeppelin II\, like “Ramble On\,” “Whole Lotta Love\,” “The Lemon Song\,” and more.
URL:https://downtownwabash.org/event/classic-albums-live-led-zeppelin-ii/
END:VEVENT
BEGIN:VEVENT
DTSTART;TZID=America/Indiana/Indianapolis:20260103T190000
DTEND;TZID=America/Indiana/Indianapolis:20260103T220000
DTSTAMP:20260423T201103
CREATED:20260106T154004Z
LAST-MODIFIED:20260106T154004Z
UID:10264-1767466800-1767477600@downtownwabash.org
SUMMARY:Eric Baker
DESCRIPTION:As a pianist\, singer\, band member and leader\, Eric Baker has performed in and around Central Indiana for the past 20+ years. Most recently\, he has curated and performed a successful run of shows at both Feinstein’s in Carmel\, as well as the Jazz Kitchen\, including a Billy Joel tribute\, a series celebrating the music of Southern California and Laurel Canyon in the ’70s\, and a show celebrating the sounds of Memphis soul and blues music. Eric can be heard as a soloist\, with jazz combos\, and with full bands\, bringing pop\, gospel\, jazz and blues to live music venues around Indianapolis.
URL:https://downtownwabash.org/event/eric-baker/
END:VEVENT
BEGIN:VEVENT
DTSTART;TZID=America/Indiana/Indianapolis:20251220T193000
DTEND;TZID=America/Indiana/Indianapolis:20251220T213000
DTSTAMP:20260423T201103
CREATED:20251013T170535Z
LAST-MODIFIED:20251013T170535Z
UID:9947-1766259000-1766266200@downtownwabash.org
SUMMARY:Thunderstruck with special guest Night Moves
DESCRIPTION:Thunderstruck expertly recreates the AC/DC live concert experience just the way fans remember it. Each member obsesses over the tones and structures of each song\, the energy of each performance\, as well as every piece of gear\, to bring the power and entertainment of a genuine AC/DC show back to the stage. Night Moves creates a dynamic journey through the timeless music of Bob Seger and The Silver Bullet Band. With authentic vocals and commanding performances\, it’s clear why Bob Seger fans are calling Night Moves a true concert experience.
URL:https://downtownwabash.org/event/thunderstruck-with-special-guest-night-moves/
END:VEVENT
BEGIN:VEVENT
DTSTART;TZID=America/Indiana/Indianapolis:20251219T193000
DTEND;TZID=America/Indiana/Indianapolis:20251219T213000
DTSTAMP:20260423T201103
CREATED:20251013T170458Z
LAST-MODIFIED:20251013T170458Z
UID:9941-1766172600-1766179800@downtownwabash.org
SUMMARY:Sara Evans: Christmas Tour
DESCRIPTION:Multi-platinum entertainer Sara Evans has five No. 1 country singles\, including “Born to Fly\,” “Suds in the Bucket\,” and the platinum-certified “A Little Bit Stronger.” An ACM Top Female Vocalist\, her discography includes Real Fine Place and Restless (both platinum) and the gold-certified No Place That Far. She recently released Unbroke\, featuring songs like “Pride” and “21 Days\,” and launched her podcast Diving In Deep with Sara Evans\, continuing to forge a bold\, creative path.
URL:https://downtownwabash.org/event/sara-evans-christmas-tour/
END:VEVENT
BEGIN:VEVENT
DTSTART;TZID=America/Indiana/Indianapolis:20251218T190000
DTEND;TZID=America/Indiana/Indianapolis:20251218T210000
DTSTAMP:20260423T201103
CREATED:20251203T192425Z
LAST-MODIFIED:20251203T192425Z
UID:10219-1766084400-1766091600@downtownwabash.org
SUMMARY:Elvis: Home for the Holidays
DESCRIPTION:Doug Church is an international\, multi-award-winning artist who has awed his audiences for years\, mesmerizing them with his unique vocal rendition of the ‘King of Rock and Roll.’ Church has traveled worldwide and performed with Elvis’ closest friends\, musicians\, and original singers. Relive your favorite Elvis holiday hits like “Blue Christmas\,” “Santa Claus Is Back in Town\,” “Silent Night\, ” and more. Church’s unique vocal rendition of Elvis’ legendary career will bring memories and magic.
URL:https://downtownwabash.org/event/elvis-home-for-the-holidays/
END:VEVENT
BEGIN:VEVENT
DTSTART;TZID=America/Indiana/Indianapolis:20251218T190000
DTEND;TZID=America/Indiana/Indianapolis:20251218T210000
DTSTAMP:20260423T201103
CREATED:20250731T140453Z
LAST-MODIFIED:20250731T140453Z
UID:9899-1766084400-1766091600@downtownwabash.org
SUMMARY:The Oak Ridge Boys
DESCRIPTION:The four-part harmonies and upbeat songs of The Oak Ridge Boys have spawned dozens of #1 country hits and the pop smash\, “Elvira\,” earning them GRAMMY\, Dove\, CMA\, and ACM awards and garnering a host of other industry and fan accolades. With four decades of charted singles and a 50-year legacy\, The Oaks deliver a stage show widely acknowledged as among the most exciting.
URL:https://downtownwabash.org/event/the-oak-ridge-boys/
END:VEVENT
BEGIN:VEVENT
DTSTART;TZID=America/Indiana/Indianapolis:20251214T193000
DTEND;TZID=America/Indiana/Indianapolis:20251214T213000
DTSTAMP:20260423T201103
CREATED:20251013T170526Z
LAST-MODIFIED:20251013T170526Z
UID:9946-1765740600-1765747800@downtownwabash.org
SUMMARY:Mannheim Steamroller Christmas by Chip Davis
DESCRIPTION:Mannheim Steamroller Christmas by Chip Davis has been America’s favorite holiday tradition for 40 years! GRAMMY award-winner Chip Davis has created a show that features Mannheim Steamroller Christmas classics in the distinctive Mannheim sound. The program includes 15 musicians playing more than 20 instruments against a backdrop of dazzling multimedia effects\, capturing the spirit of the season in an immersive yet intimate setting.
URL:https://downtownwabash.org/event/mannheim-steamroller-christmas-by-chip-davis/
END:VEVENT
BEGIN:VEVENT
DTSTART;TZID=America/Indiana/Indianapolis:20251214T150000
DTEND;TZID=America/Indiana/Indianapolis:20251214T170000
DTSTAMP:20260423T201103
CREATED:20251013T170517Z
LAST-MODIFIED:20251013T170517Z
UID:9945-1765724400-1765731600@downtownwabash.org
SUMMARY:Mannheim Steamroller Christmas by Chip Davis
DESCRIPTION:Mannheim Steamroller Christmas by Chip Davis has been America’s favorite holiday tradition for 40 years! GRAMMY award-winner Chip Davis has created a show that features Mannheim Steamroller Christmas classics in the distinctive Mannheim sound. The program includes 15 musicians playing more than 20 instruments against a backdrop of dazzling multimedia effects\, capturing the spirit of the season in an immersive yet intimate setting.
URL:https://downtownwabash.org/event/mannheim-steamroller-christmas-by-chip-davis/
END:VEVENT
BEGIN:VEVENT
DTSTART;TZID=America/Indiana/Indianapolis:20251213T193000
DTEND;TZID=America/Indiana/Indianapolis:20251213T213000
DTSTAMP:20260423T201103
CREATED:20250707T141046Z
LAST-MODIFIED:20250707T141046Z
UID:9849-1765654200-1765661400@downtownwabash.org
SUMMARY:LynSkynyrd
DESCRIPTION:LynSkynyrd pays tribute to Lynyrd Skynyrd with faithful renditions of hits like “Sweet Home Alabama\,” “That Smell\,” “Gimme Three Steps\,” and the legendary “Free Bird.” With period-correct instruments\, vintage amps\, and a nine-piece lineup\, including backup vocalists known as the Honkettes\, LynSkynyrd delivers an authentic rock experience rooted in the spirit of the ’70s.
URL:https://downtownwabash.org/event/lynskynyrd/
END:VEVENT
END:VCALENDAR