BEGIN:VCALENDAR
VERSION:2.0
PRODID:-//Downtown Wabash, Inc. - ECPv6.15.17.1//NONSGML v1.0//EN
CALSCALE:GREGORIAN
METHOD:PUBLISH
X-WR-CALNAME:Downtown Wabash, Inc.
X-ORIGINAL-URL:https://downtownwabash.org
X-WR-CALDESC:Events for Downtown Wabash, Inc.
REFRESH-INTERVAL;VALUE=DURATION:PT1H
X-Robots-Tag:noindex
X-PUBLISHED-TTL:PT1H
BEGIN:VTIMEZONE
TZID:America/Indiana/Indianapolis
BEGIN:DAYLIGHT
TZOFFSETFROM:-0500
TZOFFSETTO:-0400
TZNAME:EDT
DTSTART:20220313T070000
END:DAYLIGHT
BEGIN:STANDARD
TZOFFSETFROM:-0400
TZOFFSETTO:-0500
TZNAME:EST
DTSTART:20221106T060000
END:STANDARD
BEGIN:DAYLIGHT
TZOFFSETFROM:-0500
TZOFFSETTO:-0400
TZNAME:EDT
DTSTART:20230312T070000
END:DAYLIGHT
BEGIN:STANDARD
TZOFFSETFROM:-0400
TZOFFSETTO:-0500
TZNAME:EST
DTSTART:20231105T060000
END:STANDARD
BEGIN:DAYLIGHT
TZOFFSETFROM:-0500
TZOFFSETTO:-0400
TZNAME:EDT
DTSTART:20240310T070000
END:DAYLIGHT
BEGIN:STANDARD
TZOFFSETFROM:-0400
TZOFFSETTO:-0500
TZNAME:EST
DTSTART:20241103T060000
END:STANDARD
END:VTIMEZONE
BEGIN:VEVENT
DTSTART;TZID=America/Indiana/Indianapolis:20230713T193000
DTEND;TZID=America/Indiana/Indianapolis:20230713T213000
DTSTAMP:20260425T085837
CREATED:20230621T165526Z
LAST-MODIFIED:20230622T170701Z
UID:5238-1689276600-1689283800@downtownwabash.org
SUMMARY:Croce Plays Croce
DESCRIPTION:A.J. Croce will perform a special night of music featuring a complete set of classics by his late father\, Jim. You’ll hear timeless songs like “Operator\,” “You Don’t Mess Around with Jim\,” “Time in a Bottle” (a song written for A.J.)\,” “Rapid Roy (The Stock Car Boy)\,” and “Lovers Cross.” He’ll also play his own originals and special songs that influenced both A.J. and his father\, including hits by Lieber and Stoller\, Bessie Smith\, and other folk artists.
URL:https://downtownwabash.org/event/croce-plays-croce/
CATEGORIES:Wabash Community Event,Wabash Cultural District
ATTACH;FMTTYPE=image/jpeg:https://downtownwabash.org/wp-content/uploads/Croce-fb7a379d0e0a72620d1ccd9d7f05892f.jpg
END:VEVENT
BEGIN:VEVENT
DTSTART;TZID=America/Indiana/Indianapolis:20230714T173000
DTEND;TZID=America/Indiana/Indianapolis:20230714T193000
DTSTAMP:20260425T085837
CREATED:20230621T175616Z
LAST-MODIFIED:20230622T170814Z
UID:5258-1689355800-1689363000@downtownwabash.org
SUMMARY:Prime Rib Dinner
DESCRIPTION:Don’t miss our popular\, all-you-can-eat prime rib buffet with side and salad accompaniments. Plated entree menu options and dessert available. Come early\, grab a drink\, and enjoy our lounge area before you’re seated!
URL:https://downtownwabash.org/event/prime-rib-dinner/
CATEGORIES:Wabash Community Event,Wabash Cultural District
ATTACH;FMTTYPE=image/jpeg:https://downtownwabash.org/wp-content/uploads/PrimeRib-236c149615d4f3bef817e3c2cdd63346.jpg
END:VEVENT
BEGIN:VEVENT
DTSTART;TZID=America/Indiana/Indianapolis:20230717T130000
DTEND;TZID=America/Indiana/Indianapolis:20230717T150000
DTSTAMP:20260425T085837
CREATED:20230621T163235Z
LAST-MODIFIED:20230622T170539Z
UID:5222-1689598800-1689606000@downtownwabash.org
SUMMARY:Sing 2
DESCRIPTION:Free Movie Mondays \nJoin us on select Mondays this summer at Eagles Theatre for FREE movies! Showings are at 1 pm & 7 pm.
URL:https://downtownwabash.org/event/sing-2/
CATEGORIES:Wabash Community Event,Wabash Cultural District
ATTACH;FMTTYPE=image/jpeg:https://downtownwabash.org/wp-content/uploads/EaglesTheatre-40ccafbe3e9b08c36df2cbee54e0b63e.jpg
END:VEVENT
BEGIN:VEVENT
DTSTART;TZID=America/Indiana/Indianapolis:20230717T190000
DTEND;TZID=America/Indiana/Indianapolis:20230717T210000
DTSTAMP:20260425T085837
CREATED:20230621T163443Z
LAST-MODIFIED:20230622T170546Z
UID:5224-1689620400-1689627600@downtownwabash.org
SUMMARY:Sing 2
DESCRIPTION:Free Movie Mondays \nJoin us on select Mondays this summer at Eagles Theatre for FREE movies! Showings are at 1 pm & 7 pm.
URL:https://downtownwabash.org/event/sing-2/
CATEGORIES:Wabash Community Event,Wabash Cultural District
ATTACH;FMTTYPE=image/jpeg:https://downtownwabash.org/wp-content/uploads/EaglesTheatre-842edd2859553aea43a26ec4d4064a04.jpg
END:VEVENT
BEGIN:VEVENT
DTSTART;TZID=America/Indiana/Indianapolis:20230720T100000
DTEND;TZID=America/Indiana/Indianapolis:20230820T170000
DTSTAMP:20260425T085837
CREATED:20230621T180153Z
LAST-MODIFIED:20230622T170824Z
UID:5260-1689847200-1692550800@downtownwabash.org
SUMMARY:Kim Clark Family Exhibit
DESCRIPTION:In celebration of Kim’s life and artistic talent\, we invite you to join us as we honor his legacy. The exhibit will be on display from July 20 through August 20\, and will showcase Kim’s work along with pieces from his wife\, Margie.
URL:https://downtownwabash.org/event/kim-clark-family-exhibit/
CATEGORIES:Wabash Community Event,Wabash Cultural District
ATTACH;FMTTYPE=image/jpeg:https://downtownwabash.org/wp-content/uploads/HC-Gallery2-5f937c7a0d923ba1d459543d91e47bcd.jpg
END:VEVENT
BEGIN:VEVENT
DTSTART;TZID=America/Indiana/Indianapolis:20230721T100000
DTEND;TZID=America/Indiana/Indianapolis:20230721T110000
DTSTAMP:20260425T085837
CREATED:20230608T193613Z
LAST-MODIFIED:20230609T152936Z
UID:5194-1689933600-1689937200@downtownwabash.org
SUMMARY:Wabash County YMCA FREE BINGO
DESCRIPTION:The Wabash County YMCA is hosting FREE BINGO every first & third Friday of the month starting at 10:00 am for any active older adult. This event is free and open to the public and includes free prizes and refreshments.. Sponsored by the Senior Marketing Group & the Waters of Wabash.
URL:https://downtownwabash.org/event/wabash-county-ymca-free-bingo/
CATEGORIES:Wabash Community Event
END:VEVENT
BEGIN:VEVENT
DTSTART;TZID=America/Indiana/Indianapolis:20230724T130000
DTEND;TZID=America/Indiana/Indianapolis:20230724T150000
DTSTAMP:20260425T085837
CREATED:20230621T163657Z
LAST-MODIFIED:20230622T170557Z
UID:5226-1690203600-1690210800@downtownwabash.org
SUMMARY:Boss Baby Family Business
DESCRIPTION:Free Movie Mondays \nJoin us on select Mondays this summer at Eagles Theatre for FREE movies! Showings are at 1 pm & 7 pm.
URL:https://downtownwabash.org/event/boss-baby-family-business/
CATEGORIES:Wabash Community Event,Wabash Cultural District
ATTACH;FMTTYPE=image/jpeg:https://downtownwabash.org/wp-content/uploads/EaglesTheatre-23e0f519cf1b0366a9b0055e350e169a.jpg
END:VEVENT
BEGIN:VEVENT
DTSTART;TZID=America/Indiana/Indianapolis:20230724T190000
DTEND;TZID=America/Indiana/Indianapolis:20230724T210000
DTSTAMP:20260425T085837
CREATED:20230621T163922Z
LAST-MODIFIED:20230622T170620Z
UID:5228-1690225200-1690232400@downtownwabash.org
SUMMARY:Boss Baby Family Business
DESCRIPTION:Free Movie Mondays \nJoin us on select Mondays this summer at Eagles Theatre for FREE movies! Showings are at 1 pm & 7 pm.
URL:https://downtownwabash.org/event/boss-baby-family-business/
CATEGORIES:Wabash Community Event,Wabash Cultural District
ATTACH;FMTTYPE=image/jpeg:https://downtownwabash.org/wp-content/uploads/EaglesTheatre-360a1c99c12d29c82d73213139007646.jpg
END:VEVENT
BEGIN:VEVENT
DTSTART;TZID=America/Indiana/Indianapolis:20230727T173000
DTEND;TZID=America/Indiana/Indianapolis:20230727T193000
DTSTAMP:20260425T085837
CREATED:20230621T180637Z
LAST-MODIFIED:20230622T170831Z
UID:5262-1690479000-1690486200@downtownwabash.org
SUMMARY:Hawaiian Luau Buffet Dinner
DESCRIPTION:Break out your Hawaiian shirt and join us for a luau buffet with kalua pua’a (roast pig) shoygu glazed chicken\, roasted mahi mahi\, and Hawaiian shrimp plus side accompaniments and dessert options. Come early\, grab a drink\, and enjoy our lounge area before you’re seated!
URL:https://downtownwabash.org/event/hawaiian-luau-buffet-dinner/
CATEGORIES:Wabash Community Event,Wabash Cultural District
ATTACH;FMTTYPE=image/jpeg:https://downtownwabash.org/wp-content/uploads/ET-Ballroom-fa1e694f6b0f24504cd53d43839f7d05.jpg
END:VEVENT
BEGIN:VEVENT
DTSTART;TZID=America/Indiana/Indianapolis:20230727T190000
DTEND;TZID=America/Indiana/Indianapolis:20230727T210000
DTSTAMP:20260425T085837
CREATED:20230724T131347Z
LAST-MODIFIED:20230724T142432Z
UID:5468-1690484400-1690491600@downtownwabash.org
SUMMARY:Chanticleer
DESCRIPTION:Chanticleer returns with special guest pianist William Foster McDaniel to perform selections from Mendelssohn’s String Quartet No. 44 and Brahms’ Quintet in F minor. Also included in this engaging and diverse program is a tango by Carlos Gardel\, the hauntingly beautiful Liebesleid (Love’s Sorrow) and\nLiebesfreud (Love’s Joy) by Franz Kreisler and The Grand Michel by Michel Legrand\, arranged by McDaniel. \nSponsored by Beacon Investment Services
URL:https://downtownwabash.org/event/chanticleer/
CATEGORIES:Wabash Community Event
ATTACH;FMTTYPE=image/jpeg:https://downtownwabash.org/wp-content/uploads/HoneywellHouse-ca71273724527c6a35b7c3d6b5073d55.jpg
END:VEVENT
BEGIN:VEVENT
DTSTART;TZID=America/Indiana/Indianapolis:20230729T183000
DTEND;TZID=America/Indiana/Indianapolis:20230729T220000
DTSTAMP:20260425T085837
CREATED:20230605T185013Z
LAST-MODIFIED:20230605T192927Z
UID:5143-1690655400-1690668000@downtownwabash.org
SUMMARY:Bluegrass At Hopewell
DESCRIPTION:Returning for its third year\, Bluegrass at Hopewell is located in the Rustic Barn at Hopewell. Six Bluegrass bands will play on both levels of the barn. Enjoy local food and drink vendors. During the event hop on Trolley No.85 to travel to the Antique Boutique at Hopewell (affectionately called Hopewell Church) for brandy tastings\, complimentary homemade mini pies\, and more! Guests can enjoy live music while playing lawn games\, enjoying food\, and waiting for the sun to set over the beautiful countryside. Don’t forget your blanket or lawn chairs!
URL:https://downtownwabash.org/event/bluegrass-at-hopewell/
CATEGORIES:Wabash Community Event
END:VEVENT
BEGIN:VEVENT
DTSTART;TZID=America/Indiana/Indianapolis:20230729T193000
DTEND;TZID=America/Indiana/Indianapolis:20230729T213000
DTSTAMP:20260425T085837
CREATED:20230515T160501Z
LAST-MODIFIED:20230515T172547Z
UID:4990-1690659000-1690666200@downtownwabash.org
SUMMARY:Air Supply
DESCRIPTION:With a career spanning over four decades\, Graham Russell and Russell Hitchcock met in 1975. They became instant friends with their shared love for The Beatles and\, of course\, singing. In 1980\, “Lost in Love” became the fastest-selling single in the world\, leaping to the top of all of the charts\, and was named Song of the Year. The albums “Lost in Love\,” “The One That You Love\,” “Now & Forever\,” and “The Greatest Hits” have sold more than 20 million copies. The trademark sound of Russell Hitchcock’s soaring tenor voice and Graham Russell’s simple yet majestic songs created a unique sound that would forever be known as Air Supply.
URL:https://downtownwabash.org/event/air-supply/
CATEGORIES:Wabash Community Event,Wabash Cultural District
ATTACH;FMTTYPE=image/jpeg:https://downtownwabash.org/wp-content/uploads/Air-Supply-898a589ac4152b3462b6e3a99e7acca5.jpg
END:VEVENT
BEGIN:VEVENT
DTSTART;TZID=America/Indiana/Indianapolis:20230731T130000
DTEND;TZID=America/Indiana/Indianapolis:20230731T150000
DTSTAMP:20260425T085837
CREATED:20230621T164116Z
LAST-MODIFIED:20230622T170626Z
UID:5230-1690808400-1690815600@downtownwabash.org
SUMMARY:Minions: The Rise of Gru
DESCRIPTION:Free Movie Mondays \nJoin us on select Mondays this summer at Eagles Theatre for FREE movies! Showings are at 1 pm & 7 pm.
URL:https://downtownwabash.org/event/minions-the-rise-of-gru/
CATEGORIES:Wabash Community Event,Wabash Cultural District
ATTACH;FMTTYPE=image/jpeg:https://downtownwabash.org/wp-content/uploads/EaglesTheatre-9c854ff696c129ff7128cd2dd8b6c1db.jpg
END:VEVENT
BEGIN:VEVENT
DTSTART;TZID=America/Indiana/Indianapolis:20230731T190000
DTEND;TZID=America/Indiana/Indianapolis:20230731T210000
DTSTAMP:20260425T085837
CREATED:20230621T164317Z
LAST-MODIFIED:20230622T170639Z
UID:5232-1690830000-1690837200@downtownwabash.org
SUMMARY:Minions: The Rise of Gru
DESCRIPTION:Free Movie Mondays \nJoin us on select Mondays this summer at Eagles Theatre for FREE movies! Showings are at 1 pm & 7 pm.
URL:https://downtownwabash.org/event/minions-the-rise-of-gru/
CATEGORIES:Wabash Community Event,Wabash Cultural District
ATTACH;FMTTYPE=image/jpeg:https://downtownwabash.org/wp-content/uploads/EaglesTheatre-5c930548f4f3ecd25be5bc4976f753f5.jpg
END:VEVENT
BEGIN:VEVENT
DTSTART;TZID=America/Indiana/Indianapolis:20230803T080000
DTEND;TZID=America/Indiana/Indianapolis:20230804T170000
DTSTAMP:20260425T085837
CREATED:20230621T182211Z
LAST-MODIFIED:20230622T170845Z
UID:5266-1691049600-1691168400@downtownwabash.org
SUMMARY:The Global Leadership Summit
DESCRIPTION:The Global Leadership Summit (GLS) is the largest leadership experience in the world which partners with local churches\, ministries\, and organizations to help leaders to grow and become a catalyst for change. With the partnership of industry-leading experts that represent the best of ministry wisdom with marketplace insights\, GLS will inspire and equip you to lead boldly and wisely\, no matter where you serve in the world!
URL:https://downtownwabash.org/event/the-global-leadership-summit/
CATEGORIES:Wabash Community Event,Wabash Cultural District
ATTACH;FMTTYPE=image/jpeg:https://downtownwabash.org/wp-content/uploads/HC-LegacyHall-354482490d849c9865bade55f9134f37.jpg
END:VEVENT
BEGIN:VEVENT
DTSTART;TZID=America/Indiana/Indianapolis:20230803T100000
DTEND;TZID=America/Indiana/Indianapolis:20230803T113000
DTSTAMP:20260425T085837
CREATED:20230412T194042Z
LAST-MODIFIED:20230417T192851Z
UID:4777-1691056800-1691062200@downtownwabash.org
SUMMARY:The Thursday Parlay
DESCRIPTION:Join us for coffee and a treat\, provided by our sponsor Bob Evans Restaurant\, as our speaker\, Joe Krom\, discusses Abraham Lincoln and the Union Army. Joe Krom is an author and a retired educator who is a graduate from Northfield’s first graduating class of 1963. \n“The Thursday Parlay” will take place from 10 – 11:30 am on Thursday\, October 5th. Hurry and RSVP to secure your seat before spots run out! We look forward to seeing you there.
URL:https://downtownwabash.org/event/the-thursday-parlay/
LOCATION:Wabash\, IN\, 46992\, United States
CATEGORIES:Wabash Community Event,Wabash Cultural District
ATTACH;FMTTYPE=image/jpeg:https://downtownwabash.org/wp-content/uploads/The-Thursday-Parley-Flyer-5-×-7-in-7-×-5-in-1.jpg
END:VEVENT
BEGIN:VEVENT
DTSTART;TZID=America/Indiana/Indianapolis:20230803T150000
DTEND;TZID=America/Indiana/Indianapolis:20230803T170000
DTSTAMP:20260425T085837
CREATED:20230724T131834Z
LAST-MODIFIED:20230724T142449Z
UID:5470-1691074800-1691082000@downtownwabash.org
SUMMARY:Eugenia’s Table
DESCRIPTION:Enjoy a social gathering and special dessert around Mrs. Honeywell’s dining room table. Kindly bring a favorite piece of china\, silver\, or a loved art object that Eugenia would have found delightful. We will share the items and their stories with everyone. $15 per person – includes tax and gratuity.
URL:https://downtownwabash.org/event/eugenias-table/
CATEGORIES:Wabash Community Event
ATTACH;FMTTYPE=image/jpeg:https://downtownwabash.org/wp-content/uploads/HoneywellHouse-efd719fc898fe881131a4f89519c925d.jpg
END:VEVENT
BEGIN:VEVENT
DTSTART;TZID=America/Indiana/Indianapolis:20230803T173000
DTEND;TZID=America/Indiana/Indianapolis:20230803T193000
DTSTAMP:20260425T085837
CREATED:20230621T181225Z
LAST-MODIFIED:20230622T170837Z
UID:5264-1691083800-1691091000@downtownwabash.org
SUMMARY:A Buffet for Meat Lovers
DESCRIPTION:Enjoy a special dinner buffet featuring carved roast beef\, potato crusted tilapia\, roasted pork loin\, and fried chicken plus side accompaniments and dessert options. Come early\, grab a drink\, and enjoy our lounge area before you’re seated!
URL:https://downtownwabash.org/event/a-buffet-for-meat-lovers/
CATEGORIES:Wabash Community Event,Wabash Cultural District
ATTACH;FMTTYPE=image/jpeg:https://downtownwabash.org/wp-content/uploads/ET-Ballroom-a58a8685c428544b8bf630bf6fcd2ae1.jpg
END:VEVENT
BEGIN:VEVENT
DTSTART;TZID=America/Indiana/Indianapolis:20230803T193000
DTEND;TZID=America/Indiana/Indianapolis:20230803T213000
DTSTAMP:20260425T085837
CREATED:20230515T160930Z
LAST-MODIFIED:20230515T172554Z
UID:4992-1691091000-1691098200@downtownwabash.org
SUMMARY:Rahsaan Barber and Everyday Magic
DESCRIPTION:Since their groundbreaking self-titled release exploded onto the national scene over a decade ago\, Rahsaan Barber and Everyday Magic have widely been regarded as one of the most soulful and expressive ensembles in jazz. The sextet features a dynamic horn section led by composer/saxophonist Dr. Rahsaan Barber\, who completed his doctorate at the University of Memphis in 2023. Barber and the members of his sextet\, Everyday Magic\, offer listeners an unforgettable experience that seeks to engage\, inform\, uplift\, and inspire while displaying the elite levels of creativity and refinement that only a certifiable jazz supergroup could achieve.
URL:https://downtownwabash.org/event/rahsaan-barber-and-everyday-magic/
CATEGORIES:Wabash Community Event,Wabash Cultural District
ATTACH;FMTTYPE=image/jpeg:https://downtownwabash.org/wp-content/uploads/Rahsaan-Barber-e65855c0e26b973737c4062922f75242.jpg
END:VEVENT
BEGIN:VEVENT
DTSTART;TZID=America/Indiana/Indianapolis:20230804T170000
DTEND;TZID=America/Indiana/Indianapolis:20230804T200000
DTSTAMP:20260425T085837
CREATED:20230721T175417Z
LAST-MODIFIED:20230810T152455Z
UID:5455-1691168400-1691179200@downtownwabash.org
SUMMARY:August First Friday: Downtown Throwdown
DESCRIPTION:Ladies and gentlemen\, please welcome to Miami Street… THE DOWNTOWN THROWDOWN\, presented by the Apache Wrestling Club! This event\, formerly known as Thrash in the Bash\, is making its comeback from its last 2019 appearance. Gather on Miami Street for a friendship format\, folk-style wrestling tournament open to all age brackets between 6U & Junior. \nIn addition\, head to all of our local shops\, restaurants\, creative hot spots and more! First Fridays in Downtown Wabash\, Indiana wouldn’t be possible without our local favorites. Show them some love on August’s First Friday! \nWabash First Fridays in 2023 are presented by MetalX. Additional support for Wabash First Fridays come from Top Level Sponsors: Pettit Printing and Crossroads Bank; and Mid Level Sponsor: 95.9 KISS FM. August’s First Friday is generously sponsored by Vault 85 Menswear. \nWabash First Fridays are events made possible by Downtown Wabash\, Inc.\, a 501(c)(3) nonprofit dedicated to a downtown district that is vibrant every day and night.
URL:https://downtownwabash.org/event/august-first-friday-downtown-throwdown/
LOCATION:Wabash\, IN\, 46992\, United States
CATEGORIES:First Friday,Wabash Cultural District
ATTACH;FMTTYPE=image/png:https://downtownwabash.org/wp-content/uploads/2-6.png
ORGANIZER;CN="Downtown Wabash":MAILTO:(260) 563-0975
END:VEVENT
BEGIN:VEVENT
DTSTART;TZID=America/Indiana/Indianapolis:20230807T130000
DTEND;TZID=America/Indiana/Indianapolis:20230807T150000
DTSTAMP:20260425T085837
CREATED:20230621T164521Z
LAST-MODIFIED:20230622T170645Z
UID:5234-1691413200-1691420400@downtownwabash.org
SUMMARY:The Croods: A New Age
DESCRIPTION:Free Movie Mondays \nJoin us on select Mondays this summer at Eagles Theatre for FREE movies! Showings are at 1 pm & 7 pm.
URL:https://downtownwabash.org/event/the-croods-a-new-age/
CATEGORIES:Wabash Community Event,Wabash Cultural District
ATTACH;FMTTYPE=image/jpeg:https://downtownwabash.org/wp-content/uploads/EaglesTheatre-3c6eabab56f91648701ce7016bcb9828.jpg
END:VEVENT
BEGIN:VEVENT
DTSTART;TZID=America/Indiana/Indianapolis:20230807T190000
DTEND;TZID=America/Indiana/Indianapolis:20230807T210000
DTSTAMP:20260425T085837
CREATED:20230621T164735Z
LAST-MODIFIED:20230622T170653Z
UID:5236-1691434800-1691442000@downtownwabash.org
SUMMARY:The Croods: A New Age
DESCRIPTION:Free Movie Mondays \nJoin us on select Mondays this summer at Eagles Theatre for FREE movies! Showings are at 1 pm & 7 pm.
URL:https://downtownwabash.org/event/the-croods-a-new-age/
CATEGORIES:Wabash Community Event,Wabash Cultural District
ATTACH;FMTTYPE=image/jpeg:https://downtownwabash.org/wp-content/uploads/EaglesTheatre-1c9e5191c9789d11d91b0bc3a696b784.jpg
END:VEVENT
BEGIN:VEVENT
DTSTART;TZID=America/Indiana/Indianapolis:20230808T120000
DTEND;TZID=America/Indiana/Indianapolis:20230808T130000
DTSTAMP:20260425T085837
CREATED:20230105T193606Z
LAST-MODIFIED:20230105T193606Z
UID:4102-1691496000-1691499600@downtownwabash.org
SUMMARY:August Board Meeting
DESCRIPTION:
URL:https://downtownwabash.org/event/august-board-meeting/
LOCATION:Wabash\, IN\, 46992\, United States
CATEGORIES:Board Member Meeting
ORGANIZER;CN="Downtown Wabash":MAILTO:(260) 563-0975
END:VEVENT
BEGIN:VEVENT
DTSTART;TZID=America/Indiana/Indianapolis:20230808T193000
DTEND;TZID=America/Indiana/Indianapolis:20230808T213000
DTSTAMP:20260425T085837
CREATED:20230515T161312Z
LAST-MODIFIED:20230515T172601Z
UID:4994-1691523000-1691530200@downtownwabash.org
SUMMARY:The Happy Together Tour
DESCRIPTION:Don’t miss this outrageous concert experience featuring your favorite artists from the 60s and 70s: The Turtles\, Little Anthony\, Gary Puckett & The Union Gap\, The Vogues\, The Classics IV\, and The Cowsills. Their hits include “Happy Together\,” “Sugar Sugar\,” “Along Comes Mary\,” and many more!
URL:https://downtownwabash.org/event/the-happy-together-tour/
CATEGORIES:Wabash Community Event,Wabash Cultural District
ATTACH;FMTTYPE=image/jpeg:https://downtownwabash.org/wp-content/uploads/Happy-together-5be25501159828cc5471f25c597ff784.jpg
END:VEVENT
BEGIN:VEVENT
DTSTART;TZID=America/Indiana/Indianapolis:20230810T190000
DTEND;TZID=America/Indiana/Indianapolis:20230810T210000
DTSTAMP:20260425T085837
CREATED:20230515T161931Z
LAST-MODIFIED:20230627T155557Z
UID:4996-1691694000-1691701200@downtownwabash.org
SUMMARY:The Great Dubois Variety Show
DESCRIPTION:The Great DuBois present a fast-paced\, high-energy circus show for all ages\, showcasing incredible feats of juggling\, hula hoops\, unicycle\, aerial\, circus stunts\, contortion\, magic\, and audience interaction all wrapped up in a blanket of comedy. Recently featured in Hugh Jackman’s hit movie\, “The Greatest Showman\,” The Great DuBois have amassed an impressive list of credits\, including appearances in the Tony Award-winning Pippin on Broadway\, Britney Spears World Circus Tour\, and the movie “Burlesque.” The combination of Michael DuBois and Viktoria Grimmy have five generations of circus performing and wow crowds worldwide.
URL:https://downtownwabash.org/event/the-great-dubois-variety-show-2pm-7pm/
LOCATION:Wabash\, IN\, 46992\, United States
CATEGORIES:Wabash Community Event,Wabash Cultural District
ATTACH;FMTTYPE=image/jpeg:https://downtownwabash.org/wp-content/uploads/The-Great-DuBois-Variety-Show-a9ba1ac162b705042e5442bae7bb5ae9.jpg
END:VEVENT
BEGIN:VEVENT
DTSTART;TZID=America/Indiana/Indianapolis:20230812T193000
DTEND;TZID=America/Indiana/Indianapolis:20230812T213000
DTSTAMP:20260425T085837
CREATED:20230515T162230Z
LAST-MODIFIED:20230515T172658Z
UID:4998-1691868600-1691875800@downtownwabash.org
SUMMARY:Cinderella's Tom Keifer with Special Guest John Corabi
DESCRIPTION:Tom Keifer’s story begins as the frontman and guitarist of hard rock heavyweights Cinderella. His signature voice and bluesy songwriting helped sell 15 million records. He transitioned to a successful solo career with his band\, and after 10 years\, they’re embarking on the Live Loud Tour\, featuring the hits of Cinderella and new favorites.
URL:https://downtownwabash.org/event/cinderellas-tom-keifer-with-special-guest-john-corabi/
CATEGORIES:Wabash Community Event,Wabash Cultural District
ATTACH;FMTTYPE=image/jpeg:https://downtownwabash.org/wp-content/uploads/Cinderella-Tom-Keifer-2f82603cca41503518a99b0e59e9c117.jpg
END:VEVENT
BEGIN:VEVENT
DTSTART;TZID=America/Indiana/Indianapolis:20230816T120000
DTEND;TZID=America/Indiana/Indianapolis:20230816T130000
DTSTAMP:20260425T085837
CREATED:20230228T171530Z
LAST-MODIFIED:20230228T173348Z
UID:4433-1692187200-1692190800@downtownwabash.org
SUMMARY:Lunch & Learn - The Drunken Botanist
DESCRIPTION:Pack a lunch and join us on select Wednesdays for fun and free presentations and workshops in the Education and Resource Center. \nUsing Amy Stewart’s popular book as a launching pad\, we will look at the array of herbs\, flowers\, fruits\, and trees humans used to make alcohol over the centuries. Spots are limited so register early!
URL:https://downtownwabash.org/event/lunch-learn-the-drunken-botanist/
CATEGORIES:Wabash Community Event
ATTACH;FMTTYPE=image/jpeg:https://downtownwabash.org/wp-content/uploads/Gardens-4e721d416a5af7c7c27eb0b2622396f9.jpg
END:VEVENT
BEGIN:VEVENT
DTSTART;TZID=America/Indiana/Indianapolis:20230817T173000
DTEND;TZID=America/Indiana/Indianapolis:20230817T193000
DTSTAMP:20260425T085837
CREATED:20230621T182538Z
LAST-MODIFIED:20230622T170851Z
UID:5268-1692293400-1692300600@downtownwabash.org
SUMMARY:Prime Rib Dinner
DESCRIPTION:Don’t miss our popular\, all-you-can-eat prime rib buffet with side and salad accompaniments. Plated entree menu options and dessert available. Come early\, grab a drink\, and enjoy our lounge area before you’re seated!
URL:https://downtownwabash.org/event/prime-rib-dinner/
CATEGORIES:Wabash Community Event,Wabash Cultural District
ATTACH;FMTTYPE=image/jpeg:https://downtownwabash.org/wp-content/uploads/PrimeRib-7837809593fa847e2c02dbdb1f2deba9.jpg
END:VEVENT
BEGIN:VEVENT
DTSTART;TZID=America/Indiana/Indianapolis:20230817T193000
DTEND;TZID=America/Indiana/Indianapolis:20230817T213000
DTSTAMP:20260425T085837
CREATED:20230515T162617Z
LAST-MODIFIED:20230515T172704Z
UID:5000-1692300600-1692307800@downtownwabash.org
SUMMARY:Steve Earle
DESCRIPTION:Steve Earle is best known for his country music and rock ‘n’ roll-tinged “alt-country.” 1986 saw the release of his record\, Guitar Town\, which shot to number one on the country charts and is now regarded as a classic of the Americana genre. Subsequent releases like The Revolution Starts…Now (2004)\, Washington Square Serenade (2007)\, and TOWNES (2009) received consecutive GRAMMY Awards. His subsequent albums have been equally successful\, with hit singles such as “Copperhead Road” and “Ellis Unit One” topping the Billboard Hot Country Songs chart. Earle was recently inducted into the Nashville Songwriters Hall of Fame.
URL:https://downtownwabash.org/event/steve-earle/
CATEGORIES:Wabash Community Event,Wabash Cultural District
ATTACH;FMTTYPE=image/jpeg:https://downtownwabash.org/wp-content/uploads/Steve-Earle-10ef3f6c81e8e47c4ab39ee2326367ff.jpg
END:VEVENT
BEGIN:VEVENT
DTSTART;VALUE=DATE:20230818
DTEND;VALUE=DATE:20230820
DTSTAMP:20260425T085837
CREATED:20230718T201338Z
LAST-MODIFIED:20230817T141824Z
UID:5420-1692316800-1692489599@downtownwabash.org
SUMMARY:Summer Sidewalk Sales
DESCRIPTION:Support your favorite Downtown Wabash small businesses and get great deals while you shop! Summer Sidewalk Sales offer a weekend-long spree in conjunction with the 24th Annual Dave Kunkel Cruise-In at the Honeywell Center and the Downtown Wabash Farmers Market at Paradise Spring Park. \nSummer Sidewalk Sales in 2023 are sponsored by Bickford of Wabash and the Dave Kunkel Cruise-In. \nSummer Sidewalk Sales are events made possible by Downtown Wabash\, Inc.\, a 501(c)(3) nonprofit dedicated to a downtown district that is vibrant every day and night.
URL:https://downtownwabash.org/event/summer-sidewalk-sales/
LOCATION:Wabash\, IN\, 46992\, United States
CATEGORIES:Farmers Market,Sidewalk Sales,Wabash Cultural District
ATTACH;FMTTYPE=image/jpeg:https://downtownwabash.org/wp-content/uploads/Kids-Clothing-in-Downtown-Wabash-2-1.jpg
ORGANIZER;CN="Downtown Wabash":MAILTO:(260) 563-0975
END:VEVENT
END:VCALENDAR