BEGIN:VCALENDAR
VERSION:2.0
PRODID:-//Downtown Wabash, Inc. - ECPv6.15.17.1//NONSGML v1.0//EN
CALSCALE:GREGORIAN
METHOD:PUBLISH
X-ORIGINAL-URL:https://downtownwabash.org
X-WR-CALDESC:Events for Downtown Wabash, Inc.
REFRESH-INTERVAL;VALUE=DURATION:PT1H
X-Robots-Tag:noindex
X-PUBLISHED-TTL:PT1H
BEGIN:VTIMEZONE
TZID:America/Indiana/Indianapolis
BEGIN:DAYLIGHT
TZOFFSETFROM:-0500
TZOFFSETTO:-0400
TZNAME:EDT
DTSTART:20250309T070000
END:DAYLIGHT
BEGIN:STANDARD
TZOFFSETFROM:-0400
TZOFFSETTO:-0500
TZNAME:EST
DTSTART:20251102T060000
END:STANDARD
BEGIN:DAYLIGHT
TZOFFSETFROM:-0500
TZOFFSETTO:-0400
TZNAME:EDT
DTSTART:20260308T070000
END:DAYLIGHT
BEGIN:STANDARD
TZOFFSETFROM:-0400
TZOFFSETTO:-0500
TZNAME:EST
DTSTART:20261101T060000
END:STANDARD
BEGIN:DAYLIGHT
TZOFFSETFROM:-0500
TZOFFSETTO:-0400
TZNAME:EDT
DTSTART:20270314T070000
END:DAYLIGHT
BEGIN:STANDARD
TZOFFSETFROM:-0400
TZOFFSETTO:-0500
TZNAME:EST
DTSTART:20271107T060000
END:STANDARD
END:VTIMEZONE
BEGIN:VEVENT
DTSTART;TZID=America/Indiana/Indianapolis:20260501T193000
DTEND;TZID=America/Indiana/Indianapolis:20260501T213000
DTSTAMP:20260423T130922
CREATED:20251203T192913Z
LAST-MODIFIED:20251203T192913Z
UID:10215-1777663800-1777671000@downtownwabash.org
SUMMARY:The SteelDrivers: With Special Guest Bobcat Opossum
DESCRIPTION:Only Nashville could give birth to a band like The SteelDrivers: seasoned veterans\, each distinguished in their own right\, seizing an opportunity to follow their hearts to their souls’ reward. Blending their bluegrass roots with country\, soul\, blues\, and contemporary influences\, Richard Bailey\, Tammy Rogers\, Mike Fleming\, Brent Truitt\, and Matt Dame are known for hits like “Blue Side of the Mountain\,” “Where Rainbows Never Die\,” and “If It Hadn’t Been for Love.”\nBobcat Opossum is Sean Hoffman and Ellen Coplin. They draw inspiration and repertoire from traditional music across several genres including Irish\, Americana\, bluegrass\, classical\, and old time music.\n“Multi-instrumentalists Sean Hoffman and Ellen Coplin prepare a slow-roasted feast for the ears\, garnished with homegrown original songs. Pull up a chair\, but be warned\, you may get the feeling that you are in exactly the right place at the right time.” ~ Liv Lafluv
URL:https://downtownwabash.org/event/the-steeldrivers-with-special-guest-bobcat-opossum/
END:VEVENT
BEGIN:VEVENT
DTSTART;TZID=America/Indiana/Indianapolis:20260502T190000
DTEND;TZID=America/Indiana/Indianapolis:20260502T220000
DTSTAMP:20260423T130922
CREATED:20260420T172638Z
LAST-MODIFIED:20260420T172638Z
UID:10744-1777748400-1777759200@downtownwabash.org
SUMMARY:Joe Donnell
DESCRIPTION:Solo acoustic guitarist and vocalist Joe Donnell\, based in Fort Wayne\, Indiana\, performs throughout Northeast Indiana with a crowd‑pleasing mix of hits from the ’60s\, ’70s\, and ’80s at breweries\, wineries\, festivals\, bars\, farmers’ markets\, and restaurants. He also features original material on occasion\, including a recently released jingle for The Hive Coffeehouse on Facebook and Instagram\, with additional projects underway. \nJoin us at Green Hat Lounge for an unforgettable evening of live music with friends!
URL:https://downtownwabash.org/event/joe-donnell/
END:VEVENT
BEGIN:VEVENT
DTSTART;TZID=America/Indiana/Indianapolis:20260502T193000
DTEND;TZID=America/Indiana/Indianapolis:20260502T213000
DTSTAMP:20260423T130922
CREATED:20251203T192755Z
LAST-MODIFIED:20251203T192755Z
UID:10207-1777750200-1777757400@downtownwabash.org
SUMMARY:Rumours: The Ultimate Fleetwood Mac Tribute Show
DESCRIPTION:Rumours: The Ultimate Fleetwood Mac Tribute Show was formed in Los Angeles in the summer of 2012. The group has traveled across North America\, meticulously recreating Fleetwood Mac’s legendary persona from 1975 to 1987. With period-accurate equipment and costumes\, spot-on characterization\, and musical performances\, Rumours brings hits like “Go Your Own Way\,” “Rhiannon\,” “Dreams\,” and “The Chain” to life\, taking audiences back to experience the magic of rock ’n’ roll.
URL:https://downtownwabash.org/event/rumours-the-ultimate-fleetwood-mac-tribute-show/
END:VEVENT
BEGIN:VEVENT
DTSTART;TZID=America/Indiana/Indianapolis:20260503T150000
DTEND;TZID=America/Indiana/Indianapolis:20260503T170000
DTSTAMP:20260423T130922
CREATED:20251203T192548Z
LAST-MODIFIED:20251203T192548Z
UID:10200-1777820400-1777827600@downtownwabash.org
SUMMARY:Manchester Symphony Orchestra: Take Flight
DESCRIPTION:The Manchester Symphony Orchestra presents an eclectic program of modern works featuring the world premiere of The Flock\, a new concerto for nyckelharpa and bass by the dynamic string duo Warren & Flick. The piece blends elements of folk\, jazz\, and classical genres for a fresh perspective on art music in the 21st century. Dr. Debra Lynn will conduct the program\, which also includes William Bolcom’s “Inventing Flight\,” combining classical\, jazz\, and ragtime styles to convey the history of airplanes\, and Seóirse Bodley’s ethereal “A Small White Cloud Drifts Over Ireland.” The performance concludes with the flying theme from E.T. the Extra-Terrestrial\, composed by John Williams.
URL:https://downtownwabash.org/event/manchester-symphony-orchestra-take-flight/
END:VEVENT
BEGIN:VEVENT
DTSTART;TZID=America/Indiana/Indianapolis:20260503T170000
DTEND;TZID=America/Indiana/Indianapolis:20260503T200000
DTSTAMP:20260423T130922
CREATED:20260420T172650Z
LAST-MODIFIED:20260420T172650Z
UID:10745-1777827600-1777838400@downtownwabash.org
SUMMARY:Chris Rutkowski
DESCRIPTION:Jazz pianist Chris Rutkowski has enjoyed several careers over a lifetime in music. Beginning as a self-taught improviser\, he digressed into the study of philosophy at Kings College London. He returned to Detroit\, immersed in its rich jazz world\, working with trumpeter Marcus Belgrave\, The Temptations\, etc. He also began writing classical music\, studying with Aaron Copland student Anthony Lannaccone\, subsequently pursuing graduate work at Indiana University. There followed a 20-year period of academic musical appointments at institutions such as the College of Wooster and Indiana-Purdue Fort Wayne. Currently he devotes his time to jazz piano performance with his band\, the Project (watch/listen at CRPJazz.com)\, focused on his original compositions. Performance venues include the Detroit\, Elkhart\, Indianapolis and Carmel Jazz Festivals; the Jazz Kitchen\, Baker’s Keyboard Lounge (Detroit)\, the Chatterbox\, Penrod Art Fair\, Concerts on the Canal (Indianapolis) and many more. \nJoin us at Green Hat Lounge for an unforgettable evening of live music with friends!
URL:https://downtownwabash.org/event/chris-rutkowski-3/
END:VEVENT
BEGIN:VEVENT
DTSTART;TZID=America/Indiana/Indianapolis:20260504T080000
DTEND;TZID=America/Indiana/Indianapolis:20260601T170000
DTSTAMP:20260423T130922
CREATED:20260106T154125Z
LAST-MODIFIED:20260106T154125Z
UID:10271-1777881600-1780333200@downtownwabash.org
SUMMARY:Angela Green and James Gabbard: One World\, Two Views Exhibit
DESCRIPTION:One World\, Two Views brings together the photography and writings of Jim Gabbard and Angela Green. Their work explores how shared moments can look entirely different through individual lenses. Blending images with prose and haiku\, the exhibit invites viewers to see beauty\, memory\, and meaning from two perspectives\, woven into one vision.
URL:https://downtownwabash.org/event/angela-green-and-james-gabbard-one-world-two-views-exhibit/
END:VEVENT
BEGIN:VEVENT
DTSTART;TZID=America/Indiana/Indianapolis:20260508T190000
DTEND;TZID=America/Indiana/Indianapolis:20260508T210000
DTSTAMP:20260423T130922
CREATED:20260414T181925Z
LAST-MODIFIED:20260414T181925Z
UID:10667-1778266800-1778274000@downtownwabash.org
SUMMARY:Princess of the Sea: Presented by Wabash Valley Dance Theater
DESCRIPTION:Dive beneath the waves on a magical journey of courage\, curiosity\, and self-discovery. When the young mermaid\, Ariel\, finds a mysterious pair of pointe shoes washed ashore\, she is inspired to explore the enchanting world of dance on land. Despite the sea witch’s attempts to shake her confidence\, Ariel learns that true grace comes from believing in herself. Filled with ocean-inspired costumes and charming characters\, Wabash Valley Dance Theater is excited to present its own version of this beloved tale.
URL:https://downtownwabash.org/event/princess-of-the-sea-presented-by-wabash-valley-dance-theater/
END:VEVENT
BEGIN:VEVENT
DTSTART;TZID=America/Indiana/Indianapolis:20260509T190000
DTEND;TZID=America/Indiana/Indianapolis:20260509T220000
DTSTAMP:20260423T130922
CREATED:20260414T181951Z
LAST-MODIFIED:20260414T181951Z
UID:10719-1778353200-1778364000@downtownwabash.org
SUMMARY:Kyle Johnson
DESCRIPTION:With over 20 years of performing experience\, Kyle Johnson is a seasoned musician from Peru and Indianapolis\, delivering an acoustic sound that blends timeless hits from the 1960s with today’s chart-toppers. He has opened for nationally acclaimed acts at the Ruoff Music Center and performed at the Honeywell Center\, captivating audiences with soulful interpretations that fuse nostalgia and modern flair. \nJoin us at Green Hat Lounge for an unforgettable evening of live music with friends!
URL:https://downtownwabash.org/event/kyle-johnson-3/
END:VEVENT
BEGIN:VEVENT
DTSTART;TZID=America/Indiana/Indianapolis:20260509T193000
DTEND;TZID=America/Indiana/Indianapolis:20260509T213000
DTSTAMP:20260423T130922
CREATED:20260106T153941Z
LAST-MODIFIED:20260106T153941Z
UID:10261-1778355000-1778362200@downtownwabash.org
SUMMARY:Lou Gramm
DESCRIPTION:Join rock icon Lou Gramm\, the original voice of Foreigner\, for a night full of your favorite classic rock hits. Gramm’s unique vocals and hit songs placed Foreigner among Billboard’s Top Artists of all time\, powering hits like “I Want to Know What Love Is\,” “Double Vision\,” “Cold As Ice\,” “Juke Box Hero\,” “Hot Blooded\,” “Urgent\,” plus Lou’s Top 10 solo hit “Midnight Blue\,” and more. Gramm’s soulful performances and timeless songs continue to captivate audiences worldwide through his remarkable career that forever shaped the landscape of rock music.
URL:https://downtownwabash.org/event/lou-gramm-2/
END:VEVENT
BEGIN:VEVENT
DTSTART;TZID=America/Indiana/Indianapolis:20260510T100000
DTEND;TZID=America/Indiana/Indianapolis:20260510T140000
DTSTAMP:20260423T130922
CREATED:20260414T181934Z
LAST-MODIFIED:20260414T181934Z
UID:10668-1778407200-1778421600@downtownwabash.org
SUMMARY:Mother's Day Brunch Buffet
DESCRIPTION:Start a new family tradition with our Mother’s Day Brunch Buffet at Twenty! From made-to-order omelettes to decadent desserts\, our spread has something for everyone – kids\, grandparents\, and all ages in between. Plus\, our youngest guests ages 4 & under dine free! \nFull menu: made-to-order omelettes\, scrambled eggs\, Eggs Benedict\, biscuits and gravy\, bacon\, sausage links\, hashbrown casserole\, French toast\, pastries\, ham steaks\, beef brisket\, chicken picatta\, butter garlic shrimp\, spinach artichoke penne\, baked potatoes\, whipped sweet potatoes\, broccoli and cauliflower\, roasted zucchini and squash\, salad bar\, fresh fruit\, chicken salad\, various rolls\, and assorted desserts. \n$40 adults | $20 children (ages 5-12)\nIncludes beverage\, tax & gratuity \nReserve soon. This fills up quickly.\nCall (260) 563-0111 today to reserve your spot.
URL:https://downtownwabash.org/event/mothers-day-brunch-buffet-2/
END:VEVENT
BEGIN:VEVENT
DTSTART;TZID=America/Indiana/Indianapolis:20260510T103000
DTEND;TZID=America/Indiana/Indianapolis:20260510T133000
DTSTAMP:20260423T130922
CREATED:20260319T123039Z
LAST-MODIFIED:20260319T123039Z
UID:10501-1778409000-1778419800@downtownwabash.org
SUMMARY:Mother's Day Brunch
DESCRIPTION:Treat the entire family to our delicious Mother’s Day Brunch Buffet. Seatings will be in Eugenia’s\, the Honeywell Room\, and the Porter Lobby. Reserve soon – this sells out every year! \nBrunch features a build-your-own omelet and waffle stations\, scrambled eggs\, biscuits and gravy\, hash browns\, sausage\, bacon\, carved turkey and prime rib\, dill glazed salmon\, herb roasted pork loin\, scalloped potatoes\, mashed potatoes\, vegetable medley\, green beans\, tossed salad\, fruit salad\, pickled beets\, shrimp cocktail\, broccoli salad\, assorted cheese\, and a dessert station with assorted pies\, cheesecake\, cookies\, dessert bars\, bread pudding\, and more.
URL:https://downtownwabash.org/event/mothers-day-brunch-4/
END:VEVENT
BEGIN:VEVENT
DTSTART;TZID=America/Indiana/Indianapolis:20260510T170000
DTEND;TZID=America/Indiana/Indianapolis:20260510T200000
DTSTAMP:20260423T130922
CREATED:20260420T172703Z
LAST-MODIFIED:20260420T172703Z
UID:10746-1778432400-1778443200@downtownwabash.org
SUMMARY:Andrea Kennedy
DESCRIPTION:Andrea Kennedy is a professional pianist from Indiana. Music has taken her across the Midwest as well as around the globe to France\, the Czech Republic\, Austria\, Germany\, Italy\, and Hungary. Every performance\, venue\, and artist she has worked with has been a gift. While Andrea is a classically trained pianist\, light jazz\, musical theatre\, and the American Songbook are the songs that touch her heart. Andrea delights in performing crowd pleasers that spark memories. Her dedication to being a soloist\, accompanist\, and church musician has made her a skilled\, versatile artist\, but it is her love for people that shines through every note. \nJoin us at Green Hat Lounge for an unforgettable evening of live music with friends!
URL:https://downtownwabash.org/event/andrea-kennedy-2/
END:VEVENT
BEGIN:VEVENT
DTSTART;TZID=America/Indiana/Indianapolis:20260515T193000
DTEND;TZID=America/Indiana/Indianapolis:20260515T213000
DTSTAMP:20260423T130922
CREATED:20260211T134636Z
LAST-MODIFIED:20260304T175833Z
UID:10380-1778873400-1778880600@downtownwabash.org
SUMMARY:She Loves Me
DESCRIPTION:Fire Line Productions of Wabash features local talent in its production of Million Dollar Quartet. This high-energy musical brings the legendary 1956 jam session of Elvis Presley\, Johnny Cash\, Jerry Lee Lewis\, and Carl Perkins to life with electrifying performances and iconic music. This marks Fire Line Productions’ first full-scale musical\, expanding its creative reach and celebrating the power of live musical storytelling.
URL:https://downtownwabash.org/event/million-dollar-quartet/
END:VEVENT
BEGIN:VEVENT
DTSTART;TZID=America/Indiana/Indianapolis:20260515T193000
DTEND;TZID=America/Indiana/Indianapolis:20260515T213000
DTSTAMP:20260423T130922
CREATED:20260414T181701Z
LAST-MODIFIED:20260414T181701Z
UID:10665-1778873400-1778880600@downtownwabash.org
SUMMARY:Ben and Rose
DESCRIPTION:Ben & Rose\, a couple from Pennsylvania’s Plain Community\, have had an unassuming journey into music\, making them one of YouTube’s most surprising and beloved country-gospel duos. Rooted in faith\, family\, and tradition\, their music offers a rare and intimate glimpse into the heart of Plain life\, told through timeless harmonies and the sweet simplicity of their arrangements. With producer and arranger Conrad Fisher\, the duo shares a powerful collection of songs\, including classics like “If Teardrops Were Pennies” and “Slowly but Surely\,” earning praise for their heartfelt delivery.
URL:https://downtownwabash.org/event/ben-and-rose/
END:VEVENT
BEGIN:VEVENT
DTSTART;TZID=America/Indiana/Indianapolis:20260516T143000
DTEND;TZID=America/Indiana/Indianapolis:20260516T163000
DTSTAMP:20260423T130922
CREATED:20260414T181713Z
LAST-MODIFIED:20260414T181713Z
UID:10666-1778941800-1778949000@downtownwabash.org
SUMMARY:Workshop: Zines
DESCRIPTION:Zines are handmade\, self-published mini-magazines rooted in underground art culture\, and content can range from fan publications to punk and DIY creative movements. Join us to learn about their history and create your own expressive booklet to share.\nAll supplies will be provided.\nParticipants ages 8–11 are welcome to join with an adult present to assist and support them.
URL:https://downtownwabash.org/event/workshop-zines/
END:VEVENT
BEGIN:VEVENT
DTSTART;TZID=America/Indiana/Indianapolis:20260516T190000
DTEND;TZID=America/Indiana/Indianapolis:20260516T220000
DTSTAMP:20260423T130922
CREATED:20260414T181650Z
LAST-MODIFIED:20260414T181650Z
UID:10655-1778958000-1778968800@downtownwabash.org
SUMMARY:Rylie Lynn Trio
DESCRIPTION:Rylie Lynn\, the sensational 28-year-old singer-songwriter and Nashville recording artist from Huntington\, IN\, has taken stages across the United States\, with her debut album Beautiful Imperfect soaring up the iTunes charts and appearances on both the Teen Nation Tour and her own Anti Bullying Tour. In 2024\, Rylie and her outstanding band joined superstar Rodney Akins on The Country Night Concert Series Tour. They continue making an impact offstage as well—partnering with Ronald McDonald House through 2025 on concert events that raised more than $1.1 million in donations. \nJoin us at Green Hat Lounge for an unforgettable evening of live music with friends!
URL:https://downtownwabash.org/event/rylie-lynn-trio/
END:VEVENT
BEGIN:VEVENT
DTSTART;TZID=America/Indiana/Indianapolis:20260516T193000
DTEND;TZID=America/Indiana/Indianapolis:20260516T213000
DTSTAMP:20260423T130922
CREATED:20251203T192640Z
LAST-MODIFIED:20251203T192640Z
UID:10201-1778959800-1778967000@downtownwabash.org
SUMMARY:Don McLean
DESCRIPTION:Don McLean\, known worldwide for hits like “American Pie” and “Vincent\,” has captivated audiences with his commanding voice\, songwriting\, and storytelling. Throughout his career\, he has performed at Carnegie Hall\, Glastonbury\, and the Lincoln Memorial\, and his songs have been recorded by Madonna\, Garth Brooks\, Josh Groban\, and more. A Songwriters Hall of Fame member\, McLean continues to share his music\, including classics like “And I Love You So” and “Crying.”
URL:https://downtownwabash.org/event/don-mclean/
END:VEVENT
BEGIN:VEVENT
DTSTART;TZID=America/Indiana/Indianapolis:20260516T193000
DTEND;TZID=America/Indiana/Indianapolis:20260516T213000
DTSTAMP:20260423T130922
CREATED:20260211T134654Z
LAST-MODIFIED:20260304T175851Z
UID:10381-1778959800-1778967000@downtownwabash.org
SUMMARY:She Loves Me
DESCRIPTION:Fire Line Productions of Wabash features local talent in its production of Million Dollar Quartet. This high-energy musical brings the legendary 1956 jam session of Elvis Presley\, Johnny Cash\, Jerry Lee Lewis\, and Carl Perkins to life with electrifying performances and iconic music. This marks Fire Line Productions’ first full-scale musical\, expanding its creative reach and celebrating the power of live musical storytelling.
URL:https://downtownwabash.org/event/million-dollar-quartet/
END:VEVENT
BEGIN:VEVENT
DTSTART;TZID=America/Indiana/Indianapolis:20260517T140000
DTEND;TZID=America/Indiana/Indianapolis:20260517T160000
DTSTAMP:20260423T130922
CREATED:20260211T134708Z
LAST-MODIFIED:20260304T175734Z
UID:10382-1779026400-1779033600@downtownwabash.org
SUMMARY:She Loves Me
DESCRIPTION:Fire Line Productions of Wabash features local talent in its production of Million Dollar Quartet. This high-energy musical brings the legendary 1956 jam session of Elvis Presley\, Johnny Cash\, Jerry Lee Lewis\, and Carl Perkins to life with electrifying performances and iconic music. This marks Fire Line Productions’ first full-scale musical\, expanding its creative reach and celebrating the power of live musical storytelling.
URL:https://downtownwabash.org/event/million-dollar-quartet/
END:VEVENT
BEGIN:VEVENT
DTSTART;TZID=America/Indiana/Indianapolis:20260520T090000
DTEND;TZID=America/Indiana/Indianapolis:20260520T100000
DTSTAMP:20260423T130922
CREATED:20260206T151859Z
LAST-MODIFIED:20260206T151859Z
UID:10343-1779267600-1779271200@downtownwabash.org
SUMMARY:Sensory Story Hour
DESCRIPTION:On the third Wednesday of every month\, the Museum will dim the lights and sounds to host a sensory-focused experience from 9AM to 10AM.
URL:https://downtownwabash.org/event/sensory-story-hour/
ATTACH;FMTTYPE=image/png:https://downtownwabash.org/wp-content/uploads/2025-Wix-Event-Image-Base-21-46d66a94e60daf1f6db4055b1444fb94.png
END:VEVENT
BEGIN:VEVENT
DTSTART;TZID=America/Indiana/Indianapolis:20260523T190000
DTEND;TZID=America/Indiana/Indianapolis:20260523T220000
DTSTAMP:20260423T130922
CREATED:20260420T172714Z
LAST-MODIFIED:20260420T172714Z
UID:10747-1779562800-1779573600@downtownwabash.org
SUMMARY:Carolyn Martin
DESCRIPTION:Carolyn Martin is a singer and guitarist currently based in Fort Wayne\, Indiana. Born in Texas\, Carolyn lived in Nashville\, TN\, for more than 30 years. A few years ago\, Carolyn and her husband\, Dave\, relocated from Nashville to Fort Wayne\, Indiana\, where she performs as a solo artist\, as part of a duo (with her bass-playing husband)\, and with larger groups – both locally and as a touring artist. Carolyn Martin’s Swing Band has performed at festivals as varied as the Montana Folk Festival\, the National Cowboy Poetry Gathering in Elko\, Nevada\, the Lockhart Western Swing and BBQ Festival\, and the Sun Valley Jazz Festival. \nJoin us at Green Hat Lounge for an unforgettable evening of live music with friends!
URL:https://downtownwabash.org/event/carolyn-martin-2/
END:VEVENT
BEGIN:VEVENT
DTSTART;TZID=America/Indiana/Indianapolis:20260524T170000
DTEND;TZID=America/Indiana/Indianapolis:20260524T200000
DTSTAMP:20260423T130922
CREATED:20260414T182009Z
LAST-MODIFIED:20260414T182009Z
UID:10720-1779642000-1779652800@downtownwabash.org
SUMMARY:Titus Arko
DESCRIPTION:A lifelong musician with deep roots in Northern Indiana\, Titus Arko began studying piano at an early age and was profoundly influenced by years of attending the Elkhart Jazz Festival\, where exposure to world-class performers helped shape a keen ear and expressive style. During high school\, he spent weekends performing for guests at Elcona Country Club and Christiana Creek Country Club\, offering a taste of refined entertainment through live piano. After graduation\, Arko pursued formal training at the Chicago College of Performing Arts. Since then\, he has performed in a wide range of settings—from churches and wedding ceremonies to restaurants\, clubs\, and private events—bringing versatility and heartfelt musicianship to every occasion. His shows include a rich repertoire that spans The Great American Songbook\, classic and modern jazz\, pop standards\, film themes\, and select rock favorites. \nJoin us at Green Hat Lounge for an unforgettable evening of live music with friends!
URL:https://downtownwabash.org/event/titus-arko-2/
END:VEVENT
BEGIN:VEVENT
DTSTART;TZID=America/Indiana/Indianapolis:20260528T190000
DTEND;TZID=America/Indiana/Indianapolis:20260528T210000
DTSTAMP:20260423T130922
CREATED:20260106T153951Z
LAST-MODIFIED:20260106T153951Z
UID:10262-1779994800-1780002000@downtownwabash.org
SUMMARY:An Acoustic Evening with Sidewalk Prophets
DESCRIPTION:Sidewalk Prophets brings uplifting\, soul-stirring music that has resonated with millions. With five major label albums\, including their latest\, Looking Up (2025)\, and hits like “The Words I Would Say” and “Live Like That\,” the Dove Award-winning band has sold hundreds of thousands of albums\, earned 240 million streams\, and reached fans worldwide. Known for interactive\, high-energy performances\, they continue to connect authentically with their fans\, sharing a message of hope and faith through every song.
URL:https://downtownwabash.org/event/an-acoustic-evening-with-sidewalk-prophets/
END:VEVENT
BEGIN:VEVENT
DTSTART;TZID=America/Indiana/Indianapolis:20260529T193000
DTEND;TZID=America/Indiana/Indianapolis:20260529T213000
DTSTAMP:20260423T130922
CREATED:20260211T134720Z
LAST-MODIFIED:20260211T134720Z
UID:10383-1780083000-1780090200@downtownwabash.org
SUMMARY:1964 The Tribute
DESCRIPTION:Since the early ’80s\, 1964 The Tribute has thrilled audiences worldwide with what Rolling Stone Magazine has called the “Best Beatles Tribute on Earth.” 1964 takes audiences on a journey through a moment in music history that will live forever\, featuring iconic songs like “Hey Jude\,” “I Want to Hold Your Hand\,” “Come Together\,” “Let It Be\,” and more.
URL:https://downtownwabash.org/event/1964-the-tribute-2/
END:VEVENT
BEGIN:VEVENT
DTSTART;TZID=America/Indiana/Indianapolis:20260530T190000
DTEND;TZID=America/Indiana/Indianapolis:20260530T210000
DTSTAMP:20260423T130922
CREATED:20251203T192942Z
LAST-MODIFIED:20251203T192942Z
UID:10218-1780167600-1780174800@downtownwabash.org
SUMMARY:Romeo & Juliet
DESCRIPTION:Indiana Ballet Conservatory brings Romeo & Juliet to life in a breathtaking production that will move your heart and ignite your imagination. Choreographed by Founder and Artistic Director Alyona Yakovleva\, this timeless tale for all ages captivates with exquisite choreography\, powerful storytelling\, and the impressive artistry of IBC’s acclaimed dancers. Secure your tickets today and journey to Verona\, where you’ll experience an unforgettable evening of romance\, passion\, and world-class ballet.
URL:https://downtownwabash.org/event/romeo-juliet/
END:VEVENT
BEGIN:VEVENT
DTSTART;TZID=America/Indiana/Indianapolis:20260530T190000
DTEND;TZID=America/Indiana/Indianapolis:20260530T220000
DTSTAMP:20260423T130922
CREATED:20260420T172730Z
LAST-MODIFIED:20260420T172730Z
UID:10748-1780167600-1780178400@downtownwabash.org
SUMMARY:Ingalls & Rio Duo
DESCRIPTION:Carly Ingalls is a versatile jazz\, contemporary\, and classical pianist\, while Renata Rio is a versatile powerhouse. Both local to Fort Wayne\, IN\, they have been pleasing audiences with combined decades of experience\, sharing an equal passion for music! \nJoin us at Green Hat Lounge for an unforgettable evening of live music with friends!
URL:https://downtownwabash.org/event/ingalls-rio-duo-2/
END:VEVENT
BEGIN:VEVENT
DTSTART;TZID=America/Indiana/Indianapolis:20260530T193000
DTEND;TZID=America/Indiana/Indianapolis:20260530T213000
DTSTAMP:20260423T130922
CREATED:20251203T192724Z
LAST-MODIFIED:20251203T192724Z
UID:10204-1780169400-1780176600@downtownwabash.org
SUMMARY:Lorrie Morgan
DESCRIPTION:Lorrie Morgan\, the first woman in her genre to begin her career with three consecutive Platinum albums\, is known for hits like “Something in Red\,” “Watch Me\,” and “Til a Tear Becomes a Rose.” She has maintained her recording pace for decades and continues to craft music that reflects her life and experiences. Morgan is also a Grand Ole Opry member\, with CMA awards and collaborations with legends like Frank Sinatra and Pam Tillis.
URL:https://downtownwabash.org/event/lorrie-morgan/
END:VEVENT
BEGIN:VEVENT
DTSTART;TZID=America/Indiana/Indianapolis:20260610T193000
DTEND;TZID=America/Indiana/Indianapolis:20260610T210000
DTSTAMP:20260423T130922
CREATED:20251013T170302Z
LAST-MODIFIED:20251013T170309Z
UID:9960-1781119800-1781125200@downtownwabash.org
SUMMARY:Alumni Showcase
DESCRIPTION:Discover a genre-spanning performance as select artists unite for an unforgettable night of collaboration\, creativity\, and musical exploration. \nCocktails and hors d’oeuvres will be available for purchase. \nDoors open at 6:30pm. Performance starts at 7:30 pm.
URL:https://downtownwabash.org/event/alumni-showcase/
END:VEVENT
BEGIN:VEVENT
DTSTART;TZID=America/Indiana/Indianapolis:20260611T193000
DTEND;TZID=America/Indiana/Indianapolis:20260611T213000
DTSTAMP:20260423T130922
CREATED:20260106T154051Z
LAST-MODIFIED:20260106T154051Z
UID:10268-1781206200-1781213400@downtownwabash.org
SUMMARY:Wabass Live
DESCRIPTION:Wabass scholars will dazzle you with the double bass. Faculty mentors Eric Larson\, Ranaan Meyer\, and Hal Robinson curate a wonderful evening of musicianship and personality.
URL:https://downtownwabash.org/event/wabass-live-4/
END:VEVENT
BEGIN:VEVENT
DTSTART;TZID=America/Indiana/Indianapolis:20260612T193000
DTEND;TZID=America/Indiana/Indianapolis:20260612T213000
DTSTAMP:20260423T130922
CREATED:20260106T154102Z
LAST-MODIFIED:20260106T154102Z
UID:10269-1781292600-1781299800@downtownwabash.org
SUMMARY:Soundboard Live
DESCRIPTION:Soundboard scholars are international pianists with a focus on standard repertoire. Soundboard is led by faculty mentors Matti Raekaillo and Peter Dugan as they stretch these classically trained musicians’ boundaries to include jazz\, funk\, and more.
URL:https://downtownwabash.org/event/soundboard-live-4/
END:VEVENT
END:VCALENDAR