BEGIN:VCALENDAR
VERSION:2.0
PRODID:-//Downtown Wabash, Inc. - ECPv6.15.17.1//NONSGML v1.0//EN
CALSCALE:GREGORIAN
METHOD:PUBLISH
X-WR-CALNAME:Downtown Wabash, Inc.
X-ORIGINAL-URL:https://downtownwabash.org
X-WR-CALDESC:Events for Downtown Wabash, Inc.
REFRESH-INTERVAL;VALUE=DURATION:PT1H
X-Robots-Tag:noindex
X-PUBLISHED-TTL:PT1H
BEGIN:VTIMEZONE
TZID:America/Indiana/Indianapolis
BEGIN:DAYLIGHT
TZOFFSETFROM:-0500
TZOFFSETTO:-0400
TZNAME:EDT
DTSTART:20250309T070000
END:DAYLIGHT
BEGIN:STANDARD
TZOFFSETFROM:-0400
TZOFFSETTO:-0500
TZNAME:EST
DTSTART:20251102T060000
END:STANDARD
BEGIN:DAYLIGHT
TZOFFSETFROM:-0500
TZOFFSETTO:-0400
TZNAME:EDT
DTSTART:20260308T070000
END:DAYLIGHT
BEGIN:STANDARD
TZOFFSETFROM:-0400
TZOFFSETTO:-0500
TZNAME:EST
DTSTART:20261101T060000
END:STANDARD
BEGIN:DAYLIGHT
TZOFFSETFROM:-0500
TZOFFSETTO:-0400
TZNAME:EDT
DTSTART:20270314T070000
END:DAYLIGHT
BEGIN:STANDARD
TZOFFSETFROM:-0400
TZOFFSETTO:-0500
TZNAME:EST
DTSTART:20271107T060000
END:STANDARD
END:VTIMEZONE
BEGIN:VEVENT
DTSTART;TZID=America/Indiana/Indianapolis:20261017T193000
DTEND;TZID=America/Indiana/Indianapolis:20261017T213000
DTSTAMP:20260423T214900
CREATED:20250519T161450Z
LAST-MODIFIED:20251203T192647Z
UID:9779-1792265400-1792272600@downtownwabash.org
SUMMARY:Colin Mochrie & Brad Sherwood: Asking for Trouble
DESCRIPTION:Get ready for an evening of sidesplitting laughter as Colin Mochrie and Brad Sherwood from Whose Line is it Anyway? take the stage in their uproarious live show. Armed with their lightning-fast wits\, Mochrie and Sherwood transform the audience’s suggestions into an unpredictable evening of non-stop comedy gold. No script? No problem! The duo’s show is a wild rollercoaster ride of hilarity\, where two improv legends prove they are still the best in the business.
URL:https://downtownwabash.org/event/colin-mochrie-brad-sherwood-asking-for-trouble/
END:VEVENT
BEGIN:VEVENT
DTSTART;TZID=America/Indiana/Indianapolis:20261118T090000
DTEND;TZID=America/Indiana/Indianapolis:20261118T100000
DTSTAMP:20260423T214900
CREATED:20260211T134607Z
LAST-MODIFIED:20260211T134607Z
UID:10376-1794992400-1794996000@downtownwabash.org
SUMMARY:Sensory Story Hour
DESCRIPTION:On the third Wednesday of every month\, the Museum will dim the lights and sounds to host a sensory-focused experience from 9AM to 10AM.
URL:https://downtownwabash.org/event/sensory-story-hour-7/
ATTACH;FMTTYPE=image/png:https://downtownwabash.org/wp-content/uploads/2025-Wix-Event-Image-Base-21-5eea7d1e5863bd1b06328f3630bbc652.png
END:VEVENT
BEGIN:VEVENT
DTSTART;TZID=America/Indiana/Indianapolis:20261216T090000
DTEND;TZID=America/Indiana/Indianapolis:20261216T100000
DTSTAMP:20260423T214900
CREATED:20260211T134415Z
LAST-MODIFIED:20260218T150731Z
UID:10378-1797411600-1797415200@downtownwabash.org
SUMMARY:Sensory Story Hour
DESCRIPTION:On the third Wednesday of every month\, the Museum will dim the lights and sounds to host a sensory-focused experience from 9AM to 10AM.
URL:https://downtownwabash.org/event/sensory-story-hour-7/
ATTACH;FMTTYPE=image/png:https://downtownwabash.org/wp-content/uploads/2025-Wix-Event-Image-Base-21-ccb93c371fcc788a176aeead8fd623a3.png
END:VEVENT
END:VCALENDAR