BEGIN:VCALENDAR
VERSION:2.0
PRODID:-//Downtown Wabash, Inc. - ECPv6.15.17.1//NONSGML v1.0//EN
CALSCALE:GREGORIAN
METHOD:PUBLISH
X-WR-CALNAME:Downtown Wabash, Inc.
X-ORIGINAL-URL:https://downtownwabash.org
X-WR-CALDESC:Events for Downtown Wabash, Inc.
REFRESH-INTERVAL;VALUE=DURATION:PT1H
X-Robots-Tag:noindex
X-PUBLISHED-TTL:PT1H
BEGIN:VTIMEZONE
TZID:America/Indiana/Indianapolis
BEGIN:DAYLIGHT
TZOFFSETFROM:-0500
TZOFFSETTO:-0400
TZNAME:EDT
DTSTART:20250309T070000
END:DAYLIGHT
BEGIN:STANDARD
TZOFFSETFROM:-0400
TZOFFSETTO:-0500
TZNAME:EST
DTSTART:20251102T060000
END:STANDARD
BEGIN:DAYLIGHT
TZOFFSETFROM:-0500
TZOFFSETTO:-0400
TZNAME:EDT
DTSTART:20260308T070000
END:DAYLIGHT
BEGIN:STANDARD
TZOFFSETFROM:-0400
TZOFFSETTO:-0500
TZNAME:EST
DTSTART:20261101T060000
END:STANDARD
BEGIN:DAYLIGHT
TZOFFSETFROM:-0500
TZOFFSETTO:-0400
TZNAME:EDT
DTSTART:20270314T070000
END:DAYLIGHT
BEGIN:STANDARD
TZOFFSETFROM:-0400
TZOFFSETTO:-0500
TZNAME:EST
DTSTART:20271107T060000
END:STANDARD
END:VTIMEZONE
BEGIN:VEVENT
DTSTART;TZID=America/Indiana/Indianapolis:20260412T170000
DTEND;TZID=America/Indiana/Indianapolis:20260412T200000
DTSTAMP:20260423T182019
CREATED:20260414T181549Z
LAST-MODIFIED:20260414T181549Z
UID:10650-1776013200-1776024000@downtownwabash.org
SUMMARY:Andrea Kennedy
DESCRIPTION:Andrea Kennedy is a professional pianist from Indiana. Music has taken her across the Midwest as well as around the globe to France\, the Czech Republic\, Austria\, Germany\, Italy\, and Hungary. Every performance\, venue\, and artist she has worked with has been a gift. \nWhile Andrea is a classically trained pianist\, light jazz\, musical theatre\, and the American Songbook are the songs that touch her heart. Andrea delights in performing crowd pleasers that spark memories. Her dedication to being a soloist\, accompanist\, and church musician has made her a skilled\, versatile artist\, but it is her love for people that shines through every note. \nJoin us at Green Hat Lounge for an unforgettable evening of live music with friends!
URL:https://downtownwabash.org/event/andrea-kennedy/
END:VEVENT
BEGIN:VEVENT
DTSTART;TZID=America/Indiana/Indianapolis:20260415T090000
DTEND;TZID=America/Indiana/Indianapolis:20260415T100000
DTSTAMP:20260423T182019
CREATED:20260206T151940Z
LAST-MODIFIED:20260206T151940Z
UID:10341-1776243600-1776247200@downtownwabash.org
SUMMARY:Sensory Story Hour
DESCRIPTION:On the third Wednesday of every month\, the Museum will dim the lights and sounds to host a sensory-focused experience from 9AM to 10AM.
URL:https://downtownwabash.org/event/sensory-story-hour/
ATTACH;FMTTYPE=image/png:https://downtownwabash.org/wp-content/uploads/2025-Wix-Event-Image-Base-21-12e157aee9b4b5ce55c223a62148f2fb.png
END:VEVENT
BEGIN:VEVENT
DTSTART;TZID=America/Indiana/Indianapolis:20260416T190000
DTEND;TZID=America/Indiana/Indianapolis:20260416T210000
DTSTAMP:20260423T182019
CREATED:20251203T192530Z
LAST-MODIFIED:20251203T192530Z
UID:10199-1776366000-1776373200@downtownwabash.org
SUMMARY:Serial Killers with Dr. Scott Bonn
DESCRIPTION:Spend a deliciously chilling evening with renowned criminologist and serial killer expert\, Dr. Scott Bonn\, as he takes you inside the minds of the world’s most savage murderers. Dr. Bonn will reveal the psychological hungers that drive serial killers\, explain why most are psychopaths or sociopaths\, and show that each is compelled to murder by a unique fantasy. At the end of the night\, you will get your chance to ask Dr. Bonn anything you ever wanted to know about serial killers. Given the subject\, the content in Dr. Bonn’s show is frequently dark and can be disturbing.
URL:https://downtownwabash.org/event/serial-killers-with-dr-scott-bonn/
END:VEVENT
BEGIN:VEVENT
DTSTART;TZID=America/Indiana/Indianapolis:20260416T190000
DTEND;TZID=America/Indiana/Indianapolis:20260416T210000
DTSTAMP:20260423T182019
CREATED:20260106T153912Z
LAST-MODIFIED:20260106T153912Z
UID:10259-1776366000-1776373200@downtownwabash.org
SUMMARY:Carly Pearce
DESCRIPTION:Fiercely rooted in the classics\, Carly Pearce left her Kentucky home at 16 and has grown into a GRAMMY\, ACM\, CMA\, and CMT award-winning country star. A Kentucky Music Hall of Fame and Grand Ole Opry member\, she first shone with her debut album Every Little Thing and its Platinum-certified title track. Pearce is known for her hits like “I Hope You’re Happy Now\,” “What He Didn’t Do\,” and “We Don’t Fight Anymore\,” and continues to tour worldwide.
URL:https://downtownwabash.org/event/carly-pearce/
END:VEVENT
BEGIN:VEVENT
DTSTART;TZID=America/Indiana/Indianapolis:20260417T193000
DTEND;TZID=America/Indiana/Indianapolis:20260417T213000
DTSTAMP:20260423T182019
CREATED:20251203T192814Z
LAST-MODIFIED:20251203T192814Z
UID:10209-1776454200-1776461400@downtownwabash.org
SUMMARY:Sanctus Real
DESCRIPTION:Sanctus Real has become one of the most well-loved artists in Christian music\, known for anthems like “Lead Me\,” “I’m Not Alright\,” “Forgiven\,” “Confidence\,” and “My God Is Still The Same.” With eight No. 1 songs\, 19 Top 10 hits\, and more than 2 million singles sold\, the GRAMMY-nominated band continues to inspire audiences with honest lyrics\, powerful performances\, and a message of hope that resonates with fans everywhere.
URL:https://downtownwabash.org/event/sanctus-real/
END:VEVENT
BEGIN:VEVENT
DTSTART;TZID=America/Indiana/Indianapolis:20260418T100000
DTEND;TZID=America/Indiana/Indianapolis:20260418T120000
DTSTAMP:20260423T182019
CREATED:20260319T122742Z
LAST-MODIFIED:20260319T122742Z
UID:10495-1776506400-1776513600@downtownwabash.org
SUMMARY:Workshop: Bingo Bugs
DESCRIPTION:Design and build your own whimsical bug\, moth\, or imaginary creature\, then attach it to a bingo card base. Bring your own card or pick from a selection we’ll have on hand. Use found and handmade papers to collage an existing insect—or invent one straight from your imagination. You’ll have the option to enhance your creation with paint and other mixed media materials. We’ll cover basic collage techniques\, but all experience levels are welcome. Want to take it further? You can even add machine stitching to finish your piece with flair. \nAll supplies will be provided. \nParticipants ages 8–11 are welcome to join with an adult present to assist and support them.
URL:https://downtownwabash.org/event/workshop-bingo-bugs/
END:VEVENT
BEGIN:VEVENT
DTSTART;TZID=America/Indiana/Indianapolis:20260418T190000
DTEND;TZID=America/Indiana/Indianapolis:20260418T220000
DTSTAMP:20260423T182019
CREATED:20260414T181558Z
LAST-MODIFIED:20260414T181558Z
UID:10651-1776538800-1776549600@downtownwabash.org
SUMMARY:Andy Pauquette
DESCRIPTION:Andy Pauquette is a guitarist and vocalist with an eclectic style. A lifelong musician\, he has spent more than 25 years performing throughout Northeastern Indiana. Along with his solo acoustic blues and variety sets\, Andy also takes the stage with Hustle54 (’70s disco and dance)\, the Taj Maholics (blues trio)\, and others. \nJoin us at Green Hat Lounge for an unforgettable evening of live music with friends!
URL:https://downtownwabash.org/event/andy-pauquette/
END:VEVENT
BEGIN:VEVENT
DTSTART;TZID=America/Indiana/Indianapolis:20260418T193000
DTEND;TZID=America/Indiana/Indianapolis:20260418T213000
DTSTAMP:20260423T182019
CREATED:20251203T192904Z
LAST-MODIFIED:20251203T192904Z
UID:10214-1776540600-1776547800@downtownwabash.org
SUMMARY:Del McCoury Band
DESCRIPTION:Even among music’s greats\, Del McCoury stands alone. A living link to bluegrass\, from the Grand Ole Opry to sold-out festivals and viral videos\, he leads the Del McCoury Band\, now with sons Ronnie and Rob. Celebrated for albums like Songs of Love and Life and Almost Proud\, multiple GRAMMY Awards\, and DelFest\, Del continues to bridge generations and genres\, delivering authentic bluegrass that resonates with audiences old and new.
URL:https://downtownwabash.org/event/del-mccoury-band/
END:VEVENT
BEGIN:VEVENT
DTSTART;TZID=America/Indiana/Indianapolis:20260419T130000
DTEND;TZID=America/Indiana/Indianapolis:20260419T150000
DTSTAMP:20260423T182019
CREATED:20260319T122917Z
LAST-MODIFIED:20260319T122917Z
UID:10496-1776603600-1776610800@downtownwabash.org
SUMMARY:Workshop: DIY Colorful Scratchboards
DESCRIPTION:Uncover a rainbow of fun in this colorful scratchboard workshop! Kids will first create their own scratchboards and then scratch away the black coating to reveal bright\, bold colors underneath\, turning their designs into vibrant works of art. This hands-on class is full of creativity\, giggles\, and artistic adventure. \nChildren under 12 should bring an adult to join the fun\, but only the young artist needs to be registered. \nAll supplies will be provided.
URL:https://downtownwabash.org/event/workshop-diy-colorful-scratchboards/
END:VEVENT
BEGIN:VEVENT
DTSTART;TZID=America/Indiana/Indianapolis:20260419T170000
DTEND;TZID=America/Indiana/Indianapolis:20260419T200000
DTSTAMP:20260423T182019
CREATED:20260414T181608Z
LAST-MODIFIED:20260414T181608Z
UID:10652-1776618000-1776628800@downtownwabash.org
SUMMARY:Dennis See
DESCRIPTION:Dennis See is a veteran pianist whose dynamic career spans the worlds of jazz and classic rock. With decades of performing experience\, Dennis brings both technical mastery and soulful expression to every stage he graces. His seasoned style and effortless command of the keys make each performance a memorable experience for listeners of all generations. \nJoin us at Green Hat Lounge for an unforgettable evening of live music with friends!
URL:https://downtownwabash.org/event/dennis-see-2/
END:VEVENT
BEGIN:VEVENT
DTSTART;TZID=America/Indiana/Indianapolis:20260420T190000
DTEND;TZID=America/Indiana/Indianapolis:20260420T210000
DTSTAMP:20260423T182019
CREATED:20251013T171332Z
LAST-MODIFIED:20251013T171332Z
UID:9989-1776711600-1776718800@downtownwabash.org
SUMMARY:STOMP: 30th Anniversary
DESCRIPTION:STOMP is explosive\, inventive\, witty\, and utterly unique – an unforgettable experience for audiences of all ages. The international percussion sensation has garnered armfuls of awards and rave reviews and has appeared on numerous national television shows. The eight-member troupe uses everything but conventional percussion instruments – matchboxes\, wooden poles\, brooms\, garbage cans\, Zippo lighters\, hubcaps – to fill the stage with magnificent rhythms. Year after year\, audiences worldwide keep coming back for more of this pulse-pounding\, electrifying show.
URL:https://downtownwabash.org/event/stomp-30th-anniversary/
END:VEVENT
BEGIN:VEVENT
DTSTART;TZID=America/Indiana/Indianapolis:20260421T100000
DTEND;TZID=America/Indiana/Indianapolis:20260530T170000
DTSTAMP:20260423T182019
CREATED:20260403T225208Z
LAST-MODIFIED:20260403T225227Z
UID:10593-1776765600-1780160400@downtownwabash.org
SUMMARY:Stuffie Safari
DESCRIPTION:Loved Elf in the Exhibit? Then get ready for our all-new scavenger hunt! Kids can explore the Museum\, track down hidden mascot plushies and friends\, and win an Advance America prize!
URL:https://downtownwabash.org/event/stuffie-safari/
ATTACH;FMTTYPE=image/png:https://downtownwabash.org/wp-content/uploads/5_27-3052fe38835e1ea36d9f6a7e0c059b71.png
END:VEVENT
BEGIN:VEVENT
DTSTART;TZID=America/Indiana/Indianapolis:20260421T100000
DTEND;TZID=America/Indiana/Indianapolis:20260530T170000
DTSTAMP:20260423T182019
CREATED:20260403T225242Z
LAST-MODIFIED:20260403T225242Z
UID:10597-1776765600-1780160400@downtownwabash.org
SUMMARY:Stuffie Safari
DESCRIPTION:Loved Elf in the Exhibit? Then get ready for our all-new scavenger hunt! Kids can explore the Museum\, track down hidden mascot plushies and friends\, and win an Advance America prize!
URL:https://downtownwabash.org/event/stuffie-safari/
ATTACH;FMTTYPE=image/png:https://downtownwabash.org/wp-content/uploads/2026-Wix-Event-Image-Base-5-f3f5b6689fc6ee234a75632347c353f7.png
END:VEVENT
BEGIN:VEVENT
DTSTART;TZID=America/Indiana/Indianapolis:20260423T180000
DTEND;TZID=America/Indiana/Indianapolis:20260423T200000
DTSTAMP:20260423T182019
CREATED:20260319T122936Z
LAST-MODIFIED:20260319T122936Z
UID:10497-1776967200-1776974400@downtownwabash.org
SUMMARY:Drop In Band
DESCRIPTION:Calling all woodwind\, brass\, and rhythm section players—come make music with us on the Eagles Theatre stage! Drop In Band is a laid-back\, welcoming group where musicians of all levels can enjoy playing together and connect through music in a fun\, supportive setting.\nHaven’t played in a while? No problem! This is the perfect chance to dust off your instrument and jump back in. There’s no audition or performance—just bring your instrument and enthusiasm!
URL:https://downtownwabash.org/event/drop-in-band/
END:VEVENT
BEGIN:VEVENT
DTSTART;TZID=America/Indiana/Indianapolis:20260423T190000
DTEND;TZID=America/Indiana/Indianapolis:20260423T210000
DTSTAMP:20260423T182019
CREATED:20260106T153928Z
LAST-MODIFIED:20260106T153928Z
UID:10260-1776970800-1776978000@downtownwabash.org
SUMMARY:Grand Funk Railroad
DESCRIPTION:Grand Funk Railroad\, known as The American Band\, returns on their Still Shinin’ On Tour in 2026\, bringing the hard-driving rock and iconic music that has energized fans for more than five decades. Founding members Don Brewer and Mel Schacher\, joined by an all-star lineup\, continue to connect generations with their unmistakable sound and soulful\, anthemic songs. Experience legendary hits like “We’re an American Band\,” “The Loco-Motion\,” and more as they take the stage.
URL:https://downtownwabash.org/event/grand-funk-railroad/
END:VEVENT
BEGIN:VEVENT
DTSTART;TZID=America/Indiana/Indianapolis:20260425T190000
DTEND;TZID=America/Indiana/Indianapolis:20260425T220000
DTSTAMP:20260423T182019
CREATED:20260414T181627Z
LAST-MODIFIED:20260414T181627Z
UID:10653-1777143600-1777154400@downtownwabash.org
SUMMARY:Carly Ingalls
DESCRIPTION:Carly Ingalls is a versatile jazz\, contemporary\, and classical pianist local to Fort Wayne\, IN. She has two decades of experience performing solo and with various singers and combos all across the region. Her background lends her a unique sound\, blending jazz stylings across many genres. \nJoin us at Green Hat Lounge for an unforgettable evening of live music with friends!
URL:https://downtownwabash.org/event/carly-ingalls-2/
END:VEVENT
BEGIN:VEVENT
DTSTART;TZID=America/Indiana/Indianapolis:20260425T193000
DTEND;TZID=America/Indiana/Indianapolis:20260425T213000
DTSTAMP:20260423T182019
CREATED:20251203T192712Z
LAST-MODIFIED:20251203T192712Z
UID:10203-1777145400-1777152600@downtownwabash.org
SUMMARY:Jay White: A Tribute to Neil Diamond
DESCRIPTION:Jay White brings audiences the most authentic Neil Diamond concert experience. With over 10\,000 performances worldwide\, Jay White and the dynamic Sweet Caroline Tour Band perform hits like “Sweet Caroline\,” “Cracklin’ Rosie\,” and “Song Sung Blue” with the energy and artistry of the Rock and Roll Hall of Fame inductee. Embraced by Neil Diamond\, his family\, and band\, White honors the American music legend in every live performance.
URL:https://downtownwabash.org/event/jay-white-a-tribute-to-neil-diamond/
END:VEVENT
BEGIN:VEVENT
DTSTART;TZID=America/Indiana/Indianapolis:20260426T170000
DTEND;TZID=America/Indiana/Indianapolis:20260426T200000
DTSTAMP:20260423T182019
CREATED:20260414T181637Z
LAST-MODIFIED:20260414T181637Z
UID:10654-1777222800-1777233600@downtownwabash.org
SUMMARY:Eric Baker
DESCRIPTION:As a pianist\, singer\, band member and leader\, Eric Baker has performed in and around Central Indiana for the past 20+ years. Most recently\, he has curated and performed a successful run of shows at both Feinstein’s in Carmel\, as well as the Jazz Kitchen\, including a Billy Joel tribute\, a series celebrating the music of Southern California and Laurel Canyon in the ’70s\, and a show celebrating the sounds of Memphis soul and blues music. Eric can be heard as a soloist\, with jazz combos\, and with full bands\, bringing pop\, gospel\, jazz and blues to live music venues around Indianapolis. \nJoin us at Green Hat Lounge for an unforgettable evening of live music with friends!
URL:https://downtownwabash.org/event/eric-baker-2/
END:VEVENT
BEGIN:VEVENT
DTSTART;TZID=America/Indiana/Indianapolis:20260429T173000
DTEND;TZID=America/Indiana/Indianapolis:20260429T183000
DTSTAMP:20260423T182019
CREATED:20260106T153806Z
LAST-MODIFIED:20260106T153806Z
UID:10254-1777483800-1777487400@downtownwabash.org
SUMMARY:Next Generation: Jr./Sr. High Art Competition Reception
DESCRIPTION:Public reception on Wed. April 29 at 5:30 pm. RSVPs are appreciated. \nPablo Picasso\, Claude Monet\, and Leonardo da Vinci – even the greatest artists in history began their journeys as students\, honing their skills and nurturing their creativity. Could the next ‘master artist’ be among us today? We are thrilled to extend an invitation to junior and senior high school students to showcase their talent and creativity in this competition. Join us in celebrating the boundless potential and artistic brilliance of the next generation.
URL:https://downtownwabash.org/event/next-generation-jrsr-high-art-competition-reception/
END:VEVENT
BEGIN:VEVENT
DTSTART;TZID=America/Indiana/Indianapolis:20260429T193000
DTEND;TZID=America/Indiana/Indianapolis:20260429T210000
DTSTAMP:20260423T182019
CREATED:20251013T170810Z
LAST-MODIFIED:20251013T170810Z
UID:9958-1777491000-1777496400@downtownwabash.org
SUMMARY:Warren & Flick
DESCRIPTION:Enjoy a captivating evening of virtuosic Americana\, bluegrass\, and folk as this duo blends violin\, guitar\, and storytelling into an unforgettable acoustic experience. \nCocktails and hors d’oeuvres will be available for purchase. \nDoors open at 6:30pm. Performance starts at 7:30 pm.
URL:https://downtownwabash.org/event/warren-flick/
END:VEVENT
BEGIN:VEVENT
DTSTART;TZID=America/Indiana/Indianapolis:20260430T183000
DTEND;TZID=America/Indiana/Indianapolis:20260430T203000
DTSTAMP:20260423T182019
CREATED:20251013T170822Z
LAST-MODIFIED:20251013T170822Z
UID:9959-1777573800-1777581000@downtownwabash.org
SUMMARY:Warren & Flick at the Columbia Club
DESCRIPTION:Enjoy a captivating evening of virtuosic Americana\, bluegrass\, and folk as this duo blends violin\, guitar\, and storytelling into an unforgettable acoustic experience. \nTicket includes champagne and hors d’oeuvres. \nDoors open at 5:30pm. Performance starts at 6:30pm. Mingling at 7:30pm.
URL:https://downtownwabash.org/event/warren-flick-at-the-columbia-club/
END:VEVENT
BEGIN:VEVENT
DTSTART;TZID=America/Indiana/Indianapolis:20260501T193000
DTEND;TZID=America/Indiana/Indianapolis:20260501T213000
DTSTAMP:20260423T182019
CREATED:20251203T192913Z
LAST-MODIFIED:20251203T192913Z
UID:10215-1777663800-1777671000@downtownwabash.org
SUMMARY:The SteelDrivers: With Special Guest Bobcat Opossum
DESCRIPTION:Only Nashville could give birth to a band like The SteelDrivers: seasoned veterans\, each distinguished in their own right\, seizing an opportunity to follow their hearts to their souls’ reward. Blending their bluegrass roots with country\, soul\, blues\, and contemporary influences\, Richard Bailey\, Tammy Rogers\, Mike Fleming\, Brent Truitt\, and Matt Dame are known for hits like “Blue Side of the Mountain\,” “Where Rainbows Never Die\,” and “If It Hadn’t Been for Love.”\nBobcat Opossum is Sean Hoffman and Ellen Coplin. They draw inspiration and repertoire from traditional music across several genres including Irish\, Americana\, bluegrass\, classical\, and old time music.\n“Multi-instrumentalists Sean Hoffman and Ellen Coplin prepare a slow-roasted feast for the ears\, garnished with homegrown original songs. Pull up a chair\, but be warned\, you may get the feeling that you are in exactly the right place at the right time.” ~ Liv Lafluv
URL:https://downtownwabash.org/event/the-steeldrivers-with-special-guest-bobcat-opossum/
END:VEVENT
BEGIN:VEVENT
DTSTART;TZID=America/Indiana/Indianapolis:20260502T190000
DTEND;TZID=America/Indiana/Indianapolis:20260502T220000
DTSTAMP:20260423T182019
CREATED:20260420T172638Z
LAST-MODIFIED:20260420T172638Z
UID:10744-1777748400-1777759200@downtownwabash.org
SUMMARY:Joe Donnell
DESCRIPTION:Solo acoustic guitarist and vocalist Joe Donnell\, based in Fort Wayne\, Indiana\, performs throughout Northeast Indiana with a crowd‑pleasing mix of hits from the ’60s\, ’70s\, and ’80s at breweries\, wineries\, festivals\, bars\, farmers’ markets\, and restaurants. He also features original material on occasion\, including a recently released jingle for The Hive Coffeehouse on Facebook and Instagram\, with additional projects underway. \nJoin us at Green Hat Lounge for an unforgettable evening of live music with friends!
URL:https://downtownwabash.org/event/joe-donnell/
END:VEVENT
BEGIN:VEVENT
DTSTART;TZID=America/Indiana/Indianapolis:20260502T193000
DTEND;TZID=America/Indiana/Indianapolis:20260502T213000
DTSTAMP:20260423T182019
CREATED:20251203T192755Z
LAST-MODIFIED:20251203T192755Z
UID:10207-1777750200-1777757400@downtownwabash.org
SUMMARY:Rumours: The Ultimate Fleetwood Mac Tribute Show
DESCRIPTION:Rumours: The Ultimate Fleetwood Mac Tribute Show was formed in Los Angeles in the summer of 2012. The group has traveled across North America\, meticulously recreating Fleetwood Mac’s legendary persona from 1975 to 1987. With period-accurate equipment and costumes\, spot-on characterization\, and musical performances\, Rumours brings hits like “Go Your Own Way\,” “Rhiannon\,” “Dreams\,” and “The Chain” to life\, taking audiences back to experience the magic of rock ’n’ roll.
URL:https://downtownwabash.org/event/rumours-the-ultimate-fleetwood-mac-tribute-show/
END:VEVENT
BEGIN:VEVENT
DTSTART;TZID=America/Indiana/Indianapolis:20260503T150000
DTEND;TZID=America/Indiana/Indianapolis:20260503T170000
DTSTAMP:20260423T182019
CREATED:20251203T192548Z
LAST-MODIFIED:20251203T192548Z
UID:10200-1777820400-1777827600@downtownwabash.org
SUMMARY:Manchester Symphony Orchestra: Take Flight
DESCRIPTION:The Manchester Symphony Orchestra presents an eclectic program of modern works featuring the world premiere of The Flock\, a new concerto for nyckelharpa and bass by the dynamic string duo Warren & Flick. The piece blends elements of folk\, jazz\, and classical genres for a fresh perspective on art music in the 21st century. Dr. Debra Lynn will conduct the program\, which also includes William Bolcom’s “Inventing Flight\,” combining classical\, jazz\, and ragtime styles to convey the history of airplanes\, and Seóirse Bodley’s ethereal “A Small White Cloud Drifts Over Ireland.” The performance concludes with the flying theme from E.T. the Extra-Terrestrial\, composed by John Williams.
URL:https://downtownwabash.org/event/manchester-symphony-orchestra-take-flight/
END:VEVENT
BEGIN:VEVENT
DTSTART;TZID=America/Indiana/Indianapolis:20260503T170000
DTEND;TZID=America/Indiana/Indianapolis:20260503T200000
DTSTAMP:20260423T182019
CREATED:20260420T172650Z
LAST-MODIFIED:20260420T172650Z
UID:10745-1777827600-1777838400@downtownwabash.org
SUMMARY:Chris Rutkowski
DESCRIPTION:Jazz pianist Chris Rutkowski has enjoyed several careers over a lifetime in music. Beginning as a self-taught improviser\, he digressed into the study of philosophy at Kings College London. He returned to Detroit\, immersed in its rich jazz world\, working with trumpeter Marcus Belgrave\, The Temptations\, etc. He also began writing classical music\, studying with Aaron Copland student Anthony Lannaccone\, subsequently pursuing graduate work at Indiana University. There followed a 20-year period of academic musical appointments at institutions such as the College of Wooster and Indiana-Purdue Fort Wayne. Currently he devotes his time to jazz piano performance with his band\, the Project (watch/listen at CRPJazz.com)\, focused on his original compositions. Performance venues include the Detroit\, Elkhart\, Indianapolis and Carmel Jazz Festivals; the Jazz Kitchen\, Baker’s Keyboard Lounge (Detroit)\, the Chatterbox\, Penrod Art Fair\, Concerts on the Canal (Indianapolis) and many more. \nJoin us at Green Hat Lounge for an unforgettable evening of live music with friends!
URL:https://downtownwabash.org/event/chris-rutkowski-3/
END:VEVENT
BEGIN:VEVENT
DTSTART;TZID=America/Indiana/Indianapolis:20260504T080000
DTEND;TZID=America/Indiana/Indianapolis:20260601T170000
DTSTAMP:20260423T182019
CREATED:20260106T154125Z
LAST-MODIFIED:20260106T154125Z
UID:10271-1777881600-1780333200@downtownwabash.org
SUMMARY:Angela Green and James Gabbard: One World\, Two Views Exhibit
DESCRIPTION:One World\, Two Views brings together the photography and writings of Jim Gabbard and Angela Green. Their work explores how shared moments can look entirely different through individual lenses. Blending images with prose and haiku\, the exhibit invites viewers to see beauty\, memory\, and meaning from two perspectives\, woven into one vision.
URL:https://downtownwabash.org/event/angela-green-and-james-gabbard-one-world-two-views-exhibit/
END:VEVENT
BEGIN:VEVENT
DTSTART;TZID=America/Indiana/Indianapolis:20260508T190000
DTEND;TZID=America/Indiana/Indianapolis:20260508T210000
DTSTAMP:20260423T182019
CREATED:20260414T181925Z
LAST-MODIFIED:20260414T181925Z
UID:10667-1778266800-1778274000@downtownwabash.org
SUMMARY:Princess of the Sea: Presented by Wabash Valley Dance Theater
DESCRIPTION:Dive beneath the waves on a magical journey of courage\, curiosity\, and self-discovery. When the young mermaid\, Ariel\, finds a mysterious pair of pointe shoes washed ashore\, she is inspired to explore the enchanting world of dance on land. Despite the sea witch’s attempts to shake her confidence\, Ariel learns that true grace comes from believing in herself. Filled with ocean-inspired costumes and charming characters\, Wabash Valley Dance Theater is excited to present its own version of this beloved tale.
URL:https://downtownwabash.org/event/princess-of-the-sea-presented-by-wabash-valley-dance-theater/
END:VEVENT
BEGIN:VEVENT
DTSTART;TZID=America/Indiana/Indianapolis:20260509T190000
DTEND;TZID=America/Indiana/Indianapolis:20260509T220000
DTSTAMP:20260423T182019
CREATED:20260414T181951Z
LAST-MODIFIED:20260414T181951Z
UID:10719-1778353200-1778364000@downtownwabash.org
SUMMARY:Kyle Johnson
DESCRIPTION:With over 20 years of performing experience\, Kyle Johnson is a seasoned musician from Peru and Indianapolis\, delivering an acoustic sound that blends timeless hits from the 1960s with today’s chart-toppers. He has opened for nationally acclaimed acts at the Ruoff Music Center and performed at the Honeywell Center\, captivating audiences with soulful interpretations that fuse nostalgia and modern flair. \nJoin us at Green Hat Lounge for an unforgettable evening of live music with friends!
URL:https://downtownwabash.org/event/kyle-johnson-3/
END:VEVENT
BEGIN:VEVENT
DTSTART;TZID=America/Indiana/Indianapolis:20260509T193000
DTEND;TZID=America/Indiana/Indianapolis:20260509T213000
DTSTAMP:20260423T182019
CREATED:20260106T153941Z
LAST-MODIFIED:20260106T153941Z
UID:10261-1778355000-1778362200@downtownwabash.org
SUMMARY:Lou Gramm
DESCRIPTION:Join rock icon Lou Gramm\, the original voice of Foreigner\, for a night full of your favorite classic rock hits. Gramm’s unique vocals and hit songs placed Foreigner among Billboard’s Top Artists of all time\, powering hits like “I Want to Know What Love Is\,” “Double Vision\,” “Cold As Ice\,” “Juke Box Hero\,” “Hot Blooded\,” “Urgent\,” plus Lou’s Top 10 solo hit “Midnight Blue\,” and more. Gramm’s soulful performances and timeless songs continue to captivate audiences worldwide through his remarkable career that forever shaped the landscape of rock music.
URL:https://downtownwabash.org/event/lou-gramm-2/
END:VEVENT
END:VCALENDAR