BEGIN:VCALENDAR
VERSION:2.0
PRODID:-//Downtown Wabash, Inc. - ECPv6.15.17.1//NONSGML v1.0//EN
CALSCALE:GREGORIAN
METHOD:PUBLISH
X-WR-CALNAME:Downtown Wabash, Inc.
X-ORIGINAL-URL:https://downtownwabash.org
X-WR-CALDESC:Events for Downtown Wabash, Inc.
REFRESH-INTERVAL;VALUE=DURATION:PT1H
X-Robots-Tag:noindex
X-PUBLISHED-TTL:PT1H
BEGIN:VTIMEZONE
TZID:America/Indiana/Indianapolis
BEGIN:DAYLIGHT
TZOFFSETFROM:-0500
TZOFFSETTO:-0400
TZNAME:EDT
DTSTART:20240310T070000
END:DAYLIGHT
BEGIN:STANDARD
TZOFFSETFROM:-0400
TZOFFSETTO:-0500
TZNAME:EST
DTSTART:20241103T060000
END:STANDARD
BEGIN:DAYLIGHT
TZOFFSETFROM:-0500
TZOFFSETTO:-0400
TZNAME:EDT
DTSTART:20250309T070000
END:DAYLIGHT
BEGIN:STANDARD
TZOFFSETFROM:-0400
TZOFFSETTO:-0500
TZNAME:EST
DTSTART:20251102T060000
END:STANDARD
BEGIN:DAYLIGHT
TZOFFSETFROM:-0500
TZOFFSETTO:-0400
TZNAME:EDT
DTSTART:20260308T070000
END:DAYLIGHT
BEGIN:STANDARD
TZOFFSETFROM:-0400
TZOFFSETTO:-0500
TZNAME:EST
DTSTART:20261101T060000
END:STANDARD
BEGIN:DAYLIGHT
TZOFFSETFROM:-0500
TZOFFSETTO:-0400
TZNAME:EDT
DTSTART:20270314T070000
END:DAYLIGHT
BEGIN:STANDARD
TZOFFSETFROM:-0400
TZOFFSETTO:-0500
TZNAME:EST
DTSTART:20271107T060000
END:STANDARD
END:VTIMEZONE
BEGIN:VEVENT
DTSTART;TZID=America/Indiana/Indianapolis:20260117T190000
DTEND;TZID=America/Indiana/Indianapolis:20260117T220000
DTSTAMP:20260423T201032
CREATED:20260120T155856Z
LAST-MODIFIED:20260120T155856Z
UID:10302-1768676400-1768687200@downtownwabash.org
SUMMARY:Two of Us
DESCRIPTION:Two of Us features father-daughter duo\, Larry and Toni-ann Mattera\, covering hits from the 50s through today. The pair began singing together at local events and restaurants in their hometown of Norwalk\, CT back in 2007. Now\, with Larry in Los Angeles and Toni-ann in New Orleans\, they perform together whenever they can\, wherever they can\, and are often joined by the other musical friends in their lives. This time around\, they will be joined by Larry’s high school bandmate and long-time music collaborator\, Todd Forcellina\, and Kids That Fly band frontman\, Nick Smeriglio. \nWith a shared love for melodic tunes from the 50s and 60s\, 90s rock\, and today’s pop and alternative scene\, together they love to cover songs from Fleetwood Mac and The Beatles to Alanis Morrissette\, Paramore\, and more.
URL:https://downtownwabash.org/event/two-of-us/
END:VEVENT
BEGIN:VEVENT
DTSTART;TZID=America/Indiana/Indianapolis:20260116T183000
DTEND;TZID=America/Indiana/Indianapolis:20260116T203000
DTSTAMP:20260423T201032
CREATED:20250731T140330Z
LAST-MODIFIED:20250731T140330Z
UID:9887-1768588200-1768595400@downtownwabash.org
SUMMARY:Mark Honeywell’s Birthday Bash with the Brits
DESCRIPTION:Enjoy an evening of fun and frivolities with an English flair. Delicious food and great entertainment will help us celebrate Mark Honeywell’s 153rd birthday in style!
URL:https://downtownwabash.org/event/mark-honeywells-birthday-bash-with-the-brits/
END:VEVENT
BEGIN:VEVENT
DTSTART;TZID=America/Indiana/Indianapolis:20260110T190000
DTEND;TZID=America/Indiana/Indianapolis:20260110T220000
DTSTAMP:20260423T201032
CREATED:20260120T155845Z
LAST-MODIFIED:20260120T155845Z
UID:10301-1768071600-1768082400@downtownwabash.org
SUMMARY:Kyle Johnson
DESCRIPTION:With a musical journey spanning more than 18 years\, Kyle Johnson is a seasoned performer hailing from Peru and Indianapolis. Specializing in an acoustic style that spans from the timeless hits of the 1960s to today’s chart-topping songs\, Kyle captivates audiences with soulful interpretations. Notable highlights of Kyle’s career include opening for acclaimed acts such as Andy Grammer and Big Time Rush at the Ruoff Music Center\, as well as gracing the stage at The Honeywell Center. Kyle’s passion for music shines through in every performance\, offering a blend of nostalgia and contemporary flair that leaves a lasting impression on listeners\n.\nLearn more about other upcoming events at: https://www.charleycreekinn.com/events
URL:https://downtownwabash.org/event/kyle-johnson/
END:VEVENT
BEGIN:VEVENT
DTSTART;TZID=America/Indiana/Indianapolis:20260109T193000
DTEND;TZID=America/Indiana/Indianapolis:20260109T213000
DTSTAMP:20260423T201032
CREATED:20250707T141105Z
LAST-MODIFIED:20250707T141105Z
UID:9850-1767987000-1767994200@downtownwabash.org
SUMMARY:Classic Albums Live: Led Zeppelin II
DESCRIPTION:Founded in 2003\, Classic Albums Live takes the greatest albums and recreates them live on stage – note for note\, cut for cut\, using the best musicians. With 200+ shows a year\, Classic Albums Live has found success in concentrating solely on the music. Hear your favorite hits from the Led Zeppelin album\, Led Zeppelin II\, like “Ramble On\,” “Whole Lotta Love\,” “The Lemon Song\,” and more.
URL:https://downtownwabash.org/event/classic-albums-live-led-zeppelin-ii/
END:VEVENT
BEGIN:VEVENT
DTSTART;TZID=America/Indiana/Indianapolis:20260103T190000
DTEND;TZID=America/Indiana/Indianapolis:20260103T220000
DTSTAMP:20260423T201032
CREATED:20260106T154004Z
LAST-MODIFIED:20260106T154004Z
UID:10264-1767466800-1767477600@downtownwabash.org
SUMMARY:Eric Baker
DESCRIPTION:As a pianist\, singer\, band member and leader\, Eric Baker has performed in and around Central Indiana for the past 20+ years. Most recently\, he has curated and performed a successful run of shows at both Feinstein’s in Carmel\, as well as the Jazz Kitchen\, including a Billy Joel tribute\, a series celebrating the music of Southern California and Laurel Canyon in the ’70s\, and a show celebrating the sounds of Memphis soul and blues music. Eric can be heard as a soloist\, with jazz combos\, and with full bands\, bringing pop\, gospel\, jazz and blues to live music venues around Indianapolis.
URL:https://downtownwabash.org/event/eric-baker/
END:VEVENT
BEGIN:VEVENT
DTSTART;TZID=America/Indiana/Indianapolis:20251220T193000
DTEND;TZID=America/Indiana/Indianapolis:20251220T213000
DTSTAMP:20260423T201032
CREATED:20251013T170535Z
LAST-MODIFIED:20251013T170535Z
UID:9947-1766259000-1766266200@downtownwabash.org
SUMMARY:Thunderstruck with special guest Night Moves
DESCRIPTION:Thunderstruck expertly recreates the AC/DC live concert experience just the way fans remember it. Each member obsesses over the tones and structures of each song\, the energy of each performance\, as well as every piece of gear\, to bring the power and entertainment of a genuine AC/DC show back to the stage. Night Moves creates a dynamic journey through the timeless music of Bob Seger and The Silver Bullet Band. With authentic vocals and commanding performances\, it’s clear why Bob Seger fans are calling Night Moves a true concert experience.
URL:https://downtownwabash.org/event/thunderstruck-with-special-guest-night-moves/
END:VEVENT
BEGIN:VEVENT
DTSTART;TZID=America/Indiana/Indianapolis:20251219T193000
DTEND;TZID=America/Indiana/Indianapolis:20251219T213000
DTSTAMP:20260423T201032
CREATED:20251013T170458Z
LAST-MODIFIED:20251013T170458Z
UID:9941-1766172600-1766179800@downtownwabash.org
SUMMARY:Sara Evans: Christmas Tour
DESCRIPTION:Multi-platinum entertainer Sara Evans has five No. 1 country singles\, including “Born to Fly\,” “Suds in the Bucket\,” and the platinum-certified “A Little Bit Stronger.” An ACM Top Female Vocalist\, her discography includes Real Fine Place and Restless (both platinum) and the gold-certified No Place That Far. She recently released Unbroke\, featuring songs like “Pride” and “21 Days\,” and launched her podcast Diving In Deep with Sara Evans\, continuing to forge a bold\, creative path.
URL:https://downtownwabash.org/event/sara-evans-christmas-tour/
END:VEVENT
BEGIN:VEVENT
DTSTART;TZID=America/Indiana/Indianapolis:20251218T190000
DTEND;TZID=America/Indiana/Indianapolis:20251218T210000
DTSTAMP:20260423T201032
CREATED:20251203T192425Z
LAST-MODIFIED:20251203T192425Z
UID:10219-1766084400-1766091600@downtownwabash.org
SUMMARY:Elvis: Home for the Holidays
DESCRIPTION:Doug Church is an international\, multi-award-winning artist who has awed his audiences for years\, mesmerizing them with his unique vocal rendition of the ‘King of Rock and Roll.’ Church has traveled worldwide and performed with Elvis’ closest friends\, musicians\, and original singers. Relive your favorite Elvis holiday hits like “Blue Christmas\,” “Santa Claus Is Back in Town\,” “Silent Night\, ” and more. Church’s unique vocal rendition of Elvis’ legendary career will bring memories and magic.
URL:https://downtownwabash.org/event/elvis-home-for-the-holidays/
END:VEVENT
BEGIN:VEVENT
DTSTART;TZID=America/Indiana/Indianapolis:20251218T190000
DTEND;TZID=America/Indiana/Indianapolis:20251218T210000
DTSTAMP:20260423T201032
CREATED:20250731T140453Z
LAST-MODIFIED:20250731T140453Z
UID:9899-1766084400-1766091600@downtownwabash.org
SUMMARY:The Oak Ridge Boys
DESCRIPTION:The four-part harmonies and upbeat songs of The Oak Ridge Boys have spawned dozens of #1 country hits and the pop smash\, “Elvira\,” earning them GRAMMY\, Dove\, CMA\, and ACM awards and garnering a host of other industry and fan accolades. With four decades of charted singles and a 50-year legacy\, The Oaks deliver a stage show widely acknowledged as among the most exciting.
URL:https://downtownwabash.org/event/the-oak-ridge-boys/
END:VEVENT
BEGIN:VEVENT
DTSTART;TZID=America/Indiana/Indianapolis:20251214T193000
DTEND;TZID=America/Indiana/Indianapolis:20251214T213000
DTSTAMP:20260423T201032
CREATED:20251013T170526Z
LAST-MODIFIED:20251013T170526Z
UID:9946-1765740600-1765747800@downtownwabash.org
SUMMARY:Mannheim Steamroller Christmas by Chip Davis
DESCRIPTION:Mannheim Steamroller Christmas by Chip Davis has been America’s favorite holiday tradition for 40 years! GRAMMY award-winner Chip Davis has created a show that features Mannheim Steamroller Christmas classics in the distinctive Mannheim sound. The program includes 15 musicians playing more than 20 instruments against a backdrop of dazzling multimedia effects\, capturing the spirit of the season in an immersive yet intimate setting.
URL:https://downtownwabash.org/event/mannheim-steamroller-christmas-by-chip-davis/
END:VEVENT
BEGIN:VEVENT
DTSTART;TZID=America/Indiana/Indianapolis:20251214T150000
DTEND;TZID=America/Indiana/Indianapolis:20251214T170000
DTSTAMP:20260423T201032
CREATED:20251013T170517Z
LAST-MODIFIED:20251013T170517Z
UID:9945-1765724400-1765731600@downtownwabash.org
SUMMARY:Mannheim Steamroller Christmas by Chip Davis
DESCRIPTION:Mannheim Steamroller Christmas by Chip Davis has been America’s favorite holiday tradition for 40 years! GRAMMY award-winner Chip Davis has created a show that features Mannheim Steamroller Christmas classics in the distinctive Mannheim sound. The program includes 15 musicians playing more than 20 instruments against a backdrop of dazzling multimedia effects\, capturing the spirit of the season in an immersive yet intimate setting.
URL:https://downtownwabash.org/event/mannheim-steamroller-christmas-by-chip-davis/
END:VEVENT
BEGIN:VEVENT
DTSTART;TZID=America/Indiana/Indianapolis:20251213T193000
DTEND;TZID=America/Indiana/Indianapolis:20251213T213000
DTSTAMP:20260423T201032
CREATED:20250707T141046Z
LAST-MODIFIED:20250707T141046Z
UID:9849-1765654200-1765661400@downtownwabash.org
SUMMARY:LynSkynyrd
DESCRIPTION:LynSkynyrd pays tribute to Lynyrd Skynyrd with faithful renditions of hits like “Sweet Home Alabama\,” “That Smell\,” “Gimme Three Steps\,” and the legendary “Free Bird.” With period-correct instruments\, vintage amps\, and a nine-piece lineup\, including backup vocalists known as the Honkettes\, LynSkynyrd delivers an authentic rock experience rooted in the spirit of the ’70s.
URL:https://downtownwabash.org/event/lynskynyrd/
END:VEVENT
BEGIN:VEVENT
DTSTART;TZID=America/Indiana/Indianapolis:20251213T130000
DTEND;TZID=America/Indiana/Indianapolis:20251213T160000
DTSTAMP:20260423T201032
CREATED:20251117T135133Z
LAST-MODIFIED:20251117T135133Z
UID:10095-1765630800-1765641600@downtownwabash.org
SUMMARY:Workshop: Needle Felted Christmas Ornaments
DESCRIPTION:Join us for a festive workshop where you’ll create your own needle-felted Christmas ornaments. Learn the basics of needle felting as you craft handmade decorations perfect for the holiday season. No prior experience needed. \nAll tools\, supplies\, and safety gear will be provided to make two ornaments.
URL:https://downtownwabash.org/event/workshop-needle-felted-christmas-ornaments/
END:VEVENT
BEGIN:VEVENT
DTSTART;TZID=America/Indiana/Indianapolis:20251212T193000
DTEND;TZID=America/Indiana/Indianapolis:20251212T213000
DTSTAMP:20260423T201032
CREATED:20250605T163454Z
LAST-MODIFIED:20250605T163454Z
UID:9828-1765567800-1765575000@downtownwabash.org
SUMMARY:Big Bad Voodoo Daddy
DESCRIPTION:Big Bad Voodoo Daddy\, famously named after an autograph by blues legend Albert Collins\, has appeared in venues worldwide\, sold millions of records\, and had their music appear in hundreds of movies and television shows. With sold-out concerts from the Hollywood Bowl to Lincoln Center\, appearances with many of the country’s finest symphony orchestras\, and television appearances ranging from Dancing with the Stars to Superbowl XXXIII\, Big Bad Voodoo Daddy continues its decades-long mission to celebrate and revitalize jazz and swing music.
URL:https://downtownwabash.org/event/big-bad-voodoo-daddy/
END:VEVENT
BEGIN:VEVENT
DTSTART;TZID=America/Indiana/Indianapolis:20251211T080000
DTEND;TZID=America/Indiana/Indianapolis:20260121T170000
DTSTAMP:20260423T201032
CREATED:20251117T135144Z
LAST-MODIFIED:20251117T135144Z
UID:10096-1765440000-1769014800@downtownwabash.org
SUMMARY:Next Generation: University Art Competition Exhibit
DESCRIPTION:The University Art Competition showcases the talent and creativity of higher education students. This state-wide juried exhibit is open to students currently enrolled in higher education programs across Indiana. Submissions are welcome from those pursuing an Associate’s\, Bachelor’s\, or Master’s Degree in any field of fine art or craft.
URL:https://downtownwabash.org/event/next-generation-university-art-competition-exhibit/
END:VEVENT
BEGIN:VEVENT
DTSTART;TZID=America/Indiana/Indianapolis:20251210T190000
DTEND;TZID=America/Indiana/Indianapolis:20251210T210000
DTSTAMP:20260423T201032
CREATED:20251013T171031Z
LAST-MODIFIED:20251013T171031Z
UID:9971-1765393200-1765400400@downtownwabash.org
SUMMARY:Fort Wayne Philharmonic: Holiday Pops
DESCRIPTION:Take a journey through the winter wonderlands and traditional Christmases of bygone days right up to the present in an entertaining concert of traditional and contemporary favorites.
URL:https://downtownwabash.org/event/fort-wayne-philharmonic-holiday-pops-3/
END:VEVENT
BEGIN:VEVENT
DTSTART;TZID=America/Indiana/Indianapolis:20251209T190000
DTEND;TZID=America/Indiana/Indianapolis:20251209T200000
DTSTAMP:20260423T201032
CREATED:20250731T140318Z
LAST-MODIFIED:20250731T140318Z
UID:9886-1765306800-1765310400@downtownwabash.org
SUMMARY:Happy Holidays!
DESCRIPTION:Rick Elliott and Ron Orman return for another wonderful evening filled with classic holiday music Rick’s piano arrangements and Ron’s vocals will bring the spirit of the season to each of us. Free admission\, with reservations required due to limited seating.
URL:https://downtownwabash.org/event/happy-holidays/
END:VEVENT
BEGIN:VEVENT
DTSTART;TZID=America/Indiana/Indianapolis:20251207T140000
DTEND;TZID=America/Indiana/Indianapolis:20251207T160000
DTSTAMP:20260423T201032
CREATED:20251117T135215Z
LAST-MODIFIED:20251117T135215Z
UID:10098-1765116000-1765123200@downtownwabash.org
SUMMARY:Home Alone in Wabash
DESCRIPTION:Wabash Valley Dance Theater will present Home Alone in Wabash—a festive\, dance-filled twist on the beloved holiday classic! When young Kevin is accidentally left behind while his family travels for Christmas\, he must protect downtown Wabash from a pair of hilarious burglars. Filled with joy\, fun dance numbers\, and community\, the performance will get you ready for the holiday season.
URL:https://downtownwabash.org/event/home-alone-in-wabash/
END:VEVENT
BEGIN:VEVENT
DTSTART;TZID=America/Indiana/Indianapolis:20251206T193000
DTEND;TZID=America/Indiana/Indianapolis:20251206T213000
DTSTAMP:20260423T201032
CREATED:20250612T152021Z
LAST-MODIFIED:20250612T152021Z
UID:9842-1765049400-1765056600@downtownwabash.org
SUMMARY:Point of Grace
DESCRIPTION:With faith-filled lyrics and soaring harmonies\, Point of Grace has inspired generations with hits like “I’ll Be Believing\,” “How You Live (Turn Up the Music)\,” and “Jesus Will Still Be There.” With over 8 million albums sold\, multiple GRAMMY nominations\, and numerous No. 1 singles\, they continue to share messages of faith and hope. Singer-songwriter Jason Gray’s heartfelt storytelling shines in songs like “With Every Act of Love” and “Good to Be Alive.” Gray’s music offers a deep spiritual perspective\, blending folk-inspired melodies with a pop sensibility.
URL:https://downtownwabash.org/event/point-of-grace/
END:VEVENT
BEGIN:VEVENT
DTSTART;TZID=America/Indiana/Indianapolis:20251206T183000
DTEND;TZID=America/Indiana/Indianapolis:20251206T203000
DTSTAMP:20260423T201032
CREATED:20251117T135121Z
LAST-MODIFIED:20251117T135121Z
UID:10094-1765045800-1765053000@downtownwabash.org
SUMMARY:Workshop: 90's Craft Night
DESCRIPTION:OH SNAP\, we’re having a craft party! \nThrow it back to the ’90s with a night of creative fun! We’ll have shrinky dinks\, polymer clay\, and perler beads to design earrings\, keychains\, and fridge magnets\, or whatever you come up with! \nEnjoy snacks\, a nostalgic playlist\, and optional ’90s dress-up to complete the vibe—come ready to craft and relive the era! \nA wide variety of supplies will be provided.
URL:https://downtownwabash.org/event/workshop-90s-craft-night/
END:VEVENT
BEGIN:VEVENT
DTSTART;TZID=America/Indiana/Indianapolis:20251205T193000
DTEND;TZID=America/Indiana/Indianapolis:20251205T213000
DTSTAMP:20260423T201032
CREATED:20250731T135822Z
LAST-MODIFIED:20250731T135822Z
UID:9860-1764963000-1764970200@downtownwabash.org
SUMMARY:Sister Hazel
DESCRIPTION:Originating from Gainesville\, Florida\, the southern rock band Sister Hazel is comprised of five skilled and experienced musicians. Their hit song “All for You” soared to the top of the adult alternative charts in the summer of 1997\, driving their album to achieve platinum status. Since then\, the band has established itself across rock\, alternative\, and country genres\, with multiple entries on the Billboard Top Country Albums Chart.
URL:https://downtownwabash.org/event/sister-hazel/
END:VEVENT
BEGIN:VEVENT
DTSTART;TZID=America/Indiana/Indianapolis:20251129T193000
DTEND;TZID=America/Indiana/Indianapolis:20251129T213000
DTSTAMP:20260423T201032
CREATED:20250605T163436Z
LAST-MODIFIED:20250605T163436Z
UID:9827-1764444600-1764451800@downtownwabash.org
SUMMARY:Lonestar & Collin Raye Christmas
DESCRIPTION:Lonestar and Collin Raye bring the spirit of the season to life with a night of holiday magic and country hits. Lonestar is known for fan favorites like “Amazed” and “I’m Already There\,” and Collin Raye garnered hits including “Love\, Me” and “Little Rock.” Celebrate Christmas with timeless melodies in a show filled with storytelling and harmonies.
URL:https://downtownwabash.org/event/lonestar-collin-raye-christmas/
END:VEVENT
BEGIN:VEVENT
DTSTART;TZID=America/Indiana/Indianapolis:20251123T150000
DTEND;TZID=America/Indiana/Indianapolis:20251123T170000
DTSTAMP:20260423T201032
CREATED:20251013T171022Z
LAST-MODIFIED:20251013T171022Z
UID:9970-1763910000-1763917200@downtownwabash.org
SUMMARY:Manchester Symphony Orchestra: Music of England and Wales
DESCRIPTION:The Manchester Symphony Orchestra presents Music of England and Wales\, featuring guest artist-in-residence Andrew Nesler\, performing William Mathias’ Piano Concerto No. 2. Nesler has performed throughout the United States\, Canada\, England\, Wales\, Germany\, Czechia\, and Austria. Specializing in post-World War II music\, he earned a Master of Music degree from the Royal Welsh College of Music and Drama\, where he developed a particular interest in Welsh piano music. Dr. Debra Lynn will conduct the performance\, which will also include Three Dances from Henry VIII by Edward German\, Pavane and Gigue by William Byrd\, and Penillion by Grace Williams.
URL:https://downtownwabash.org/event/manchester-symphony-orchestra-music-of-england-and-wales/
END:VEVENT
BEGIN:VEVENT
DTSTART;TZID=America/Indiana/Indianapolis:20251122T193000
DTEND;TZID=America/Indiana/Indianapolis:20251122T213000
DTSTAMP:20260423T201032
CREATED:20251013T171138Z
LAST-MODIFIED:20251013T171138Z
UID:9977-1763839800-1763847000@downtownwabash.org
SUMMARY:Howl at the Moon: Dueling Pianos
DESCRIPTION:Get ready to sing\, dance\, and party! Howl2Go dueling pianists from the legendary Indianapolis hotspot Howl at the Moon are bringing their high-energy\, request-driven live music show to Wabash. Legacy Hall will be transformed into a lounge-like atmosphere with table seating\, a dance floor\, and drinks available for purchase. \nGeneral admission $30 *Will be sat with other parties of 4 or 8*\nReserve a table of 4 for $120 or 8 for $240
URL:https://downtownwabash.org/event/howl-at-the-moon-dueling-pianos/
END:VEVENT
BEGIN:VEVENT
DTSTART;TZID=America/Indiana/Indianapolis:20251122T193000
DTEND;TZID=America/Indiana/Indianapolis:20251122T213000
DTSTAMP:20260423T201032
CREATED:20250519T161600Z
LAST-MODIFIED:20250519T161600Z
UID:9785-1763839800-1763847000@downtownwabash.org
SUMMARY:Transit Brothers: The Blues Brothers Experience
DESCRIPTION:Transit Brothers\, Detroit’s premier high-energy horn band\, brings magic to the stage with The Blues Brothers Experience! Featuring a spot-on tribute to the irreverent Jake & Elwood Blues\, this powerhouse band delivers hard-hitting rock\, blues\, and funk that will have you singing and dancing all night. The Transit Brothers deliver more than a tribute show; it’s a full-throttle\, live music mission from God that’s better than four fried chickens and a Coke!
URL:https://downtownwabash.org/event/transit-brothers-the-blues-brothers-experience/
END:VEVENT
BEGIN:VEVENT
DTSTART;TZID=America/Indiana/Indianapolis:20251121T193000
DTEND;TZID=America/Indiana/Indianapolis:20251121T213000
DTSTAMP:20260423T201032
CREATED:20250605T163417Z
LAST-MODIFIED:20250605T163417Z
UID:9826-1763753400-1763760600@downtownwabash.org
SUMMARY:The Highwaymen Live
DESCRIPTION:Experience the music of country’s most legendary supergroup in a way like never before. The Highwaymen Live bring the spirit of Johnny Cash\, Willie Nelson\, and Waylon Jennings to life\, performing honky-tonk hits and timeless anthems. This unforgettable performance will have you singing along and reliving the golden era of outlaw country with hits like “Ring of Fire\,” “On the Road Again\,” and “Highwayman.”
URL:https://downtownwabash.org/event/the-highwaymen-live/
END:VEVENT
BEGIN:VEVENT
DTSTART;TZID=America/Indiana/Indianapolis:20251120T190000
DTEND;TZID=America/Indiana/Indianapolis:20251120T210000
DTSTAMP:20260423T201032
CREATED:20250707T141027Z
LAST-MODIFIED:20250707T141027Z
UID:9848-1763665200-1763672400@downtownwabash.org
SUMMARY:George Michael Reborn
DESCRIPTION:George Michael Reborn pays tribute to Wham! legend George Michael. With live vocals\, Robert Bartko exudes the energy and passion of Michael in the ’80s and ’90s. Relive your favorite hits like “Wake Me Up Before You Go-Go” and “Careless Whisper.” With the vocal range\, dance moves\, crowd interaction\, and charisma\, George Michael Reborn will leave you cheering for an encore.
URL:https://downtownwabash.org/event/george-michael-reborn/
END:VEVENT
BEGIN:VEVENT
DTSTART;TZID=America/Indiana/Indianapolis:20251120T100000
DTEND;TZID=America/Indiana/Indianapolis:20251120T110000
DTSTAMP:20260423T201032
CREATED:20250731T140423Z
LAST-MODIFIED:20250731T140423Z
UID:9896-1763632800-1763636400@downtownwabash.org
SUMMARY:Talkin' Sports
DESCRIPTION:Join us at the Museum for coffee and conversation then enjoy a “team” of Wabash County sports experts including Rick Harness\, Jim Landrum\, Bill Barrows\, and Steve McClure talk about Wabash County and Indiana sports.
URL:https://downtownwabash.org/event/talkin-sports/
ATTACH;FMTTYPE=image/jpeg:https://downtownwabash.org/wp-content/uploads/Talkin-Sports-Cover-Photo-f6a0741b5bea6b808aa27f66b43620ad.jpg
END:VEVENT
BEGIN:VEVENT
DTSTART;TZID=America/Indiana/Indianapolis:20251119T090000
DTEND;TZID=America/Indiana/Indianapolis:20251119T100000
DTSTAMP:20260423T201032
CREATED:20251107T173031Z
LAST-MODIFIED:20251107T173031Z
UID:10047-1763542800-1763546400@downtownwabash.org
SUMMARY:Sensory Story Hour: Elephant Explorers
DESCRIPTION:On the third Wednesday of every month\, the Museum will dim the lights and sounds to host a sensory-focused experience from 9AM to 10AM.
URL:https://downtownwabash.org/event/sensory-story-hour-elephant-explorers/
END:VEVENT
BEGIN:VEVENT
DTSTART;TZID=America/Indiana/Indianapolis:20251118T190000
DTEND;TZID=America/Indiana/Indianapolis:20251118T200000
DTSTAMP:20260423T201032
CREATED:20250731T140306Z
LAST-MODIFIED:20250731T140306Z
UID:9885-1763492400-1763496000@downtownwabash.org
SUMMARY:Telling Your Story: Marie Coffman
DESCRIPTION:From her childhood in the Oregon forests\, through life in the heart of Indiana\, and in the vibrant streets of Nicaragua\, Marie Coffman has built a life shaped by creativity\, resilience\, and a passion for building both homes and communities. Her journey is marked by travel and the renovation of older homes and reflects a deep commitment to renewal and new beginnings. Free admission\, with reservations required due to limited seating.
URL:https://downtownwabash.org/event/telling-your-story-marie-coffman/
END:VEVENT
END:VCALENDAR