BEGIN:VCALENDAR
VERSION:2.0
PRODID:-//Downtown Wabash, Inc. - ECPv6.15.17.1//NONSGML v1.0//EN
CALSCALE:GREGORIAN
METHOD:PUBLISH
X-WR-CALNAME:Downtown Wabash, Inc.
X-ORIGINAL-URL:https://downtownwabash.org
X-WR-CALDESC:Events for Downtown Wabash, Inc.
REFRESH-INTERVAL;VALUE=DURATION:PT1H
X-Robots-Tag:noindex
X-PUBLISHED-TTL:PT1H
BEGIN:VTIMEZONE
TZID:America/Indiana/Indianapolis
BEGIN:DAYLIGHT
TZOFFSETFROM:-0500
TZOFFSETTO:-0400
TZNAME:EDT
DTSTART:20230312T070000
END:DAYLIGHT
BEGIN:STANDARD
TZOFFSETFROM:-0400
TZOFFSETTO:-0500
TZNAME:EST
DTSTART:20231105T060000
END:STANDARD
BEGIN:DAYLIGHT
TZOFFSETFROM:-0500
TZOFFSETTO:-0400
TZNAME:EDT
DTSTART:20240310T070000
END:DAYLIGHT
BEGIN:STANDARD
TZOFFSETFROM:-0400
TZOFFSETTO:-0500
TZNAME:EST
DTSTART:20241103T060000
END:STANDARD
BEGIN:DAYLIGHT
TZOFFSETFROM:-0500
TZOFFSETTO:-0400
TZNAME:EDT
DTSTART:20250309T070000
END:DAYLIGHT
BEGIN:STANDARD
TZOFFSETFROM:-0400
TZOFFSETTO:-0500
TZNAME:EST
DTSTART:20251102T060000
END:STANDARD
END:VTIMEZONE
BEGIN:VEVENT
DTSTART;TZID=America/Indiana/Indianapolis:20240914T080000
DTEND;TZID=America/Indiana/Indianapolis:20240914T120000
DTSTAMP:20260425T101421
CREATED:20240403T172348Z
LAST-MODIFIED:20240513T161532Z
UID:8513-1726300800-1726315200@downtownwabash.org
SUMMARY:Downtown Wabash Farmers Market
DESCRIPTION:Spend your Saturday mornings at the Downtown Wabash Farmers Market in Downtown Wabash\, Indiana! Start your weekend with wholesome\, enriching\, locally sourced products from some of our most unique vendors in Wabash and surrounding counties. \nFind handmade\, homemade & homegrown products like fresh produce\, organic meats\, homemade ice cream\, hand-poured candles & soaps\, cotton candy\, pottery\, wood & metal works and so much more. \nAll dogs welcome! \nThe Downtown Wabash Farmers Market in 2024 are presented by Bowen Health Clinic. Additional support comes from Level 2 Event Partner: Grow Wabash County.
URL:https://downtownwabash.org/event/downtown-wabash-farmers-market-3-2024-09-14/
LOCATION:Wabash\, IN\, 46992\, United States
CATEGORIES:Farmers Market,Wabash Cultural District
ATTACH;FMTTYPE=image/jpeg:https://downtownwabash.org/wp-content/uploads/IMG_3116.jpg
ORGANIZER;CN="Downtown Wabash":MAILTO:(260) 563-0975
END:VEVENT
BEGIN:VEVENT
DTSTART;TZID=America/Indiana/Indianapolis:20240913T080000
DTEND;TZID=America/Indiana/Indianapolis:20240913T170000
DTSTAMP:20260425T101421
CREATED:20240415T154325Z
LAST-MODIFIED:20240415T154325Z
UID:8276-1726214400-1726246800@downtownwabash.org
SUMMARY:Photography Show
DESCRIPTION:On display Aug. 28 – Sept. 29\nClark Gallery- Honeywell Center\nEntries will be accepted Aug. 26
URL:https://downtownwabash.org/event/photography-show-3-2024-09-13/
LOCATION:Wabash\, IN\, 46992\, United States
ATTACH;FMTTYPE=image/jpeg:https://downtownwabash.org/wp-content/uploads/HC-Gallery2-f2fabf1c9e0d9e4faeb18e43818c7f8a.jpg
END:VEVENT
BEGIN:VEVENT
DTSTART;TZID=America/Indiana/Indianapolis:20240912T190000
DTEND;TZID=America/Indiana/Indianapolis:20240912T200000
DTSTAMP:20260425T101421
CREATED:20240802T163210Z
LAST-MODIFIED:20240802T163210Z
UID:8949-1726167600-1726171200@downtownwabash.org
SUMMARY:Mark Twain's World Travels
DESCRIPTION:Purdue University’s Distinguished Alumnus\, Professor Benjamin Lawson\, returns to his hometown to discuss Mark Twain’s diverse writings. While Twain is renowned for his Mississippi River fiction\, he also penned non-fiction exploring global locales. Works like The Innocents Abroad and Following the Equator delve into his travels and reflections on diverse cultures\, influencing his views on America.
URL:https://downtownwabash.org/event/mark-twains-world-travels/
LOCATION:Wabash\, IN\, 46992\, United States
ATTACH;FMTTYPE=image/jpeg:https://downtownwabash.org/wp-content/uploads/MarkTwain-9aaf9ab4240cfba72a230f0a23ca058c.jpg
END:VEVENT
BEGIN:VEVENT
DTSTART;TZID=America/Indiana/Indianapolis:20240912T080000
DTEND;TZID=America/Indiana/Indianapolis:20240912T170000
DTSTAMP:20260425T101421
CREATED:20240415T154325Z
LAST-MODIFIED:20240415T154325Z
UID:8275-1726128000-1726160400@downtownwabash.org
SUMMARY:Photography Show
DESCRIPTION:On display Aug. 28 – Sept. 29\nClark Gallery- Honeywell Center\nEntries will be accepted Aug. 26
URL:https://downtownwabash.org/event/photography-show-3-2024-09-12/
LOCATION:Wabash\, IN\, 46992\, United States
ATTACH;FMTTYPE=image/jpeg:https://downtownwabash.org/wp-content/uploads/HC-Gallery2-f2fabf1c9e0d9e4faeb18e43818c7f8a.jpg
END:VEVENT
BEGIN:VEVENT
DTSTART;TZID=America/Indiana/Indianapolis:20240911T080000
DTEND;TZID=America/Indiana/Indianapolis:20240911T170000
DTSTAMP:20260425T101421
CREATED:20240415T154325Z
LAST-MODIFIED:20240415T154325Z
UID:8274-1726041600-1726074000@downtownwabash.org
SUMMARY:Photography Show
DESCRIPTION:On display Aug. 28 – Sept. 29\nClark Gallery- Honeywell Center\nEntries will be accepted Aug. 26
URL:https://downtownwabash.org/event/photography-show-3-2024-09-11/
LOCATION:Wabash\, IN\, 46992\, United States
ATTACH;FMTTYPE=image/jpeg:https://downtownwabash.org/wp-content/uploads/HC-Gallery2-f2fabf1c9e0d9e4faeb18e43818c7f8a.jpg
END:VEVENT
BEGIN:VEVENT
DTSTART;TZID=America/Indiana/Indianapolis:20240910T190000
DTEND;TZID=America/Indiana/Indianapolis:20240910T200000
DTSTAMP:20260425T101421
CREATED:20240718T144650Z
LAST-MODIFIED:20240718T144650Z
UID:8919-1725994800-1725998400@downtownwabash.org
SUMMARY:An Intimate Evening with Jodie DeSalvo
DESCRIPTION:Don’t miss Jodie DeSalvo’s captivating concert featuring classical and jazz interpretations of keyboard masters. Experience her illustrious career and unique stage presence firsthand.
URL:https://downtownwabash.org/event/an-intimate-evening-with-jodie-desalvo/
LOCATION:Wabash\, IN\, 46992\, United States
ATTACH;FMTTYPE=image/jpeg:https://downtownwabash.org/wp-content/uploads/Jodie_edited-8ed98d9128dbbed1c85275b7815e67ee.jpg
END:VEVENT
BEGIN:VEVENT
DTSTART;TZID=America/Indiana/Indianapolis:20240910T120000
DTEND;TZID=America/Indiana/Indianapolis:20240910T130000
DTSTAMP:20260425T101421
CREATED:20240102T180044Z
LAST-MODIFIED:20240102T180044Z
UID:7103-1725969600-1725973200@downtownwabash.org
SUMMARY:September 2024 Board Meeting
DESCRIPTION:
URL:https://downtownwabash.org/event/september-2024-board-meeting/
LOCATION:Wabash\, IN\, 46992\, United States
CATEGORIES:Board Member Meeting
ORGANIZER;CN="Downtown Wabash":MAILTO:(260) 563-0975
END:VEVENT
BEGIN:VEVENT
DTSTART;TZID=America/Indiana/Indianapolis:20240910T080000
DTEND;TZID=America/Indiana/Indianapolis:20240910T170000
DTSTAMP:20260425T101421
CREATED:20240415T154325Z
LAST-MODIFIED:20240415T154325Z
UID:8273-1725955200-1725987600@downtownwabash.org
SUMMARY:Photography Show
DESCRIPTION:On display Aug. 28 – Sept. 29\nClark Gallery- Honeywell Center\nEntries will be accepted Aug. 26
URL:https://downtownwabash.org/event/photography-show-3-2024-09-10/
LOCATION:Wabash\, IN\, 46992\, United States
ATTACH;FMTTYPE=image/jpeg:https://downtownwabash.org/wp-content/uploads/HC-Gallery2-f2fabf1c9e0d9e4faeb18e43818c7f8a.jpg
END:VEVENT
BEGIN:VEVENT
DTSTART;TZID=America/Indiana/Indianapolis:20240909T080000
DTEND;TZID=America/Indiana/Indianapolis:20240909T170000
DTSTAMP:20260425T101421
CREATED:20240415T154325Z
LAST-MODIFIED:20240415T154325Z
UID:8272-1725868800-1725901200@downtownwabash.org
SUMMARY:Photography Show
DESCRIPTION:On display Aug. 28 – Sept. 29\nClark Gallery- Honeywell Center\nEntries will be accepted Aug. 26
URL:https://downtownwabash.org/event/photography-show-3-2024-09-09/
LOCATION:Wabash\, IN\, 46992\, United States
ATTACH;FMTTYPE=image/jpeg:https://downtownwabash.org/wp-content/uploads/HC-Gallery2-f2fabf1c9e0d9e4faeb18e43818c7f8a.jpg
END:VEVENT
BEGIN:VEVENT
DTSTART;TZID=America/Indiana/Indianapolis:20240908T080000
DTEND;TZID=America/Indiana/Indianapolis:20240908T170000
DTSTAMP:20260425T101421
CREATED:20240415T154325Z
LAST-MODIFIED:20240415T154325Z
UID:8271-1725782400-1725814800@downtownwabash.org
SUMMARY:Photography Show
DESCRIPTION:On display Aug. 28 – Sept. 29\nClark Gallery- Honeywell Center\nEntries will be accepted Aug. 26
URL:https://downtownwabash.org/event/photography-show-3-2024-09-08/
LOCATION:Wabash\, IN\, 46992\, United States
ATTACH;FMTTYPE=image/jpeg:https://downtownwabash.org/wp-content/uploads/HC-Gallery2-f2fabf1c9e0d9e4faeb18e43818c7f8a.jpg
END:VEVENT
BEGIN:VEVENT
DTSTART;TZID=America/Indiana/Indianapolis:20240908T073000
DTEND;TZID=America/Indiana/Indianapolis:20240908T170000
DTSTAMP:20260425T101421
CREATED:20240917T203900Z
LAST-MODIFIED:20240917T203900Z
UID:9245-1725780600-1725814800@downtownwabash.org
SUMMARY:Dam to Dam Century Bike Ride
DESCRIPTION:D2D has always been designed by cyclists for cyclists. Beginning at the grassroots level in 2010\, the event has always focused on the rider experience. Your registration includes breakfast\, lunch\, and a free commemorative t-shirt! \nALL RIDERS MUST BE ON THE TRAIL BY 8:30 AM\, AND OFF THE TRAIL BY 5 PM.\nHELMETS ARE REQUIRED! \nAlley Cat Outfitters from Wabash\, Indiana will be providing mechanical support for our ride should you need any minor repairs or services. The D2D route map in your registration packet shows all SAG stop locations\, found approximately every 15-20 miles. SAG stops will be open for a set time only\, so check your map for times of operation. \nRide safe and stay active! Stephanie – stephanie@visitwabashcounty.com & Christine – christine@visitwabashcounty.com
URL:https://downtownwabash.org/event/dam-to-dam-century-bike-ride/
LOCATION:Wabash\, IN\, 46992\, United States
ATTACH;FMTTYPE=image/jpeg:https://downtownwabash.org/wp-content/uploads/DWI-Event-Calendar-e095f3bb8fd86718c75248bfcbb4731a.jpg
END:VEVENT
BEGIN:VEVENT
DTSTART;TZID=America/Indiana/Indianapolis:20240907T193000
DTEND;TZID=America/Indiana/Indianapolis:20240907T213000
DTSTAMP:20260425T101421
CREATED:20240531T164758Z
LAST-MODIFIED:20240531T164758Z
UID:8344-1725737400-1725744600@downtownwabash.org
SUMMARY:Terry Fator
DESCRIPTION:Legendary America’s Got Talent Winner Terry Fator and his cast of America’s favorite puppets are touring with a new version of his Las Vegas show. Terry Fator: On the Road Again features comedy\, modern songs and favorites from the 60s to 90s\, hilarious musical parodies\, and Terry’s unique ventriloquism skills\, which have made him a must-see Las Vegas headliner for the past 16 years.
URL:https://downtownwabash.org/event/terry-fator/
LOCATION:Wabash\, IN\, 46992\, United States
ATTACH;FMTTYPE=image/jpeg:https://downtownwabash.org/wp-content/uploads/HC-Ford-Theater-9f6092165fe1d5ba0c24b32a49b1f021.jpg
END:VEVENT
BEGIN:VEVENT
DTSTART;TZID=America/Indiana/Indianapolis:20240907T080000
DTEND;TZID=America/Indiana/Indianapolis:20240907T170000
DTSTAMP:20260425T101421
CREATED:20240415T154325Z
LAST-MODIFIED:20240415T154427Z
UID:8269-1725696000-1725728400@downtownwabash.org
SUMMARY:Photography Show
DESCRIPTION:On display Aug. 28 – Sept. 29\nClark Gallery- Honeywell Center\nEntries will be accepted Aug. 26
URL:https://downtownwabash.org/event/photography-show-3-2024-09-07/
LOCATION:Wabash\, IN\, 46992\, United States
ATTACH;FMTTYPE=image/jpeg:https://downtownwabash.org/wp-content/uploads/HC-Gallery2-f2fabf1c9e0d9e4faeb18e43818c7f8a.jpg
END:VEVENT
BEGIN:VEVENT
DTSTART;TZID=America/Indiana/Indianapolis:20240907T080000
DTEND;TZID=America/Indiana/Indianapolis:20240907T120000
DTSTAMP:20260425T101421
CREATED:20240403T172348Z
LAST-MODIFIED:20240513T161531Z
UID:8512-1725696000-1725710400@downtownwabash.org
SUMMARY:Downtown Wabash Farmers Market
DESCRIPTION:Spend your Saturday mornings at the Downtown Wabash Farmers Market in Downtown Wabash\, Indiana! Start your weekend with wholesome\, enriching\, locally sourced products from some of our most unique vendors in Wabash and surrounding counties. \nFind handmade\, homemade & homegrown products like fresh produce\, organic meats\, homemade ice cream\, hand-poured candles & soaps\, cotton candy\, pottery\, wood & metal works and so much more. \nAll dogs welcome! \nThe Downtown Wabash Farmers Market in 2024 are presented by Bowen Health Clinic. Additional support comes from Level 2 Event Partner: Grow Wabash County.
URL:https://downtownwabash.org/event/downtown-wabash-farmers-market-3-2024-09-07/
LOCATION:Wabash\, IN\, 46992\, United States
CATEGORIES:Farmers Market,Wabash Cultural District
ATTACH;FMTTYPE=image/jpeg:https://downtownwabash.org/wp-content/uploads/IMG_3116.jpg
ORGANIZER;CN="Downtown Wabash":MAILTO:(260) 563-0975
END:VEVENT
BEGIN:VEVENT
DTSTART;TZID=America/Indiana/Indianapolis:20240906T193000
DTEND;TZID=America/Indiana/Indianapolis:20240906T213000
DTSTAMP:20260425T101421
CREATED:20240625T163408Z
LAST-MODIFIED:20240625T163408Z
UID:8675-1725651000-1725658200@downtownwabash.org
SUMMARY:Selah
DESCRIPTION:With more than half a billion streams\, over 4 million albums sold\, and 11 GMA Dove Awards to their credit\, Selah’s Allan Hall\, Amy Perry\, and Todd Smith have earned a reputation for not only delivering compelling new anthems but also for reviving great hymns of faith. Their soaring harmonies and distinctive lead vocals have breathed new life into timeless musical treasures for generations with hits like “Press On\,” “Wonderful\, Merciful Savior\,” “You Raise Me Up\,” and more.
URL:https://downtownwabash.org/event/selah/
LOCATION:Wabash\, IN\, 46992\, United States
ATTACH;FMTTYPE=image/jpeg:https://downtownwabash.org/wp-content/uploads/Selah-f25cf25d48bee8c196e44022fd85a9ae.jpg
END:VEVENT
BEGIN:VEVENT
DTSTART;TZID=America/Indiana/Indianapolis:20240906T170000
DTEND;TZID=America/Indiana/Indianapolis:20240906T200000
DTSTAMP:20260425T101421
CREATED:20240731T170114Z
LAST-MODIFIED:20240805T135804Z
UID:9097-1725642000-1725652800@downtownwabash.org
SUMMARY:September First Friday: Bark in the Bash
DESCRIPTION:Who let the dogs out?! We did! If you’re looking to add a special member to your family\, this exciting First Friday is the event for you! The Wabash Animal Shelter will bring adoptable dogs & cats to the event for people to play with and begin the adoption process. \nThe free event will also feature pup-inspired shopping & dining specials\, the return of Food Truck Plaza\, Miami Street community vendor booths and so much more! \nWabash First Fridays in 2024 are presented by MetalX and Bowen Health Clinic. Additional support for Wabash First Fridays come from Event Partners: Indiana Plain Dealer\, Pettit Printing\, Wabash Furniture and Flooring\, 95.9 KISS FM\, Wabash Domino’s and Dynamic Designs by Dyson.  \nWabash First Fridays are events made possible by Downtown Wabash\, Inc.\, a 501(c)(3) nonprofit dedicated to a downtown district that is vibrant every day and night.
URL:https://downtownwabash.org/event/september-first-friday-bark-in-the-bash/
LOCATION:Wabash\, IN\, 46992\, United States
CATEGORIES:First Friday,Wabash Cultural District
ATTACH;FMTTYPE=image/png:https://downtownwabash.org/wp-content/uploads/Wabash-First-Friday-Bark-in-the-Bash-in-Downtown-Wabash-Indiana.png
ORGANIZER;CN="Downtown Wabash":MAILTO:(260) 563-0975
END:VEVENT
BEGIN:VEVENT
DTSTART;TZID=America/Indiana/Indianapolis:20240906T080000
DTEND;TZID=America/Indiana/Indianapolis:20240906T170000
DTSTAMP:20260425T101421
CREATED:20240415T154325Z
LAST-MODIFIED:20240415T154426Z
UID:8268-1725609600-1725642000@downtownwabash.org
SUMMARY:Photography Show
DESCRIPTION:On display Aug. 28 – Sept. 29\nClark Gallery- Honeywell Center\nEntries will be accepted Aug. 26
URL:https://downtownwabash.org/event/photography-show-3-2024-09-06/
LOCATION:Wabash\, IN\, 46992\, United States
ATTACH;FMTTYPE=image/jpeg:https://downtownwabash.org/wp-content/uploads/HC-Gallery2-f2fabf1c9e0d9e4faeb18e43818c7f8a.jpg
END:VEVENT
BEGIN:VEVENT
DTSTART;TZID=America/Indiana/Indianapolis:20240905T080000
DTEND;TZID=America/Indiana/Indianapolis:20240905T170000
DTSTAMP:20260425T101421
CREATED:20240415T154325Z
LAST-MODIFIED:20240415T154424Z
UID:8267-1725523200-1725555600@downtownwabash.org
SUMMARY:Photography Show
DESCRIPTION:On display Aug. 28 – Sept. 29\nClark Gallery- Honeywell Center\nEntries will be accepted Aug. 26
URL:https://downtownwabash.org/event/photography-show-3-2024-09-05/
LOCATION:Wabash\, IN\, 46992\, United States
ATTACH;FMTTYPE=image/jpeg:https://downtownwabash.org/wp-content/uploads/HC-Gallery2-f2fabf1c9e0d9e4faeb18e43818c7f8a.jpg
END:VEVENT
BEGIN:VEVENT
DTSTART;TZID=America/Indiana/Indianapolis:20240904T090000
DTEND;TZID=America/Indiana/Indianapolis:20240904T100000
DTSTAMP:20260425T101421
CREATED:20240109T194623Z
LAST-MODIFIED:20240109T194623Z
UID:7150-1725440400-1725444000@downtownwabash.org
SUMMARY:Downtown Wabash Merchant Meetings
DESCRIPTION:The monthly meeting held every first Wednesday for all small businesses in Downtown Wabash to stay current with information from Downtown Wabash\, Inc.
URL:https://downtownwabash.org/event/downtown-wabash-merchant-meetings-18/
LOCATION:Wabash\, IN\, 46992\, United States
CATEGORIES:Merchant Meetings
ATTACH;FMTTYPE=image/jpeg:https://downtownwabash.org/wp-content/uploads/Merchant-Meetings-in-Downtown-Wabash-14.jpg
END:VEVENT
BEGIN:VEVENT
DTSTART;TZID=America/Indiana/Indianapolis:20240904T080000
DTEND;TZID=America/Indiana/Indianapolis:20240904T170000
DTSTAMP:20260425T101421
CREATED:20240415T154325Z
LAST-MODIFIED:20240415T154424Z
UID:8266-1725436800-1725469200@downtownwabash.org
SUMMARY:Photography Show
DESCRIPTION:On display Aug. 28 – Sept. 29\nClark Gallery- Honeywell Center\nEntries will be accepted Aug. 26
URL:https://downtownwabash.org/event/photography-show-3-2024-09-04/
LOCATION:Wabash\, IN\, 46992\, United States
ATTACH;FMTTYPE=image/jpeg:https://downtownwabash.org/wp-content/uploads/HC-Gallery2-f2fabf1c9e0d9e4faeb18e43818c7f8a.jpg
END:VEVENT
BEGIN:VEVENT
DTSTART;TZID=America/Indiana/Indianapolis:20240903T080000
DTEND;TZID=America/Indiana/Indianapolis:20240903T170000
DTSTAMP:20260425T101421
CREATED:20240415T154325Z
LAST-MODIFIED:20240415T154423Z
UID:8265-1725350400-1725382800@downtownwabash.org
SUMMARY:Photography Show
DESCRIPTION:On display Aug. 28 – Sept. 29\nClark Gallery- Honeywell Center\nEntries will be accepted Aug. 26
URL:https://downtownwabash.org/event/photography-show-3-2024-09-03/
LOCATION:Wabash\, IN\, 46992\, United States
ATTACH;FMTTYPE=image/jpeg:https://downtownwabash.org/wp-content/uploads/HC-Gallery2-f2fabf1c9e0d9e4faeb18e43818c7f8a.jpg
END:VEVENT
BEGIN:VEVENT
DTSTART;TZID=America/Indiana/Indianapolis:20240902T080000
DTEND;TZID=America/Indiana/Indianapolis:20240902T170000
DTSTAMP:20260425T101421
CREATED:20240415T154325Z
LAST-MODIFIED:20240415T154422Z
UID:8264-1725264000-1725296400@downtownwabash.org
SUMMARY:Photography Show
DESCRIPTION:On display Aug. 28 – Sept. 29\nClark Gallery- Honeywell Center\nEntries will be accepted Aug. 26
URL:https://downtownwabash.org/event/photography-show-3-2024-09-02/
LOCATION:Wabash\, IN\, 46992\, United States
ATTACH;FMTTYPE=image/jpeg:https://downtownwabash.org/wp-content/uploads/HC-Gallery2-f2fabf1c9e0d9e4faeb18e43818c7f8a.jpg
END:VEVENT
BEGIN:VEVENT
DTSTART;TZID=America/Indiana/Indianapolis:20240901T080000
DTEND;TZID=America/Indiana/Indianapolis:20240901T170000
DTSTAMP:20260425T101421
CREATED:20240415T154325Z
LAST-MODIFIED:20240415T154421Z
UID:8263-1725177600-1725210000@downtownwabash.org
SUMMARY:Photography Show
DESCRIPTION:On display Aug. 28 – Sept. 29\nClark Gallery- Honeywell Center\nEntries will be accepted Aug. 26
URL:https://downtownwabash.org/event/photography-show-3-2024-09-01/
LOCATION:Wabash\, IN\, 46992\, United States
ATTACH;FMTTYPE=image/jpeg:https://downtownwabash.org/wp-content/uploads/HC-Gallery2-f2fabf1c9e0d9e4faeb18e43818c7f8a.jpg
END:VEVENT
BEGIN:VEVENT
DTSTART;TZID=America/Indiana/Indianapolis:20240831T080000
DTEND;TZID=America/Indiana/Indianapolis:20240831T170000
DTSTAMP:20260425T101421
CREATED:20240415T154325Z
LAST-MODIFIED:20240415T154420Z
UID:8262-1725091200-1725123600@downtownwabash.org
SUMMARY:Photography Show
DESCRIPTION:On display Aug. 28 – Sept. 29\nClark Gallery- Honeywell Center\nEntries will be accepted Aug. 26
URL:https://downtownwabash.org/event/photography-show-3-2024-08-31/
LOCATION:Wabash\, IN\, 46992\, United States
ATTACH;FMTTYPE=image/jpeg:https://downtownwabash.org/wp-content/uploads/HC-Gallery2-f2fabf1c9e0d9e4faeb18e43818c7f8a.jpg
END:VEVENT
BEGIN:VEVENT
DTSTART;TZID=America/Indiana/Indianapolis:20240831T080000
DTEND;TZID=America/Indiana/Indianapolis:20240831T120000
DTSTAMP:20260425T101421
CREATED:20240403T172348Z
LAST-MODIFIED:20240513T161530Z
UID:8511-1725091200-1725105600@downtownwabash.org
SUMMARY:Downtown Wabash Farmers Market
DESCRIPTION:Spend your Saturday mornings at the Downtown Wabash Farmers Market in Downtown Wabash\, Indiana! Start your weekend with wholesome\, enriching\, locally sourced products from some of our most unique vendors in Wabash and surrounding counties. \nFind handmade\, homemade & homegrown products like fresh produce\, organic meats\, homemade ice cream\, hand-poured candles & soaps\, cotton candy\, pottery\, wood & metal works and so much more. \nAll dogs welcome! \nThe Downtown Wabash Farmers Market in 2024 are presented by Bowen Health Clinic. Additional support comes from Level 2 Event Partner: Grow Wabash County.
URL:https://downtownwabash.org/event/downtown-wabash-farmers-market-3-2024-08-31/
LOCATION:Wabash\, IN\, 46992\, United States
CATEGORIES:Farmers Market,Wabash Cultural District
ATTACH;FMTTYPE=image/jpeg:https://downtownwabash.org/wp-content/uploads/IMG_3116.jpg
ORGANIZER;CN="Downtown Wabash":MAILTO:(260) 563-0975
END:VEVENT
BEGIN:VEVENT
DTSTART;TZID=America/Indiana/Indianapolis:20240830T080000
DTEND;TZID=America/Indiana/Indianapolis:20240830T170000
DTSTAMP:20260425T101421
CREATED:20240415T154325Z
LAST-MODIFIED:20240415T154419Z
UID:8261-1725004800-1725037200@downtownwabash.org
SUMMARY:Photography Show
DESCRIPTION:On display Aug. 28 – Sept. 29\nClark Gallery- Honeywell Center\nEntries will be accepted Aug. 26
URL:https://downtownwabash.org/event/photography-show-3-2024-08-30/
LOCATION:Wabash\, IN\, 46992\, United States
ATTACH;FMTTYPE=image/jpeg:https://downtownwabash.org/wp-content/uploads/HC-Gallery2-f2fabf1c9e0d9e4faeb18e43818c7f8a.jpg
END:VEVENT
BEGIN:VEVENT
DTSTART;TZID=America/Indiana/Indianapolis:20240829T080000
DTEND;TZID=America/Indiana/Indianapolis:20240829T170000
DTSTAMP:20260425T101421
CREATED:20240415T154325Z
LAST-MODIFIED:20240415T154419Z
UID:8260-1724918400-1724950800@downtownwabash.org
SUMMARY:Photography Show
DESCRIPTION:On display Aug. 28 – Sept. 29\nClark Gallery- Honeywell Center\nEntries will be accepted Aug. 26
URL:https://downtownwabash.org/event/photography-show-3-2024-08-29/
LOCATION:Wabash\, IN\, 46992\, United States
ATTACH;FMTTYPE=image/jpeg:https://downtownwabash.org/wp-content/uploads/HC-Gallery2-f2fabf1c9e0d9e4faeb18e43818c7f8a.jpg
END:VEVENT
BEGIN:VEVENT
DTSTART;TZID=America/Indiana/Indianapolis:20240828T080000
DTEND;TZID=America/Indiana/Indianapolis:20240828T170000
DTSTAMP:20260425T101421
CREATED:20240415T154325Z
LAST-MODIFIED:20240415T154407Z
UID:7517-1724832000-1724864400@downtownwabash.org
SUMMARY:Photography Show
DESCRIPTION:On display Aug. 28 – Sept. 29\nClark Gallery- Honeywell Center\nEntries will be accepted Aug. 26
URL:https://downtownwabash.org/event/photography-show/
LOCATION:Wabash\, IN\, 46992\, United States
ATTACH;FMTTYPE=image/jpeg:https://downtownwabash.org/wp-content/uploads/HC-Gallery2-f2fabf1c9e0d9e4faeb18e43818c7f8a.jpg
END:VEVENT
BEGIN:VEVENT
DTSTART;TZID=America/Indiana/Indianapolis:20240827T190000
DTEND;TZID=America/Indiana/Indianapolis:20240827T200000
DTSTAMP:20260425T101421
CREATED:20240718T144618Z
LAST-MODIFIED:20240718T144618Z
UID:8917-1724785200-1724788800@downtownwabash.org
SUMMARY:Wine and War
DESCRIPTION:Chris Ratay\, Honeywell Vice President of Hospitality\, will illuminate a compelling\, little-known chapter of history that tells the harrowing story of the ingenious\, daring measures the French people took to save their cherished bottles of wine from German plunder during WWII.
URL:https://downtownwabash.org/event/wine-and-war/
LOCATION:Wabash\, IN\, 46992\, United States
ATTACH;FMTTYPE=image/jpeg:https://downtownwabash.org/wp-content/uploads/winewar-45997279a421e00f003ce7d24ce9ea25.jpg
END:VEVENT
BEGIN:VEVENT
DTSTART;TZID=America/Indiana/Indianapolis:20240824T080000
DTEND;TZID=America/Indiana/Indianapolis:20240824T120000
DTSTAMP:20260425T101421
CREATED:20240403T172348Z
LAST-MODIFIED:20240513T161528Z
UID:8510-1724486400-1724500800@downtownwabash.org
SUMMARY:Downtown Wabash Farmers Market
DESCRIPTION:Spend your Saturday mornings at the Downtown Wabash Farmers Market in Downtown Wabash\, Indiana! Start your weekend with wholesome\, enriching\, locally sourced products from some of our most unique vendors in Wabash and surrounding counties. \nFind handmade\, homemade & homegrown products like fresh produce\, organic meats\, homemade ice cream\, hand-poured candles & soaps\, cotton candy\, pottery\, wood & metal works and so much more. \nAll dogs welcome! \nThe Downtown Wabash Farmers Market in 2024 are presented by Bowen Health Clinic. Additional support comes from Level 2 Event Partner: Grow Wabash County.
URL:https://downtownwabash.org/event/downtown-wabash-farmers-market-3-2024-08-24/
LOCATION:Wabash\, IN\, 46992\, United States
CATEGORIES:Farmers Market,Wabash Cultural District
ATTACH;FMTTYPE=image/jpeg:https://downtownwabash.org/wp-content/uploads/IMG_3116.jpg
ORGANIZER;CN="Downtown Wabash":MAILTO:(260) 563-0975
END:VEVENT
END:VCALENDAR