BEGIN:VCALENDAR
VERSION:2.0
PRODID:-//Downtown Wabash, Inc. - ECPv6.15.17.1//NONSGML v1.0//EN
CALSCALE:GREGORIAN
METHOD:PUBLISH
X-WR-CALNAME:Downtown Wabash, Inc.
X-ORIGINAL-URL:https://downtownwabash.org
X-WR-CALDESC:Events for Downtown Wabash, Inc.
REFRESH-INTERVAL;VALUE=DURATION:PT1H
X-Robots-Tag:noindex
X-PUBLISHED-TTL:PT1H
BEGIN:VTIMEZONE
TZID:America/Indiana/Indianapolis
BEGIN:DAYLIGHT
TZOFFSETFROM:-0500
TZOFFSETTO:-0400
TZNAME:EDT
DTSTART:20230312T070000
END:DAYLIGHT
BEGIN:STANDARD
TZOFFSETFROM:-0400
TZOFFSETTO:-0500
TZNAME:EST
DTSTART:20231105T060000
END:STANDARD
BEGIN:DAYLIGHT
TZOFFSETFROM:-0500
TZOFFSETTO:-0400
TZNAME:EDT
DTSTART:20240310T070000
END:DAYLIGHT
BEGIN:STANDARD
TZOFFSETFROM:-0400
TZOFFSETTO:-0500
TZNAME:EST
DTSTART:20241103T060000
END:STANDARD
BEGIN:DAYLIGHT
TZOFFSETFROM:-0500
TZOFFSETTO:-0400
TZNAME:EDT
DTSTART:20250309T070000
END:DAYLIGHT
BEGIN:STANDARD
TZOFFSETFROM:-0400
TZOFFSETTO:-0500
TZNAME:EST
DTSTART:20251102T060000
END:STANDARD
END:VTIMEZONE
BEGIN:VEVENT
DTSTART;TZID=America/Indiana/Indianapolis:20240319T190000
DTEND;TZID=America/Indiana/Indianapolis:20240319T200000
DTSTAMP:20260425T114636
CREATED:20240220T195814Z
LAST-MODIFIED:20240220T195814Z
UID:7361-1710874800-1710878400@downtownwabash.org
SUMMARY:Wabash Woollen Works
DESCRIPTION:Lisa Gilman of Wabash Woollen Works will talk about the variety of programs and workshops offered at her facility. These include tea making\, the art of natural dyeing\, acid dye techniques\, dorset buttons (history and techniques)\, indigo vat dyeing\, kombucha making\, peg loom workshops (the art of rug making\, lap blankets\, and pillows)\, making felted boxes\, and much more! Examples will be displayed.
URL:https://downtownwabash.org/event/wabash-woollen-works/
LOCATION:Wabash\, IN\, 46992\, United States
ATTACH;FMTTYPE=image/jpeg:https://downtownwabash.org/wp-content/uploads/HoneywellHouse-b94e6916f3a073ac9803332adca483ed.jpg
END:VEVENT
BEGIN:VEVENT
DTSTART;TZID=America/Indiana/Indianapolis:20240320T090000
DTEND;TZID=America/Indiana/Indianapolis:20240320T090000
DTSTAMP:20260425T114636
CREATED:20240221T164022Z
LAST-MODIFIED:20240411T181305Z
UID:8069-1710925200-1710925200@downtownwabash.org
SUMMARY:Wabash County Honors Band & Choir
DESCRIPTION:50th Anniversary. Presented by Wabash Valley Music Association. The annual Honors Band & Choir concert features talented musicians and vocalists from Wabash County high schools. Join us as we celebrate 50 years!
URL:https://downtownwabash.org/event/wabash-county-honors-band-choir-2024-03-20/
LOCATION:Wabash\, IN\, 46992\, United States
ATTACH;FMTTYPE=image/jpeg:https://downtownwabash.org/wp-content/uploads/HC-Ford-Theater-2c99a7288981aa6e1d878690fdef9580.jpg
END:VEVENT
BEGIN:VEVENT
DTSTART;TZID=America/Indiana/Indianapolis:20240321T090000
DTEND;TZID=America/Indiana/Indianapolis:20240321T090000
DTSTAMP:20260425T114636
CREATED:20240221T164022Z
LAST-MODIFIED:20240411T181306Z
UID:8070-1711011600-1711011600@downtownwabash.org
SUMMARY:Wabash County Honors Band & Choir
DESCRIPTION:50th Anniversary. Presented by Wabash Valley Music Association. The annual Honors Band & Choir concert features talented musicians and vocalists from Wabash County high schools. Join us as we celebrate 50 years!
URL:https://downtownwabash.org/event/wabash-county-honors-band-choir-2024-03-21/
LOCATION:Wabash\, IN\, 46992\, United States
ATTACH;FMTTYPE=image/jpeg:https://downtownwabash.org/wp-content/uploads/HC-Ford-Theater-2c99a7288981aa6e1d878690fdef9580.jpg
END:VEVENT
BEGIN:VEVENT
DTSTART;TZID=America/Indiana/Indianapolis:20240321T090000
DTEND;TZID=America/Indiana/Indianapolis:20240321T110000
DTSTAMP:20260425T114636
CREATED:20240415T153932Z
LAST-MODIFIED:20240415T153932Z
UID:7487-1711011600-1711018800@downtownwabash.org
SUMMARY:Class: Acrylic Painting
DESCRIPTION:Whether you’re a complete beginner or an experienced artist\, join us for self-expression and creativity. Our instructors will guide you through various techniques\, from brushstrokes to color mixing\, as you explore your unique artistic style. Enjoy a relaxed and supportive atmosphere\, connect with fellow art enthusiasts\, and bring your imagination to life on canvas. Unwind\, create\, and discover the joy of painting in our inspiring adult art sessions! \nThis class requires that you purchase a “class pass” or “multi pass”.\nOnce you have purchased the pass\, which is sort of like digital punch card\, you will need to register for the individual days you plan on attending.\nPlease contact Carolyn Stoner if you have any questions or need assistance completing the registration.
URL:https://downtownwabash.org/event/class-acrylic-painting/
LOCATION:Wabash\, IN\, 46992\, United States
ATTACH;FMTTYPE=image/jpeg:https://downtownwabash.org/wp-content/uploads/Gardens-a2957d14d669f5698b5a32780f9c0066.jpg
END:VEVENT
BEGIN:VEVENT
DTSTART;TZID=America/Indiana/Indianapolis:20240321T163000
DTEND;TZID=America/Indiana/Indianapolis:20240321T173000
DTSTAMP:20260425T114636
CREATED:20240415T153746Z
LAST-MODIFIED:20240415T153746Z
UID:7483-1711038600-1711042200@downtownwabash.org
SUMMARY:Class: Little Picassos
DESCRIPTION:Integrating art making with art history\, each session is focused on identifying and stimulating children’s artistic abilities. We’ll draw\, paint\, and create nature and abstract art using a variety of techniques and materials. Grades 1-3.
URL:https://downtownwabash.org/event/class-little-picassos/
LOCATION:Wabash\, IN\, 46992\, United States
ATTACH;FMTTYPE=image/jpeg:https://downtownwabash.org/wp-content/uploads/Gardens-e1c84e1d5ad5725bba22276b31b0341e.jpg
END:VEVENT
BEGIN:VEVENT
DTSTART;TZID=America/Indiana/Indianapolis:20240321T180000
DTEND;TZID=America/Indiana/Indianapolis:20240321T190000
DTSTAMP:20260425T114636
CREATED:20240415T153835Z
LAST-MODIFIED:20240415T153835Z
UID:7485-1711044000-1711047600@downtownwabash.org
SUMMARY:Class: Mixed Media Exploration
DESCRIPTION:Students will explore sculpture\, color\, and a variety of media in connection with contemporary and modern artists. Students will build independent thinking\, collaboration\, and gross-motor skills through this introduction to the creative process. Grades 4-7.
URL:https://downtownwabash.org/event/class-mixed-media-exploration/
LOCATION:Wabash\, IN\, 46992\, United States
ATTACH;FMTTYPE=image/jpeg:https://downtownwabash.org/wp-content/uploads/Gardens-e0795e27d99790e2f2f275cb4d7e4fe3.jpg
END:VEVENT
BEGIN:VEVENT
DTSTART;TZID=America/Indiana/Indianapolis:20240322T090000
DTEND;TZID=America/Indiana/Indianapolis:20240322T090000
DTSTAMP:20260425T114636
CREATED:20240221T164022Z
LAST-MODIFIED:20240411T181307Z
UID:8071-1711098000-1711098000@downtownwabash.org
SUMMARY:Wabash County Honors Band & Choir
DESCRIPTION:50th Anniversary. Presented by Wabash Valley Music Association. The annual Honors Band & Choir concert features talented musicians and vocalists from Wabash County high schools. Join us as we celebrate 50 years!
URL:https://downtownwabash.org/event/wabash-county-honors-band-choir-2024-03-22/
LOCATION:Wabash\, IN\, 46992\, United States
ATTACH;FMTTYPE=image/jpeg:https://downtownwabash.org/wp-content/uploads/HC-Ford-Theater-2c99a7288981aa6e1d878690fdef9580.jpg
END:VEVENT
BEGIN:VEVENT
DTSTART;TZID=America/Indiana/Indianapolis:20240323T190000
DTEND;TZID=America/Indiana/Indianapolis:20240323T220000
DTSTAMP:20260425T114636
CREATED:20231130T150129Z
LAST-MODIFIED:20231130T150149Z
UID:6642-1711220400-1711231200@downtownwabash.org
SUMMARY:Conner Noble
DESCRIPTION:Connor Noble\, from Wabash\, Indiana\, has been playing music for the past 11 years. He has played across Indiana on radio talk shows\, and has had original music featured in films\, including Night of the Living Dead\, The Blood Moon\, First Harvest\, and more. Noble is currently the lead guitarist for Rejected Iris– having written and produced two albums for the band. His inspiration comes from the music of the 1990s-2000s\, spanning a variety of genres from rock to blues\, jazz to pop and even punk. Noble brings something that everyone can enjoy.
URL:https://downtownwabash.org/event/conner-noble/
LOCATION:Wabash\, IN\, 46992\, United States
ATTACH;FMTTYPE=image/jpeg:https://downtownwabash.org/wp-content/uploads/Devon-Noble-b89f0e1d7301af41644c6b2687a0dca0.jpg
END:VEVENT
BEGIN:VEVENT
DTSTART;TZID=America/Indiana/Indianapolis:20240323T193000
DTEND;TZID=America/Indiana/Indianapolis:20240323T220000
DTSTAMP:20260425T114636
CREATED:20230809T153752Z
LAST-MODIFIED:20230809T185535Z
UID:5671-1711222200-1711231200@downtownwabash.org
SUMMARY:Broadway Rox
DESCRIPTION:Broadway Rox celebrates the contemporary musicals of Broadway through an upbeat live concert\, combining the best of classical musicals with elements of a fun rock show. Broadway Rox features the talents of Broadway performers accompanied by a live five-piece band. This show includes songs from musicals like Wicked\, RENT\, Mamma Mia!\, Hairspray\, The Rocky Horror Picture Show\, and more.
URL:https://downtownwabash.org/event/broadway-rox/
CATEGORIES:Wabash Community Event,Wabash Cultural District
ATTACH;FMTTYPE=image/jpeg:https://downtownwabash.org/wp-content/uploads/HC-Ford-Theater-3f59b9fda4c67ce4fa578aafd99ce023.jpg
END:VEVENT
BEGIN:VEVENT
DTSTART;TZID=America/Indiana/Indianapolis:20240325T090000
DTEND;TZID=America/Indiana/Indianapolis:20240325T090000
DTSTAMP:20260425T114636
CREATED:20240221T164022Z
LAST-MODIFIED:20240411T181308Z
UID:8074-1711357200-1711357200@downtownwabash.org
SUMMARY:Wabash County Honors Band & Choir
DESCRIPTION:50th Anniversary. Presented by Wabash Valley Music Association. The annual Honors Band & Choir concert features talented musicians and vocalists from Wabash County high schools. Join us as we celebrate 50 years!
URL:https://downtownwabash.org/event/wabash-county-honors-band-choir-2024-03-25/
LOCATION:Wabash\, IN\, 46992\, United States
ATTACH;FMTTYPE=image/jpeg:https://downtownwabash.org/wp-content/uploads/HC-Ford-Theater-2c99a7288981aa6e1d878690fdef9580.jpg
END:VEVENT
BEGIN:VEVENT
DTSTART;TZID=America/Indiana/Indianapolis:20240325T183000
DTEND;TZID=America/Indiana/Indianapolis:20240325T193000
DTSTAMP:20260425T114636
CREATED:20240221T163849Z
LAST-MODIFIED:20240221T163849Z
UID:8204-1711391400-1711395000@downtownwabash.org
SUMMARY:Class: Graphic Storytelling & Comic Arts
DESCRIPTION:From cave drawings to comics\, animation\, and beyond\, art and stories have been inseparably inked. In this class we will learn basic techniques\, practices\, and philosophy of creating comics and other graphic narratives.
URL:https://downtownwabash.org/event/class-graphic-storytelling-comic-arts-2024-03-25/
LOCATION:Wabash\, IN\, 46992\, United States
ATTACH;FMTTYPE=image/jpeg:https://downtownwabash.org/wp-content/uploads/EaglesTheatre-db64569ae0464721ddc09a324bf58080.jpg
END:VEVENT
BEGIN:VEVENT
DTSTART;TZID=America/Indiana/Indianapolis:20240326T090000
DTEND;TZID=America/Indiana/Indianapolis:20240326T090000
DTSTAMP:20260425T114636
CREATED:20240221T164022Z
LAST-MODIFIED:20240411T181309Z
UID:8075-1711443600-1711443600@downtownwabash.org
SUMMARY:Wabash County Honors Band & Choir
DESCRIPTION:50th Anniversary. Presented by Wabash Valley Music Association. The annual Honors Band & Choir concert features talented musicians and vocalists from Wabash County high schools. Join us as we celebrate 50 years!
URL:https://downtownwabash.org/event/wabash-county-honors-band-choir-2024-03-26/
LOCATION:Wabash\, IN\, 46992\, United States
ATTACH;FMTTYPE=image/jpeg:https://downtownwabash.org/wp-content/uploads/HC-Ford-Theater-2c99a7288981aa6e1d878690fdef9580.jpg
END:VEVENT
BEGIN:VEVENT
DTSTART;TZID=America/Indiana/Indianapolis:20240327T090000
DTEND;TZID=America/Indiana/Indianapolis:20240327T090000
DTSTAMP:20260425T114636
CREATED:20240221T164022Z
LAST-MODIFIED:20240411T181310Z
UID:8076-1711530000-1711530000@downtownwabash.org
SUMMARY:Wabash County Honors Band & Choir
DESCRIPTION:50th Anniversary. Presented by Wabash Valley Music Association. The annual Honors Band & Choir concert features talented musicians and vocalists from Wabash County high schools. Join us as we celebrate 50 years!
URL:https://downtownwabash.org/event/wabash-county-honors-band-choir-2024-03-27/
LOCATION:Wabash\, IN\, 46992\, United States
ATTACH;FMTTYPE=image/jpeg:https://downtownwabash.org/wp-content/uploads/HC-Ford-Theater-2c99a7288981aa6e1d878690fdef9580.jpg
END:VEVENT
BEGIN:VEVENT
DTSTART;TZID=America/Indiana/Indianapolis:20240327T163000
DTEND;TZID=America/Indiana/Indianapolis:20240327T183000
DTSTAMP:20260425T114636
CREATED:20240304T164122Z
LAST-MODIFIED:20240304T164122Z
UID:7615-1711557000-1711564200@downtownwabash.org
SUMMARY:Callout Meeting for Downtown Wabash Farmers Market Vendors
DESCRIPTION:Any vendors interested in learning more about the 2024 Downtown Wabash Farmers Market season are invited to attend the 2024 Season Vendor Callout Meeting on Wednesday\, March 27 from 4:30-6:30 p.m. at the Downtown Wabash\, Inc. office (189 S. Miami St.\, Suite 1). The Vendor Callout Meeting will be open-house style with Market Manager Carly Hawkins on-site to speak about the season and answer vendor questions. The Downtown Wabash Farmers Market is open to vendors whose products are all things handmade\, homemade & homegrown. Vendors can obtain a copy of the handbook & additional vendor resources\, as well as sign up for the season at the callout meeting.
URL:https://downtownwabash.org/event/callout-meeting-for-downtown-wabash-farmers-market-vendors/
LOCATION:Wabash\, IN\, 46992\, United States
ATTACH;FMTTYPE=image/jpeg:https://downtownwabash.org/wp-content/uploads/Bolinger-Family-Farm-Vendor-at-the-Downtown-Wabash-Farmers-Market.jpg
END:VEVENT
BEGIN:VEVENT
DTSTART;TZID=America/Indiana/Indianapolis:20240328T090000
DTEND;TZID=America/Indiana/Indianapolis:20240328T090000
DTSTAMP:20260425T114636
CREATED:20240221T164022Z
LAST-MODIFIED:20240411T181311Z
UID:8077-1711616400-1711616400@downtownwabash.org
SUMMARY:Wabash County Honors Band & Choir
DESCRIPTION:50th Anniversary. Presented by Wabash Valley Music Association. The annual Honors Band & Choir concert features talented musicians and vocalists from Wabash County high schools. Join us as we celebrate 50 years!
URL:https://downtownwabash.org/event/wabash-county-honors-band-choir-2024-03-28/
LOCATION:Wabash\, IN\, 46992\, United States
ATTACH;FMTTYPE=image/jpeg:https://downtownwabash.org/wp-content/uploads/HC-Ford-Theater-2c99a7288981aa6e1d878690fdef9580.jpg
END:VEVENT
BEGIN:VEVENT
DTSTART;TZID=America/Indiana/Indianapolis:20240328T090000
DTEND;TZID=America/Indiana/Indianapolis:20240328T110000
DTSTAMP:20260425T114636
CREATED:20240415T153932Z
LAST-MODIFIED:20240415T153932Z
UID:8234-1711616400-1711623600@downtownwabash.org
SUMMARY:Class: Acrylic Painting
DESCRIPTION:Whether you’re a complete beginner or an experienced artist\, join us for self-expression and creativity. Our instructors will guide you through various techniques\, from brushstrokes to color mixing\, as you explore your unique artistic style. Enjoy a relaxed and supportive atmosphere\, connect with fellow art enthusiasts\, and bring your imagination to life on canvas. Unwind\, create\, and discover the joy of painting in our inspiring adult art sessions! \nThis class requires that you purchase a “class pass” or “multi pass”.\nOnce you have purchased the pass\, which is sort of like digital punch card\, you will need to register for the individual days you plan on attending.\nPlease contact Carolyn Stoner if you have any questions or need assistance completing the registration.
URL:https://downtownwabash.org/event/class-acrylic-painting-2024-03-28/
LOCATION:Wabash\, IN\, 46992\, United States
ATTACH;FMTTYPE=image/jpeg:https://downtownwabash.org/wp-content/uploads/Gardens-a2957d14d669f5698b5a32780f9c0066.jpg
END:VEVENT
BEGIN:VEVENT
DTSTART;TZID=America/Indiana/Indianapolis:20240328T163000
DTEND;TZID=America/Indiana/Indianapolis:20240328T173000
DTSTAMP:20260425T114636
CREATED:20240415T153746Z
LAST-MODIFIED:20240415T153746Z
UID:8216-1711643400-1711647000@downtownwabash.org
SUMMARY:Class: Little Picassos
DESCRIPTION:Integrating art making with art history\, each session is focused on identifying and stimulating children’s artistic abilities. We’ll draw\, paint\, and create nature and abstract art using a variety of techniques and materials. Grades 1-3.
URL:https://downtownwabash.org/event/class-little-picassos-2024-03-28/
LOCATION:Wabash\, IN\, 46992\, United States
ATTACH;FMTTYPE=image/jpeg:https://downtownwabash.org/wp-content/uploads/Gardens-e1c84e1d5ad5725bba22276b31b0341e.jpg
END:VEVENT
BEGIN:VEVENT
DTSTART;TZID=America/Indiana/Indianapolis:20240328T180000
DTEND;TZID=America/Indiana/Indianapolis:20240328T190000
DTSTAMP:20260425T114636
CREATED:20240415T153835Z
LAST-MODIFIED:20240415T153835Z
UID:8225-1711648800-1711652400@downtownwabash.org
SUMMARY:Class: Mixed Media Exploration
DESCRIPTION:Students will explore sculpture\, color\, and a variety of media in connection with contemporary and modern artists. Students will build independent thinking\, collaboration\, and gross-motor skills through this introduction to the creative process. Grades 4-7.
URL:https://downtownwabash.org/event/class-mixed-media-exploration-2024-03-28/
LOCATION:Wabash\, IN\, 46992\, United States
ATTACH;FMTTYPE=image/jpeg:https://downtownwabash.org/wp-content/uploads/Gardens-e0795e27d99790e2f2f275cb4d7e4fe3.jpg
END:VEVENT
BEGIN:VEVENT
DTSTART;TZID=America/Indiana/Indianapolis:20240328T190000
DTEND;TZID=America/Indiana/Indianapolis:20240328T220000
DTSTAMP:20260425T114636
CREATED:20240102T174335Z
LAST-MODIFIED:20240102T174335Z
UID:7016-1711652400-1711663200@downtownwabash.org
SUMMARY:Free Fallin
DESCRIPTION:With iconic hits like “Free Fallin’\,” “American Girl\,” and “Refugee\,” Tom Petty’s sound is the soundtrack of the 20th century and beyond. Free Fallin has delivered his hits internationally for over 16 years\, recreating the authentic concert experience with skilled musicians\, instruments\, and costumes. Honoring Petty’s legacy\, they’ve performed nationwide\, earning a reputation as one of the finest tribute bands.
URL:https://downtownwabash.org/event/free-fallin/
LOCATION:Wabash\, IN\, 46992\, United States
ATTACH;FMTTYPE=image/jpeg:https://downtownwabash.org/wp-content/uploads/EaglesTheatre-cc9d339832c81631876088d70ea576fb.jpg
END:VEVENT
BEGIN:VEVENT
DTSTART;TZID=America/Indiana/Indianapolis:20240329T090000
DTEND;TZID=America/Indiana/Indianapolis:20240329T090000
DTSTAMP:20260425T114636
CREATED:20240221T164022Z
LAST-MODIFIED:20240411T181311Z
UID:8078-1711702800-1711702800@downtownwabash.org
SUMMARY:Wabash County Honors Band & Choir
DESCRIPTION:50th Anniversary. Presented by Wabash Valley Music Association. The annual Honors Band & Choir concert features talented musicians and vocalists from Wabash County high schools. Join us as we celebrate 50 years!
URL:https://downtownwabash.org/event/wabash-county-honors-band-choir-2024-03-29/
LOCATION:Wabash\, IN\, 46992\, United States
ATTACH;FMTTYPE=image/jpeg:https://downtownwabash.org/wp-content/uploads/HC-Ford-Theater-2c99a7288981aa6e1d878690fdef9580.jpg
END:VEVENT
BEGIN:VEVENT
DTSTART;TZID=America/Indiana/Indianapolis:20240330T190000
DTEND;TZID=America/Indiana/Indianapolis:20240330T220000
DTSTAMP:20260425T114636
CREATED:20231130T150212Z
LAST-MODIFIED:20231130T150212Z
UID:6652-1711825200-1711836000@downtownwabash.org
SUMMARY:Jon Shoulders
DESCRIPTION:Performing throughout the region year-round\, Jon Shoulders puts on a high-energy acoustic show that spans many genres and styles.
URL:https://downtownwabash.org/event/jon-shoulders/
LOCATION:Wabash\, IN\, 46992\, United States
ATTACH;FMTTYPE=image/jpeg:https://downtownwabash.org/wp-content/uploads/Jon-Shoulders-2020-fe74be389820032285982e77c3351468-scaled.jpg
END:VEVENT
BEGIN:VEVENT
DTSTART;TZID=America/Indiana/Indianapolis:20240330T193000
DTEND;TZID=America/Indiana/Indianapolis:20240330T220000
DTSTAMP:20260425T114636
CREATED:20230809T154112Z
LAST-MODIFIED:20230809T185543Z
UID:5673-1711827000-1711836000@downtownwabash.org
SUMMARY:Tommy James and the Shondells
DESCRIPTION:Join Tommy James and The Shondells on a thrilling ride through their career\, featuring timeless classics like “Hanky Panky\,” “I Think We’re Alone Now\,” “Mony Mony\,” “Crimson and Clover\,” “Crystal Blue Persuasion\,” and more. From record-breaking singles to platinum albums\, Tommy’s music has shaped the sound of an era. Groove to the group’s iconic tunes as Tommy continues to captivate audiences with his new album\, ALIVE. Don’t miss Tommy and the band perform live and celebrate over 50 years of incredible music!
URL:https://downtownwabash.org/event/tommy-james-and-the-shondells/
CATEGORIES:Wabash Community Event,Wabash Cultural District
ATTACH;FMTTYPE=image/jpeg:https://downtownwabash.org/wp-content/uploads/HC-Ford-Theater-a56192352f54c547fc31689d9a1aaac2.jpg
END:VEVENT
BEGIN:VEVENT
DTSTART;TZID=America/Indiana/Indianapolis:20240330T193000
DTEND;TZID=America/Indiana/Indianapolis:20240330T223000
DTSTAMP:20260425T114636
CREATED:20240102T174439Z
LAST-MODIFIED:20240102T174439Z
UID:7018-1711827000-1711837800@downtownwabash.org
SUMMARY:Tommy James and the Shondells
DESCRIPTION:Join Tommy James and The Shondells on a thrilling ride through their career\, featuring timeless classics like “Hanky Panky\,” “I Think We’re Alone Now\,” “Mony Mony\,” “Crimson and Clover\,” “Crystal Blue Persuasion\,” and more. From record-breaking singles to platinum albums\, Tommy’s music has shaped the sound of an era. Groove to the group’s iconic tunes as Tommy continues to captivate audiences with his new album\, ALIVE. Don’t miss Tommy and the band perform live and celebrate over 50 years of incredible music!
URL:https://downtownwabash.org/event/tommy-james-and-the-shondells/
LOCATION:Wabash\, IN\, 46992\, United States
ATTACH;FMTTYPE=image/jpeg:https://downtownwabash.org/wp-content/uploads/HC-Ford-Theater-5bf309009be7fb5fafa60ac7da50bdb2.jpg
END:VEVENT
BEGIN:VEVENT
DTSTART;TZID=America/Indiana/Indianapolis:20240331T103000
DTEND;TZID=America/Indiana/Indianapolis:20240331T120000
DTSTAMP:20260425T114636
CREATED:20240220T195742Z
LAST-MODIFIED:20240220T195742Z
UID:7363-1711881000-1711886400@downtownwabash.org
SUMMARY:Easter Brunch
DESCRIPTION:Join us for a new Easter experience with live entertainment! Enjoy a delicious brunch buffet in Legacy Hall at the Honeywell Center. During brunch\, you’ll enjoy live music and an opportunity for the kids to make a seasonal craft. Of course\, visits with the Easter Bunny will be the main attraction. Buy early – this sells out every year!
URL:https://downtownwabash.org/event/easter-brunch/
LOCATION:Wabash\, IN\, 46992\, United States
ATTACH;FMTTYPE=image/jpeg:https://downtownwabash.org/wp-content/uploads/HC-LegacyHall-fe3bea6ddd47882d85dcc6854b04e590.jpg
END:VEVENT
BEGIN:VEVENT
DTSTART;TZID=America/Indiana/Indianapolis:20240331T130000
DTEND;TZID=America/Indiana/Indianapolis:20240331T143000
DTSTAMP:20260425T114636
CREATED:20240220T195715Z
LAST-MODIFIED:20240220T195715Z
UID:7365-1711890000-1711895400@downtownwabash.org
SUMMARY:Easter Brunch
DESCRIPTION:Join us for a new Easter experience with live entertainment! Enjoy a delicious brunch buffet in Legacy Hall at the Honeywell Center. During brunch\, you’ll enjoy live music and an opportunity for the kids to make a seasonal craft. Of course\, visits with the Easter Bunny will be the main attraction. Buy early – this sells out every year!
URL:https://downtownwabash.org/event/easter-brunch/
LOCATION:Wabash\, IN\, 46992\, United States
ATTACH;FMTTYPE=image/jpeg:https://downtownwabash.org/wp-content/uploads/HC-LegacyHall-cdd3c72eaa50eaf2f75d0d22105adf15.jpg
END:VEVENT
BEGIN:VEVENT
DTSTART;TZID=America/Indiana/Indianapolis:20240401T090000
DTEND;TZID=America/Indiana/Indianapolis:20240401T090000
DTSTAMP:20260425T114636
CREATED:20240221T164022Z
LAST-MODIFIED:20240411T181312Z
UID:8081-1711962000-1711962000@downtownwabash.org
SUMMARY:Wabash County Honors Band & Choir
DESCRIPTION:50th Anniversary. Presented by Wabash Valley Music Association. The annual Honors Band & Choir concert features talented musicians and vocalists from Wabash County high schools. Join us as we celebrate 50 years!
URL:https://downtownwabash.org/event/wabash-county-honors-band-choir-2024-04-01/
LOCATION:Wabash\, IN\, 46992\, United States
ATTACH;FMTTYPE=image/jpeg:https://downtownwabash.org/wp-content/uploads/HC-Ford-Theater-2c99a7288981aa6e1d878690fdef9580.jpg
END:VEVENT
BEGIN:VEVENT
DTSTART;TZID=America/Indiana/Indianapolis:20240401T183000
DTEND;TZID=America/Indiana/Indianapolis:20240401T193000
DTSTAMP:20260425T114636
CREATED:20240221T163849Z
LAST-MODIFIED:20240221T163849Z
UID:8205-1711996200-1711999800@downtownwabash.org
SUMMARY:Class: Graphic Storytelling & Comic Arts
DESCRIPTION:From cave drawings to comics\, animation\, and beyond\, art and stories have been inseparably inked. In this class we will learn basic techniques\, practices\, and philosophy of creating comics and other graphic narratives.
URL:https://downtownwabash.org/event/class-graphic-storytelling-comic-arts-2024-04-01/
LOCATION:Wabash\, IN\, 46992\, United States
ATTACH;FMTTYPE=image/jpeg:https://downtownwabash.org/wp-content/uploads/EaglesTheatre-db64569ae0464721ddc09a324bf58080.jpg
END:VEVENT
BEGIN:VEVENT
DTSTART;TZID=America/Indiana/Indianapolis:20240402T090000
DTEND;TZID=America/Indiana/Indianapolis:20240402T090000
DTSTAMP:20260425T114636
CREATED:20240221T164022Z
LAST-MODIFIED:20240411T181313Z
UID:8082-1712048400-1712048400@downtownwabash.org
SUMMARY:Wabash County Honors Band & Choir
DESCRIPTION:50th Anniversary. Presented by Wabash Valley Music Association. The annual Honors Band & Choir concert features talented musicians and vocalists from Wabash County high schools. Join us as we celebrate 50 years!
URL:https://downtownwabash.org/event/wabash-county-honors-band-choir-2024-04-02/
LOCATION:Wabash\, IN\, 46992\, United States
ATTACH;FMTTYPE=image/jpeg:https://downtownwabash.org/wp-content/uploads/HC-Ford-Theater-2c99a7288981aa6e1d878690fdef9580.jpg
END:VEVENT
BEGIN:VEVENT
DTSTART;TZID=America/Indiana/Indianapolis:20240402T100000
DTEND;TZID=America/Indiana/Indianapolis:20240402T140000
DTSTAMP:20260425T114636
CREATED:20240412T135238Z
LAST-MODIFIED:20240412T135350Z
UID:7839-1712052000-1712066400@downtownwabash.org
SUMMARY:Spring Swing: Pop Up Mini Golf @ the Museum
DESCRIPTION:Play a round on our flowery 9-hole regulation golf course set inside the museum. \nMini golf tickets include full access to the Museum and can be purchased at the Museum welcome desk. Non-member tickets are $9 for ages 12+ and $6 for ages 2-11. Member tickets are $5 for ages 12+ and $3 for ages 2-11.
URL:https://downtownwabash.org/event/spring-swing-pop-up-mini-golf-the-museum/
LOCATION:Wabash\, IN\, 46992\, United States
ATTACH;FMTTYPE=image/png:https://downtownwabash.org/wp-content/uploads/Downtown-Wabash-Event-Format-614cd3534f5311882ac117188f19a7f8.png
END:VEVENT
BEGIN:VEVENT
DTSTART;TZID=America/Indiana/Indianapolis:20240403T090000
DTEND;TZID=America/Indiana/Indianapolis:20240403T090000
DTSTAMP:20260425T114636
CREATED:20240221T164022Z
LAST-MODIFIED:20240411T181314Z
UID:8083-1712134800-1712134800@downtownwabash.org
SUMMARY:Wabash County Honors Band & Choir
DESCRIPTION:50th Anniversary. Presented by Wabash Valley Music Association. The annual Honors Band & Choir concert features talented musicians and vocalists from Wabash County high schools. Join us as we celebrate 50 years!
URL:https://downtownwabash.org/event/wabash-county-honors-band-choir-2024-04-03/
LOCATION:Wabash\, IN\, 46992\, United States
ATTACH;FMTTYPE=image/jpeg:https://downtownwabash.org/wp-content/uploads/HC-Ford-Theater-2c99a7288981aa6e1d878690fdef9580.jpg
END:VEVENT
END:VCALENDAR