BEGIN:VCALENDAR
VERSION:2.0
PRODID:-//Downtown Wabash, Inc. - ECPv6.15.17.1//NONSGML v1.0//EN
CALSCALE:GREGORIAN
METHOD:PUBLISH
X-WR-CALNAME:Downtown Wabash, Inc.
X-ORIGINAL-URL:https://downtownwabash.org
X-WR-CALDESC:Events for Downtown Wabash, Inc.
REFRESH-INTERVAL;VALUE=DURATION:PT1H
X-Robots-Tag:noindex
X-PUBLISHED-TTL:PT1H
BEGIN:VTIMEZONE
TZID:America/Indiana/Indianapolis
BEGIN:DAYLIGHT
TZOFFSETFROM:-0500
TZOFFSETTO:-0400
TZNAME:EDT
DTSTART:20210314T070000
END:DAYLIGHT
BEGIN:STANDARD
TZOFFSETFROM:-0400
TZOFFSETTO:-0500
TZNAME:EST
DTSTART:20211107T060000
END:STANDARD
BEGIN:DAYLIGHT
TZOFFSETFROM:-0500
TZOFFSETTO:-0400
TZNAME:EDT
DTSTART:20220313T070000
END:DAYLIGHT
BEGIN:STANDARD
TZOFFSETFROM:-0400
TZOFFSETTO:-0500
TZNAME:EST
DTSTART:20221106T060000
END:STANDARD
BEGIN:DAYLIGHT
TZOFFSETFROM:-0500
TZOFFSETTO:-0400
TZNAME:EDT
DTSTART:20230312T070000
END:DAYLIGHT
BEGIN:STANDARD
TZOFFSETFROM:-0400
TZOFFSETTO:-0500
TZNAME:EST
DTSTART:20231105T060000
END:STANDARD
END:VTIMEZONE
BEGIN:VEVENT
DTSTART;TZID=America/Indiana/Indianapolis:20220608T090000
DTEND;TZID=America/Indiana/Indianapolis:20220608T120000
DTSTAMP:20260424T115535
CREATED:20220506T232216Z
LAST-MODIFIED:20220506T232551Z
UID:2542-1654678800-1654689600@downtownwabash.org
SUMMARY:Transformation Strategy Workshop
DESCRIPTION:
URL:https://downtownwabash.org/event/2542/
LOCATION:Wabash\, IN\, 46992\, United States
CATEGORIES:Board Member Meeting
ATTACH;FMTTYPE=image/jpeg:https://downtownwabash.org/wp-content/uploads/N4Q7986P_400x400.jpeg
ORGANIZER;CN="Downtown Wabash":MAILTO:(260) 563-0975
END:VEVENT
BEGIN:VEVENT
DTSTART;TZID=America/Indiana/Indianapolis:20220607T090000
DTEND;TZID=America/Indiana/Indianapolis:20220607T103000
DTSTAMP:20260424T115535
CREATED:20220506T232103Z
LAST-MODIFIED:20220506T232516Z
UID:2538-1654592400-1654597800@downtownwabash.org
SUMMARY:Transformation Strategy Workshop
DESCRIPTION:
URL:https://downtownwabash.org/event/2538/
LOCATION:Wabash\, IN\, 46992\, United States
CATEGORIES:Board Member Meeting
ATTACH;FMTTYPE=image/jpeg:https://downtownwabash.org/wp-content/uploads/N4Q7986P_400x400.jpeg
ORGANIZER;CN="Downtown Wabash":MAILTO:(260) 563-0975
END:VEVENT
BEGIN:VEVENT
DTSTART;TZID=America/Indiana/Indianapolis:20220606T110000
DTEND;TZID=America/Indiana/Indianapolis:20220606T123000
DTSTAMP:20260424T115535
CREATED:20220510T144719Z
LAST-MODIFIED:20220510T154042Z
UID:2597-1654513200-1654518600@downtownwabash.org
SUMMARY:Top Gun: Maverick
DESCRIPTION:After more than thirty years of service as one of the Navy’s top aviators\, Pete “Maverick” Mitchell (Tom Cruise) is where he belongs\, pushing the envelope as a courageous test pilot and dodging the advancement in rank that would ground him. When he finds himself training a detachment of Top Gun graduates for a specialized mission the likes of which no living pilot has ever seen\, Maverick encounters Lt. Bradley Bradshaw (Miles Teller)\, call sign: “Rooster\,” the son of Maverick’s late friend and Radar Intercept Officer Lt. Nick Bradshaw\, aka “Goose”. \nFacing an uncertain future and confronting the ghosts of his past\, Maverick is drawn into a confrontation with his own deepest fears\, culminating in a mission that demands the ultimate sacrifice from those who will be chosen to fly it.
URL:https://downtownwabash.org/event/top-gun-maverick/
CATEGORIES:Wabash Community Event
ATTACH;FMTTYPE=image/jpeg:https://downtownwabash.org/wp-content/uploads/EaglesTheatre-8667cc085482b03cd90b2df13a656c52.jpg
END:VEVENT
BEGIN:VEVENT
DTSTART;TZID=America/Indiana/Indianapolis:20220605T150000
DTEND;TZID=America/Indiana/Indianapolis:20220605T163000
DTSTAMP:20260424T115535
CREATED:20220527T193211Z
LAST-MODIFIED:20220601T150329Z
UID:2860-1654441200-1654446600@downtownwabash.org
SUMMARY:Family Camp
DESCRIPTION:When their pastor encourages the congregation to sign-up for a week away at family camp\, Grace (Leigh-Allyn Baker) believes she’s found the perfect cure for her imperfect clan—even if they’d all rather be anywhere but at rustic Camp Katokwah. The first feature film from The Skit Guys—Tommy Woodard and Eddie James—FAMILY CAMP is a laugh-out-loud comedy that is sure to touch the hearts and tickle the funny bones of every family member from eight to eighty.
URL:https://downtownwabash.org/event/family-camp/
CATEGORIES:Wabash Community Event
ATTACH;FMTTYPE=image/jpeg:https://downtownwabash.org/wp-content/uploads/EaglesTheatre-8b68501701e7c9ddb640282ad2e59514.jpg
END:VEVENT
BEGIN:VEVENT
DTSTART;TZID=America/Indiana/Indianapolis:20220605T150000
DTEND;TZID=America/Indiana/Indianapolis:20220605T163000
DTSTAMP:20260424T115535
CREATED:20220510T144544Z
LAST-MODIFIED:20220510T154033Z
UID:2595-1654441200-1654446600@downtownwabash.org
SUMMARY:Top Gun: Maverick
DESCRIPTION:After more than thirty years of service as one of the Navy’s top aviators\, Pete “Maverick” Mitchell (Tom Cruise) is where he belongs\, pushing the envelope as a courageous test pilot and dodging the advancement in rank that would ground him. When he finds himself training a detachment of Top Gun graduates for a specialized mission the likes of which no living pilot has ever seen\, Maverick encounters Lt. Bradley Bradshaw (Miles Teller)\, call sign: “Rooster\,” the son of Maverick’s late friend and Radar Intercept Officer Lt. Nick Bradshaw\, aka “Goose”. \nFacing an uncertain future and confronting the ghosts of his past\, Maverick is drawn into a confrontation with his own deepest fears\, culminating in a mission that demands the ultimate sacrifice from those who will be chosen to fly it.
URL:https://downtownwabash.org/event/top-gun-maverick/
CATEGORIES:Wabash Community Event
ATTACH;FMTTYPE=image/jpeg:https://downtownwabash.org/wp-content/uploads/EaglesTheatre-29cc267f9fd13afd3f3864fea43755da.jpg
END:VEVENT
BEGIN:VEVENT
DTSTART;TZID=America/Indiana/Indianapolis:20220521T110000
DTEND;TZID=America/Indiana/Indianapolis:20220521T130000
DTSTAMP:20260424T115535
CREATED:20220513T152800Z
LAST-MODIFIED:20220516T203851Z
UID:2670-1653130800-1653138000@downtownwabash.org
SUMMARY:1\,000 Days of Inclusive Play
DESCRIPTION:Friendship Hill Inclusive Playground committee is hosting a 1000 Days of Inclusive Play event on Saturday\, May 21st from 11am to 1pm to celebrate the 1000th day since the grand opening of the playground back in 2019. \nNick’s Dog Cart will be there serving hot dogs to the first 250 people thanks to the generous support of the Wabash Elks Lodge #471. \n​The public is encouraged to join this event to celebrate this amazing place that encourages people of all ages and all abilities to play together.
URL:https://downtownwabash.org/event/1000-days-of-inclusive-play/
CATEGORIES:Wabash Community Event
ATTACH;FMTTYPE=image/jpeg:https://downtownwabash.org/wp-content/uploads/Screenshot-2022-04-14-084100-0ad621e737e9cd933b7e3d3384fd15f2.jpg
END:VEVENT
BEGIN:VEVENT
DTSTART;TZID=America/Indiana/Indianapolis:20220514T080000
DTEND;TZID=America/Indiana/Indianapolis:20220514T120000
DTSTAMP:20260424T115535
CREATED:20220216T203128Z
LAST-MODIFIED:20220218T061303Z
UID:1093-1652515200-1652529600@downtownwabash.org
SUMMARY:Downtown Wabash Farmers Market
DESCRIPTION:Spend Saturdays at the Wabash Farmers Market \nStart your weekend at the Wabash Farmers Market with wholesome\, fulfilling\, locally sourced products from some of our most unique vendors in the area. \nFind handmade\, homemade & homegrown products like fresh produce\, organic meats\, homemade ice cream\, hand-poured candles & soaps\, cotton candy\, pottery\, wood & metal works and so much more. \n(All dogs are welcome!)
URL:https://downtownwabash.org/event/downtown-wabash-farmers-market/
LOCATION:Wabash\, IN\, 46992\, United States
CATEGORIES:Farmers Market
ATTACH;FMTTYPE=image/jpeg:https://downtownwabash.org/wp-content/uploads/Downtown-Wabash-Farmers-Market-19.jpg
END:VEVENT
BEGIN:VEVENT
DTSTART;TZID=America/Indiana/Indianapolis:20220511T120000
DTEND;TZID=America/Indiana/Indianapolis:20220511T130000
DTSTAMP:20260424T115535
CREATED:20220415T184946Z
LAST-MODIFIED:20220415T190158Z
UID:2245-1652270400-1652274000@downtownwabash.org
SUMMARY:Vendor Social Media Training (Intermediate)
DESCRIPTION:Farmers Market Vendor Social Media Training for Intermediates\n\nAre you a Downtown Wabash Farmers Market Vendor and wanting some tips on making your marketing the best it can be?!\n\nThe Downtown Wabash Farmers Market will host a session for social media intermediates with a focus on social media trends including social media metrics as they relate to posts\, crossposting and branding.\n\nThis Vendor Social Media Training Session is open to all vendors of the Downtown Wabash Farmers Market! Vendors are welcome to come with any and all questions for using social media to benefit their businesses on and off season.
URL:https://downtownwabash.org/event/vendor-social-media-training-intermediate/
LOCATION:Wabash\, IN\, 46992\, United States
CATEGORIES:Farmers Market
ATTACH;FMTTYPE=image/jpeg:https://downtownwabash.org/wp-content/uploads/downtown-wabash-landing.jpg
ORGANIZER;CN="Downtown Wabash":MAILTO:(260) 563-0975
END:VEVENT
BEGIN:VEVENT
DTSTART;VALUE=DATE:20220507
DTEND;VALUE=DATE:20220508
DTSTAMP:20260424T115535
CREATED:20220216T014516Z
LAST-MODIFIED:20220216T202732Z
UID:1166-1651881600-1651967999@downtownwabash.org
SUMMARY:Downtown Wabash Sidewalk Sales
DESCRIPTION:Weekend-long shopping spree on Downtown Wabash business sidewalks with great deals.
URL:https://downtownwabash.org/event/downtown-wabash-sidewalk-sales-2/
LOCATION:Wabash\, IN\, 46992\, United States
CATEGORIES:Sidewalk Sales
ATTACH;FMTTYPE=image/jpeg:https://downtownwabash.org/wp-content/uploads/Sidewalk-Sales-in-Downtown-Wabash.jpg
ORGANIZER;CN="Downtown Wabash":MAILTO:(260) 563-0975
END:VEVENT
BEGIN:VEVENT
DTSTART;TZID=America/Indiana/Indianapolis:20220506T170000
DTEND;TZID=America/Indiana/Indianapolis:20220506T200000
DTSTAMP:20260424T115535
CREATED:20220215T220359Z
LAST-MODIFIED:20220216T204617Z
UID:1073-1651856400-1651867200@downtownwabash.org
SUMMARY:Downtown Wabash First Friday
DESCRIPTION:Monthly street festival jam-packed with food trucks\, vendors\, downtown shopping and more. \nSeniors & Sidewalk Sales: Celebrate your senior in Downtown Wabash with the classic Sidewalk Sales from Downtown Wabash Businesses.
URL:https://downtownwabash.org/event/downtown-wabash-first-friday-3/
LOCATION:Wabash\, IN\, 46992\, United States
CATEGORIES:First Friday
ATTACH;FMTTYPE=image/jpeg:https://downtownwabash.org/wp-content/uploads/May-First-Friday-in-Downtown-Wabash.jpg
END:VEVENT
BEGIN:VEVENT
DTSTART;TZID=America/Indiana/Indianapolis:20220425T160000
DTEND;TZID=America/Indiana/Indianapolis:20220425T180000
DTSTAMP:20260424T115535
CREATED:20220415T183638Z
LAST-MODIFIED:20220415T190326Z
UID:2238-1650902400-1650909600@downtownwabash.org
SUMMARY:Vendor Callout Meeting
DESCRIPTION:2022 Downtown Wabash Farmers Market Callout Meeting \n\nThe Downtown Wabash Farmers Market will host an informational Vendor Callout meeting for both NEW and returning Market vendors with questions or seeking information about the 2022 Farmers Market Season. The meeting will be held Open-House style at the Downtown Wabash\, Inc. office located at 189 S. Miami St. \nVendors can stop by the office between 4-6 p.m. to meet the NEW Downtown Wabash Farmers Market Coordinator\, Carly Hawkins and learn more about the 2022 season.
URL:https://downtownwabash.org/event/vendor-callout-meeting/
LOCATION:Wabash\, IN\, 46992\, United States
CATEGORIES:Farmers Market
ATTACH;FMTTYPE=image/jpeg:https://downtownwabash.org/wp-content/uploads/IMG_5217-4.jpeg
END:VEVENT
BEGIN:VEVENT
DTSTART;TZID=America/Indiana/Indianapolis:20220401T170000
DTEND;TZID=America/Indiana/Indianapolis:20220401T200000
DTSTAMP:20260424T115535
CREATED:20220215T220359Z
LAST-MODIFIED:20220216T204630Z
UID:1072-1648832400-1648843200@downtownwabash.org
SUMMARY:Downtown Wabash First Friday
DESCRIPTION:Monthly street festival jam-packed with food trucks\, vendors\, downtown shopping and more. \nHop into Spring: Bring the kiddos to Paradise Spring Historic Park in Downtown Wabash for the annual Easter Egg Hunt on First Friday! (And keep those eyes peeled for special prized eggs around Downtown.)
URL:https://downtownwabash.org/event/downtown-wabash-first-friday-2/
LOCATION:Wabash\, IN\, 46992\, United States
CATEGORIES:First Friday
ATTACH;FMTTYPE=image/jpeg:https://downtownwabash.org/wp-content/uploads/April-First-Friday-in-Downtown-Wabash.jpg
END:VEVENT
BEGIN:VEVENT
DTSTART;TZID=America/Indiana/Indianapolis:20220304T170000
DTEND;TZID=America/Indiana/Indianapolis:20220304T200000
DTSTAMP:20260424T115535
CREATED:20220215T220359Z
LAST-MODIFIED:20220304T184647Z
UID:1071-1646413200-1646424000@downtownwabash.org
SUMMARY:Downtown Wabash First Friday
DESCRIPTION:Monthly street festival jam-packed with food trucks\, vendors\, downtown shopping and more. \nShamrock Magic: A green and lucky St. Patrick’s Day event featuring Leprechaun-Con: Where everyone is a leprechaun. Purchase matching tuxedo tees for the Downtown Wabash Leprechaun-Con Bar Crawl with green beers\, lucky cocktails and more. (Leprechaun-Con is for adults 21 and over. Drink responsibly.) \nLeprechaun-Con Bar Crawl locations include: \nJoJo’s Olfactory & Co. \nMarket Street Grill \nDowntown Wabash\, Inc. Office featuring 2Toms Brewing Company \nWine & Cheese Bar \nEagles 4th Floor Bar \nMoose Lodge 1195 \nAsh & Elm Cider Co. at the Wabash County Museum \nGallery 64 \n  \nOrder the bar crawl tee\, complementary beer & bar crawl map here.  \n\n\n\n 
URL:https://downtownwabash.org/event/downtown-wabash-first-friday/
LOCATION:Wabash\, IN\, 46992\, United States
CATEGORIES:First Friday
ATTACH;FMTTYPE=image/jpeg:https://downtownwabash.org/wp-content/uploads/March-First-Friday-in-Downtown-Wabash.jpg
END:VEVENT
END:VCALENDAR