BEGIN:VCALENDAR
VERSION:2.0
PRODID:-//Downtown Wabash, Inc. - ECPv6.15.17.1//NONSGML v1.0//EN
CALSCALE:GREGORIAN
METHOD:PUBLISH
X-ORIGINAL-URL:https://downtownwabash.org
X-WR-CALDESC:Events for Downtown Wabash, Inc.
REFRESH-INTERVAL;VALUE=DURATION:PT1H
X-Robots-Tag:noindex
X-PUBLISHED-TTL:PT1H
BEGIN:VTIMEZONE
TZID:America/Indiana/Indianapolis
BEGIN:DAYLIGHT
TZOFFSETFROM:-0500
TZOFFSETTO:-0400
TZNAME:EDT
DTSTART:20250309T070000
END:DAYLIGHT
BEGIN:STANDARD
TZOFFSETFROM:-0400
TZOFFSETTO:-0500
TZNAME:EST
DTSTART:20251102T060000
END:STANDARD
BEGIN:DAYLIGHT
TZOFFSETFROM:-0500
TZOFFSETTO:-0400
TZNAME:EDT
DTSTART:20260308T070000
END:DAYLIGHT
BEGIN:STANDARD
TZOFFSETFROM:-0400
TZOFFSETTO:-0500
TZNAME:EST
DTSTART:20261101T060000
END:STANDARD
BEGIN:DAYLIGHT
TZOFFSETFROM:-0500
TZOFFSETTO:-0400
TZNAME:EDT
DTSTART:20270314T070000
END:DAYLIGHT
BEGIN:STANDARD
TZOFFSETFROM:-0400
TZOFFSETTO:-0500
TZNAME:EST
DTSTART:20271107T060000
END:STANDARD
END:VTIMEZONE
BEGIN:VEVENT
DTSTART;TZID=America/Indiana/Indianapolis:20260107T100000
DTEND;TZID=America/Indiana/Indianapolis:20260304T110000
DTSTAMP:20260423T144356
CREATED:20251117T135238Z
LAST-MODIFIED:20251117T135238Z
UID:10163-1767780000-1772622000@downtownwabash.org
SUMMARY:Class: Homeschool Art I
DESCRIPTION:Fuel your child’s creativity in this engaging art class designed specifically for homeschool students! Through hands-on projects inspired by influential artists from history and today\, young artists will explore concepts like form\, color\, value\, and shape. This class provides a fun\, supportive environment that complements homeschool learning by encouraging imagination\, building artistic skills\, and fostering self-expression.
URL:https://downtownwabash.org/event/class-homeschool-art-i/
END:VEVENT
BEGIN:VEVENT
DTSTART;TZID=America/Indiana/Indianapolis:20260107T110000
DTEND;TZID=America/Indiana/Indianapolis:20260304T120000
DTSTAMP:20260423T144356
CREATED:20251117T135227Z
LAST-MODIFIED:20251117T135227Z
UID:10162-1767783600-1772625600@downtownwabash.org
SUMMARY:Class: Homeschool Art II
DESCRIPTION:Fuel your child’s creativity in this engaging art class designed specifically for homeschool students! Through hands-on projects inspired by influential artists from history and today\, young artists will explore concepts like form\, color\, value\, and shape. This class provides a fun\, supportive environment that complements homeschool learning by encouraging imagination\, building artistic skills\, and fostering self-expression.
URL:https://downtownwabash.org/event/class-homeschool-art-ii/
END:VEVENT
BEGIN:VEVENT
DTSTART;TZID=America/Indiana/Indianapolis:20260113T183000
DTEND;TZID=America/Indiana/Indianapolis:20260303T193000
DTSTAMP:20260423T144356
CREATED:20251117T135249Z
LAST-MODIFIED:20251117T135249Z
UID:10164-1768329000-1772566200@downtownwabash.org
SUMMARY:Theatre Arts 1.0
DESCRIPTION:Take the stage and bring stories to life! This engaging class focuses on building acting skills through games\, scenes\, and character work\, while also giving students a taste of the creative process with fun\, hands-on activities in props\, costumes\, and design. Ages 8-12 years old. Every Tuesday.
URL:https://downtownwabash.org/event/theatre-arts-10/
END:VEVENT
BEGIN:VEVENT
DTSTART;TZID=America/Indiana/Indianapolis:20260303T080000
DTEND;TZID=America/Indiana/Indianapolis:20260329T170000
DTSTAMP:20260423T144356
CREATED:20260106T153736Z
LAST-MODIFIED:20260106T153736Z
UID:10252-1772524800-1774803600@downtownwabash.org
SUMMARY:Next Generation: Youth Arts Month Exhibit
DESCRIPTION:The Youth Arts Month gallery exhibit features student artwork from across the community. Each week highlights different grade levels\, showcasing the creativity and growth of young artists at every stage. Visitors are encouraged to return often to see new displays. \nPre-K from March 3-8\nGrades 1 & 2 from March 10-15\nGrades 3 & 4 from March 17-22\nGrades 5 & 6 from March 24-29
URL:https://downtownwabash.org/event/next-generation-youth-arts-month-exhibit/
END:VEVENT
BEGIN:VEVENT
DTSTART;TZID=America/Indiana/Indianapolis:20260305T100000
DTEND;TZID=America/Indiana/Indianapolis:20260305T113000
DTSTAMP:20260423T144356
CREATED:20260206T152017Z
LAST-MODIFIED:20260206T152017Z
UID:10347-1772704800-1772710200@downtownwabash.org
SUMMARY:The Thursday Parlay: Paddling the Ohio
DESCRIPTION:Join us at the Museum for coffee and conversation then enjoy Richard Beamer as he shares about his 2001 adventure traveling by canoe more than 150 miles down the Ohio River.
URL:https://downtownwabash.org/event/the-thursday-parlay-paddling-the-ohio/
ATTACH;FMTTYPE=image/png:https://downtownwabash.org/wp-content/uploads/2026-Wix-Event-Image-Base-e6d805d28ada720701b0c40fa2e96b17.png
END:VEVENT
BEGIN:VEVENT
DTSTART;TZID=America/Indiana/Indianapolis:20260305T190000
DTEND;TZID=America/Indiana/Indianapolis:20260305T210000
DTSTAMP:20260423T144356
CREATED:20251013T171230Z
LAST-MODIFIED:20251013T171230Z
UID:9982-1772737200-1772744400@downtownwabash.org
SUMMARY:Tartan Terrors
DESCRIPTION:The Tartan Terrors are a Canadian Celtic rock band with nearly 30 years of high-energy performances across North America and beyond. Blending traditional Celtic music\, original songs\, and spirited step dancing with modern rock flair\, their shows deliver a crowd-rousing “Celtic Invasion.” Recent albums Here’s to Tonight (2022) and On the Road Live (2025) showcase their signature sound and vibrant stage presence.
URL:https://downtownwabash.org/event/tartan-terrors/
END:VEVENT
BEGIN:VEVENT
DTSTART;TZID=America/Indiana/Indianapolis:20260307T190000
DTEND;TZID=America/Indiana/Indianapolis:20260307T220000
DTSTAMP:20260423T144356
CREATED:20260223T161719Z
LAST-MODIFIED:20260223T161719Z
UID:10427-1772910000-1772920800@downtownwabash.org
SUMMARY:Ingalls & Rio Duo
DESCRIPTION:Carly Ingalls is a versatile jazz\, contemporary\, and classical pianist\, while Renata Rio is a versatile powerhouse. Both local to Fort Wayne\, IN\, they have been pleasing audiences with combined decades of experience\, sharing an equal passion for music!\nJoin us at Green Hat Lounge for an unforgettable evening of live music with friends!
URL:https://downtownwabash.org/event/ingalls-rio-duo/
END:VEVENT
BEGIN:VEVENT
DTSTART;TZID=America/Indiana/Indianapolis:20260307T193000
DTEND;TZID=America/Indiana/Indianapolis:20260307T213000
DTSTAMP:20260423T144356
CREATED:20260106T153836Z
LAST-MODIFIED:20260106T153836Z
UID:10256-1772911800-1772919000@downtownwabash.org
SUMMARY:Unspoken
DESCRIPTION:Unspoken\, led by Chad Mattson and featuring Jon Lowry\, Ariel Munoz\, Zach Smith\, and Matthew Callaway\, celebrates faith and the believer’s journey\, embodying their desire to speak what often goes unspoken. With their songs like “Who You Are\, “Lift Up My Life\,” and “Good Fight\,” their music is as distinct as its roots and offers encouragement and redemption.
URL:https://downtownwabash.org/event/unspoken-2/
END:VEVENT
BEGIN:VEVENT
DTSTART;TZID=America/Indiana/Indianapolis:20260313T180000
DTEND;TZID=America/Indiana/Indianapolis:20260313T200000
DTSTAMP:20260423T144356
CREATED:20260211T134536Z
LAST-MODIFIED:20260211T134536Z
UID:10372-1773424800-1773432000@downtownwabash.org
SUMMARY:A Night at the Wabash Museum
DESCRIPTION:This year\, the Museum launches its first-ever Members-Only event! Step into A Night at the Wabash Museum on Friday\, March 13th\, where history literally comes to life. Explore the exhibits after hours and uncover the mystery waiting to be discovered!
URL:https://downtownwabash.org/event/a-night-at-the-wabash-museum/
ATTACH;FMTTYPE=image/png:https://downtownwabash.org/wp-content/uploads/2026-Wix-Event-Image-Base-2-c61111260ff960b89ecdf27f62255ed5.png
END:VEVENT
BEGIN:VEVENT
DTSTART;TZID=America/Indiana/Indianapolis:20260313T180000
DTEND;TZID=America/Indiana/Indianapolis:20260313T210000
DTSTAMP:20260423T144356
CREATED:20260106T153619Z
LAST-MODIFIED:20260106T153619Z
UID:10245-1773424800-1773435600@downtownwabash.org
SUMMARY:Workshop: Stained Glass\, Beginner
DESCRIPTION:Create a beautiful piece of art using stained glass techniques. You’ll learn how to score\, break\, and shape colorful pieces of glass to create a beautiful decorative item. Students will be able to select from two designs. A variety of color options will be available. \nAll supplies will be provided.
URL:https://downtownwabash.org/event/workshop-stained-glass-beginner-3/
END:VEVENT
BEGIN:VEVENT
DTSTART;TZID=America/Indiana/Indianapolis:20260314T100000
DTEND;TZID=America/Indiana/Indianapolis:20260314T130000
DTSTAMP:20260423T144356
CREATED:20260106T153629Z
LAST-MODIFIED:20260106T153629Z
UID:10246-1773482400-1773493200@downtownwabash.org
SUMMARY:Workshop: Stained Glass\, Beginner
DESCRIPTION:Create a beautiful piece of art using stained glass techniques. You’ll learn how to score\, break\, and shape colorful pieces of glass to create a beautiful decorative item. Students will be able to select from two designs. A variety of color options will be available. \nAll supplies will be provided.
URL:https://downtownwabash.org/event/workshop-stained-glass-beginner-3/
END:VEVENT
BEGIN:VEVENT
DTSTART;TZID=America/Indiana/Indianapolis:20260314T190000
DTEND;TZID=America/Indiana/Indianapolis:20260314T220000
DTSTAMP:20260423T144356
CREATED:20260223T161739Z
LAST-MODIFIED:20260223T161739Z
UID:10428-1773514800-1773525600@downtownwabash.org
SUMMARY:Kyle Johnson
DESCRIPTION:With over 20 years of performing experience\, Kyle Johnson is a seasoned musician from Peru and Indianapolis\, delivering an acoustic sound that blends timeless hits from the 1960s with today’s chart-toppers. He has opened for nationally acclaimed acts at the Ruoff Music Center and performed at the Honeywell Center\, captivating audiences with soulful interpretations that fuse nostalgia and modern flair.\nJoin us at Green Hat Lounge for an unforgettable evening of live music with friends!
URL:https://downtownwabash.org/event/kyle-johnson-2/
END:VEVENT
BEGIN:VEVENT
DTSTART;TZID=America/Indiana/Indianapolis:20260314T193000
DTEND;TZID=America/Indiana/Indianapolis:20260314T213000
DTSTAMP:20260423T144356
CREATED:20251013T171301Z
LAST-MODIFIED:20251013T171301Z
UID:9986-1773516600-1773523800@downtownwabash.org
SUMMARY:The Phil Collins Experience
DESCRIPTION:The Phil Collins Experience is a dynamic multi-media production that pays tribute to the legendary music of Phil Collins and Genesis\, captivating audiences with its faithful recreation of the sights\, sounds\, and emotions of Collins’ iconic performances. Known as the most authentic Phil Collins tribute in the United States\, the show transports fans back to the golden era with hits like In the Air Tonight\, Against All Odds\, Another Day in Paradise\, and more.
URL:https://downtownwabash.org/event/the-phil-collins-experience/
END:VEVENT
BEGIN:VEVENT
DTSTART;TZID=America/Indiana/Indianapolis:20260318T090000
DTEND;TZID=America/Indiana/Indianapolis:20260318T100000
DTSTAMP:20260423T144356
CREATED:20260206T151818Z
LAST-MODIFIED:20260206T151818Z
UID:10339-1773824400-1773828000@downtownwabash.org
SUMMARY:Sensory Story Hour
DESCRIPTION:On the third Wednesday of every month\, the Museum will dim the lights and sounds to host a sensory-focused experience from 9AM to 10AM.
URL:https://downtownwabash.org/event/sensory-story-hour/
ATTACH;FMTTYPE=image/png:https://downtownwabash.org/wp-content/uploads/2025-Wix-Event-Image-Base-21-c26685e5f54ab588a3d5689eb81b614b.png
END:VEVENT
BEGIN:VEVENT
DTSTART;TZID=America/Indiana/Indianapolis:20260318T090000
DTEND;TZID=America/Indiana/Indianapolis:20260318T100000
DTSTAMP:20260423T144356
CREATED:20260206T151918Z
LAST-MODIFIED:20260206T151918Z
UID:10337-1773824400-1773828000@downtownwabash.org
SUMMARY:Sensory Story Hour
DESCRIPTION:On the third Wednesday of every month\, the Museum will dim the lights and sounds to host a sensory-focused experience from 9AM to 10AM.
URL:https://downtownwabash.org/event/sensory-story-hour/
ATTACH;FMTTYPE=image/png:https://downtownwabash.org/wp-content/uploads/2025-Wix-Event-Image-Base-21-c450ba04332a9c30e5e764d1d106dc0e.png
END:VEVENT
BEGIN:VEVENT
DTSTART;TZID=America/Indiana/Indianapolis:20260318T190000
DTEND;TZID=America/Indiana/Indianapolis:20260318T210000
DTSTAMP:20260423T144356
CREATED:20251203T192747Z
LAST-MODIFIED:20251203T192747Z
UID:10206-1773860400-1773867600@downtownwabash.org
SUMMARY:The Very Best of Billy Ocean
DESCRIPTION:Billy Ocean has sold over 30 million records worldwide. With a GRAMMY Award and iconic hits including “Caribbean Queen\,” “Get Outta My Dreams\, Get Into My Car\,” and “When the Going Gets Tough\,” Ocean brings decades of chart-topping success to the stage. His career includes Gold and Platinum records across the globe and sold-out tours spanning the United Kingdom\, Europe\, North America\, Australia\, Africa\, and more.
URL:https://downtownwabash.org/event/the-very-best-of-billy-ocean/
END:VEVENT
BEGIN:VEVENT
DTSTART;TZID=America/Indiana/Indianapolis:20260319T100000
DTEND;TZID=America/Indiana/Indianapolis:20260417T170000
DTSTAMP:20260423T144356
CREATED:20260403T225133Z
LAST-MODIFIED:20260403T225133Z
UID:10583-1773914400-1776445200@downtownwabash.org
SUMMARY:Spring Swing: Pop-Up Mini Golf
DESCRIPTION:This March and April\, we will have an exciting 9-hole regulation miniature golf course set up throughout the beautifully spring-decorated Museum! The perfect activity if you’re home for Spring Break!
URL:https://downtownwabash.org/event/spring-swing-pop-up-mini-golf/
ATTACH;FMTTYPE=image/png:https://downtownwabash.org/wp-content/uploads/2026-Wix-Event-Image-Base-3-fe828f7688a45e938e96ab6b53cf6b83.png
END:VEVENT
BEGIN:VEVENT
DTSTART;TZID=America/Indiana/Indianapolis:20260319T190000
DTEND;TZID=America/Indiana/Indianapolis:20260319T210000
DTSTAMP:20260423T144356
CREATED:20251013T171312Z
LAST-MODIFIED:20251013T171312Z
UID:9987-1773946800-1773954000@downtownwabash.org
SUMMARY:Sweet Dreams: Mandy Barnett Sings Patsy Cline
DESCRIPTION:Called the “Nashville Sound Chanteuse” (MusicRow) and “the Judy Garland of our time” (American Songwriter)\, Grand Ole Opry member Mandy Barnett is celebrated for her commanding voice and devotion to classic country. She brings Patsy Cline’s timeless hits like “Crazy”\, “I Fall to Pieces”\, and “Sweet Dreams” to life\, delivering an unforgettable evening of torch songs and country classics for fans old and new.
URL:https://downtownwabash.org/event/sweet-dreams-mandy-barnett-sings-patsy-cline/
END:VEVENT
BEGIN:VEVENT
DTSTART;TZID=America/Indiana/Indianapolis:20260319T190000
DTEND;TZID=America/Indiana/Indianapolis:20260319T210000
DTSTAMP:20260423T144356
CREATED:20260106T153847Z
LAST-MODIFIED:20260106T153847Z
UID:10257-1773946800-1773954000@downtownwabash.org
SUMMARY:EVERCLEAR
DESCRIPTION:Everclear\, led by founder\, vocalist\, and guitarist Art Alexakis\, is one of the defining alternative rock bands of the ’90s. With 11 studio albums\, including multiple Gold- and Platinum-certified releases\, and 12 Top 40 hits like “Santa Monica” and “Father of Mine\,” the band has sold over six million records. Everclear continues to tour and record\, bringing the band’s enduring catalog and new music to fans worldwide.
URL:https://downtownwabash.org/event/everclear/
END:VEVENT
BEGIN:VEVENT
DTSTART;TZID=America/Indiana/Indianapolis:20260320T193000
DTEND;TZID=America/Indiana/Indianapolis:20260320T213000
DTSTAMP:20260423T144356
CREATED:20251203T192739Z
LAST-MODIFIED:20251203T192739Z
UID:10205-1774035000-1774042200@downtownwabash.org
SUMMARY:Bored Teachers: “Is It Friday Yet?!” Comedy Tour
DESCRIPTION:They’ve graded the papers\, survived the staff meetings\, and lost their last ounce of patience\, and now they’re taking it out on stage! Bored Teachers is back with brand-new jokes\, bigger laughs\, and the most relatable teacher comedy you’ll ever hear. Their brand new tour\, “Is It Friday Yet?!\,” is more than a comedy show; it’s the ultimate night of laughter and solidarity for anyone who’s ever worked in education\, taught a lesson\, or just survived parent-teacher conferences. Please note this performance may contain PG-13 language.
URL:https://downtownwabash.org/event/bored-teachers-is-it-friday-yet-comedy-tour/
END:VEVENT
BEGIN:VEVENT
DTSTART;TZID=America/Indiana/Indianapolis:20260321T190000
DTEND;TZID=America/Indiana/Indianapolis:20260321T220000
DTSTAMP:20260423T144356
CREATED:20260319T122513Z
LAST-MODIFIED:20260319T122513Z
UID:10467-1774119600-1774130400@downtownwabash.org
SUMMARY:Chris Rutkowski
DESCRIPTION:Jazz pianist Chris Rutkowski has enjoyed several careers over a lifetime in music. Beginning as a self-taught improviser\, he digressed into the study of philosophy at Kings College London. He returned to Detroit\, immersed in its rich jazz world\, working with trumpeter Marcus Belgrave\, The Temptations\, etc. He also began writing classical music\, studying with Aaron Copland student Anthony Iannaccone\, subsequently pursuing graduate work at Indiana University. There followed a 20-year period of academic musical appointments at institutions such as the College of Wooster and Indiana-Purdue Fort Wayne. Currently he devotes his time to jazz piano performance with his band\, the Project (watch/listen at CRPJazz.com)\, focused on his original compositions. Performance venues include the Detroit\, Elkhart\, Indianapolis and Carmel Jazz Festivals; the Jazz Kitchen\, Baker’s Keyboard Lounge (Detroit)\, the Chatterbox\, Penrod Art Fair\, Concerts on the Canal (Indianapolis) and many more.
URL:https://downtownwabash.org/event/chris-rutkowski-2/
END:VEVENT
BEGIN:VEVENT
DTSTART;TZID=America/Indiana/Indianapolis:20260321T193000
DTEND;TZID=America/Indiana/Indianapolis:20260321T213000
DTSTAMP:20260423T144356
CREATED:20251013T171323Z
LAST-MODIFIED:20251013T171323Z
UID:9988-1774121400-1774128600@downtownwabash.org
SUMMARY:Canadian Brass
DESCRIPTION:With an international reputation as one of today’s most popular brass ensembles\, Canadian Brass has earned distinction as the world’s most famous brass group. Masters of engaging concerts\, they perform everything from Baroque\, Dixieland\, and classical masters to jazz\, ballet\, opera\, and original arrangements. With over 135 albums\, GRAMMY and Juno nominations\, and appearances from Carnegie Hall to The Tonight Show\, Canadian Brass delivers performances that delight audiences of all ages.
URL:https://downtownwabash.org/event/canadian-brass/
END:VEVENT
BEGIN:VEVENT
DTSTART;TZID=America/Indiana/Indianapolis:20260322T180000
DTEND;TZID=America/Indiana/Indianapolis:20260322T200000
DTSTAMP:20260423T144356
CREATED:20260106T153857Z
LAST-MODIFIED:20260106T153857Z
UID:10258-1774202400-1774209600@downtownwabash.org
SUMMARY:Cochren & Co.
DESCRIPTION:Cochren & Co.\, led by Indiana singer-songwriter Michael Cochren\, blends hope-filled lyrics with pop\, rock\, and soul influences to create a sound that’s both familiar and fresh. Their debut album produced multiple Billboard Top 10 hits\, including the Gold-certified “Church (Take Me Back)\,” followed by their first No. 1 radio single\, “Running Home.” They’ve performed at iconic venues nationwide and continue to tour while preparing new music\, including the upcoming album\, Runs in the Blood.
URL:https://downtownwabash.org/event/cochren-co/
END:VEVENT
BEGIN:VEVENT
DTSTART;TZID=America/Indiana/Indianapolis:20260326T173000
DTEND;TZID=America/Indiana/Indianapolis:20260326T200000
DTSTAMP:20260423T144356
CREATED:20260319T122720Z
LAST-MODIFIED:20260319T122720Z
UID:10468-1774546200-1774555200@downtownwabash.org
SUMMARY:Open Mic Night
DESCRIPTION:Debut your original music or perform a favorite cover song on the stage in the Eagles Theatre Ballroom. Invite your family and friends to and enjoy a casual evening of live music. All ages and abilities are welcome! \n• Sign up begins at 5:30 pm – first come\, first served\n• Maximum three songs per person\n• Keyboard\, guitar amp\, and PA provided (microphone/direct box)\n• Perform live or with a track recording (bring CD/Phone)\n• Family-friendly please!
URL:https://downtownwabash.org/event/open-mic-night-4/
END:VEVENT
BEGIN:VEVENT
DTSTART;TZID=America/Indiana/Indianapolis:20260327T193000
DTEND;TZID=America/Indiana/Indianapolis:20260327T213000
DTSTAMP:20260423T144356
CREATED:20251013T171343Z
LAST-MODIFIED:20251013T171343Z
UID:9990-1774639800-1774647000@downtownwabash.org
SUMMARY:The Ultimate Doors
DESCRIPTION:With great attention to detail\, The Ultimate Doors provides audiences with an authentic-looking and sounding tribute to Jim Morrison & The Doors. From Morrison’s leather outfits all the way down to the color of the microphone cable\, The Ultimate Doors leaves no stone unturned in presenting an authentic tribute show for old and new generations of Doors fans.
URL:https://downtownwabash.org/event/the-ultimate-doors-2/
END:VEVENT
BEGIN:VEVENT
DTSTART;TZID=America/Indiana/Indianapolis:20260327T193000
DTEND;TZID=America/Indiana/Indianapolis:20260327T213000
DTSTAMP:20260423T144356
CREATED:20251203T192855Z
LAST-MODIFIED:20251203T192855Z
UID:10213-1774639800-1774647000@downtownwabash.org
SUMMARY:Sam Bush: With Special Guest Debutants
DESCRIPTION:Sam Bush has spent over five decades redefining bluegrass. From teen fiddler and three-time national champion to co-founding the band New Grass Revival\, Bush blends jazz\, rock ‘n’ roll\, and improvisation to create the newgrass movement. A collaborator with Leon Russell\, Emmylou Harris\, Bela Fleck\, and more\, he continues to shape the genre. With seven solo albums and festival performances\, Bush remains a true master of his craft.\nDebutants is a high-energy string band with eclectic influences and a penchant for playing anything they feel. Dancing between songs and styles of old and new\, this fun-loving collective dazzles with impressive musicianship\, earnest songwriting\, and dynamic live performances.
URL:https://downtownwabash.org/event/sam-bush-with-special-guest-debutants/
END:VEVENT
BEGIN:VEVENT
DTSTART;TZID=America/Indiana/Indianapolis:20260328T090000
DTEND;TZID=America/Indiana/Indianapolis:20260328T130000
DTSTAMP:20260423T144356
CREATED:20260106T153640Z
LAST-MODIFIED:20260106T153640Z
UID:10247-1774688400-1774702800@downtownwabash.org
SUMMARY:Workshop: Stained Glass\, Beginner II
DESCRIPTION:Create a beautiful piece of art using stained glass techniques. Build on your stained glass skills with this 3D design to create a beautiful decorative item. Students will be able to select one of the three designs\, hummingbird\, butterfly\, or cardinal. \nAll supplies will be provided.
URL:https://downtownwabash.org/event/workshop-stained-glass-beginner-ii-2/
END:VEVENT
BEGIN:VEVENT
DTSTART;TZID=America/Indiana/Indianapolis:20260328T190000
DTEND;TZID=America/Indiana/Indianapolis:20260328T220000
DTSTAMP:20260423T144356
CREATED:20260403T225146Z
LAST-MODIFIED:20260403T225146Z
UID:10584-1774724400-1774735200@downtownwabash.org
SUMMARY:Hey Hera
DESCRIPTION:Aleena York is a powerful Jazz and R&B vocalist; and Carly Ingalls is a versatile Jazz\, Contemporary\, and Classical pianist. Together they make up Hey Hera\, a Fort Wayne\, IN duo that covers a variety of hits from the last 100 years with their own Pop/R&B flair.
URL:https://downtownwabash.org/event/hey-hera/
END:VEVENT
BEGIN:VEVENT
DTSTART;TZID=America/Indiana/Indianapolis:20260328T193000
DTEND;TZID=America/Indiana/Indianapolis:20260328T213000
DTSTAMP:20260423T144356
CREATED:20251013T171054Z
LAST-MODIFIED:20251013T171054Z
UID:9973-1774726200-1774733400@downtownwabash.org
SUMMARY:Under the Streetlamp
DESCRIPTION:Featuring former stars of the hit musical Jersey Boys\, Under the Streetlamp is an electrifying ensemble of Broadway luminaries and world-class musicians who light up the night with an unforgettable blend of classic doo-wop\, Motown\, and rock ‘n’ roll hits. Streetlamp is powered by a decade-long legacy of dazzling audiences worldwide with smooth harmonies\, thrilling choreography\, and soul-touching music and stories. Streetlamp features a collection of hits by Frankie Valli and the Four Seasons\, The Beach Boys\, Elvis\, and more.
URL:https://downtownwabash.org/event/under-the-streetlamp/
END:VEVENT
BEGIN:VEVENT
DTSTART;TZID=America/Indiana/Indianapolis:20260328T193000
DTEND;TZID=America/Indiana/Indianapolis:20260328T213000
DTSTAMP:20260423T144356
CREATED:20251203T192703Z
LAST-MODIFIED:20251203T192703Z
UID:10202-1774726200-1774733400@downtownwabash.org
SUMMARY:Yesterday and Today: The Interactive Beatles Experience
DESCRIPTION:Yesterday and Today: The Interactive Beatles Experience isn’t just a tribute show; it’s an unforgettable\, audience-driven journey. The performance lets fans select the setlist and share personal stories tied to favorites like “Hey Jude\,” “Let It Be\,” “Come Together\,” and more. The band blends these memories with their own\, creating a unique experience every show. With sold-out shows nationwide and award-winning acclaim\, each performance celebrates music\, connection\, and the timeless magic of The Beatles.
URL:https://downtownwabash.org/event/yesterday-and-today-the-interactive-beatles-experience/
END:VEVENT
END:VCALENDAR