BEGIN:VCALENDAR
VERSION:2.0
PRODID:-//Downtown Wabash, Inc. - ECPv6.15.17.1//NONSGML v1.0//EN
CALSCALE:GREGORIAN
METHOD:PUBLISH
X-WR-CALNAME:Downtown Wabash, Inc.
X-ORIGINAL-URL:https://downtownwabash.org
X-WR-CALDESC:Events for Downtown Wabash, Inc.
REFRESH-INTERVAL;VALUE=DURATION:PT1H
X-Robots-Tag:noindex
X-PUBLISHED-TTL:PT1H
BEGIN:VTIMEZONE
TZID:America/Indiana/Indianapolis
BEGIN:DAYLIGHT
TZOFFSETFROM:-0500
TZOFFSETTO:-0400
TZNAME:EDT
DTSTART:20210314T070000
END:DAYLIGHT
BEGIN:STANDARD
TZOFFSETFROM:-0400
TZOFFSETTO:-0500
TZNAME:EST
DTSTART:20211107T060000
END:STANDARD
BEGIN:DAYLIGHT
TZOFFSETFROM:-0500
TZOFFSETTO:-0400
TZNAME:EDT
DTSTART:20220313T070000
END:DAYLIGHT
BEGIN:STANDARD
TZOFFSETFROM:-0400
TZOFFSETTO:-0500
TZNAME:EST
DTSTART:20221106T060000
END:STANDARD
BEGIN:DAYLIGHT
TZOFFSETFROM:-0500
TZOFFSETTO:-0400
TZNAME:EDT
DTSTART:20230312T070000
END:DAYLIGHT
BEGIN:STANDARD
TZOFFSETFROM:-0400
TZOFFSETTO:-0500
TZNAME:EST
DTSTART:20231105T060000
END:STANDARD
END:VTIMEZONE
BEGIN:VEVENT
DTSTART;TZID=America/Indiana/Indianapolis:20220801T130000
DTEND;TZID=America/Indiana/Indianapolis:20220801T143000
DTSTAMP:20260423T183126
CREATED:20220527T200057Z
LAST-MODIFIED:20220601T150421Z
UID:2874-1659358800-1659364200@downtownwabash.org
SUMMARY:Scoob!
DESCRIPTION:With hundreds of cases solved and adventures shared\, Scooby and the gang face their biggest\, most challenging mystery ever — a plot to unleash the ghost dog Cerberus upon the world. As they race to stop this global dog-pocalypse\, the gang discovers that Scooby has a secret legacy and an epic destiny greater than anyone could have imagined. \nThere is also a Sensory-Friendly version playing at the same time downstairs in the Ferguson Theatre!
URL:https://downtownwabash.org/event/scoob/
CATEGORIES:Wabash Community Event
ATTACH;FMTTYPE=image/jpeg:https://downtownwabash.org/wp-content/uploads/EaglesTheatre-ed8d1a75508191e3f58749ed0a8f3467.jpg
END:VEVENT
BEGIN:VEVENT
DTSTART;TZID=America/Indiana/Indianapolis:20220801T190000
DTEND;TZID=America/Indiana/Indianapolis:20220801T203000
DTSTAMP:20260423T183126
CREATED:20220527T200229Z
LAST-MODIFIED:20220601T150428Z
UID:2875-1659380400-1659385800@downtownwabash.org
SUMMARY:Scoob!
DESCRIPTION:With hundreds of cases solved and adventures shared\, Scooby and the gang face their biggest\, most challenging mystery ever — a plot to unleash the ghost dog Cerberus upon the world. As they race to stop this global dog-pocalypse\, the gang discovers that Scooby has a secret legacy and an epic destiny greater than anyone could have imagined. \nThere is also a Sensory-Friendly version playing at the same time downstairs in the Ferguson Theatre!
URL:https://downtownwabash.org/event/scoob/
CATEGORIES:Wabash Community Event
END:VEVENT
BEGIN:VEVENT
DTSTART;TZID=America/Indiana/Indianapolis:20220803T090000
DTEND;TZID=America/Indiana/Indianapolis:20220803T100000
DTSTAMP:20260423T183126
CREATED:20220216T012333Z
LAST-MODIFIED:20220216T204139Z
UID:1141-1659517200-1659520800@downtownwabash.org
SUMMARY:Downtown Wabash Merchant Meetings
DESCRIPTION:The monthly meeting held every first Wednesday for all small businesses in Downtown Wabash to stay current with information from Downtown Wabash\, Inc.
URL:https://downtownwabash.org/event/downtown-wabash-merchant-meetings-6/
LOCATION:Wabash\, IN\, 46992\, United States
CATEGORIES:Merchant Meetings
ATTACH;FMTTYPE=image/jpeg:https://downtownwabash.org/wp-content/uploads/Merchant-Meetings-in-Downtown-Wabash-14.jpg
END:VEVENT
BEGIN:VEVENT
DTSTART;TZID=America/Indiana/Indianapolis:20220803T170000
DTEND;TZID=America/Indiana/Indianapolis:20220803T210000
DTSTAMP:20260423T183126
CREATED:20220706T155105Z
LAST-MODIFIED:20220706T200518Z
UID:3214-1659546000-1659560400@downtownwabash.org
SUMMARY:Wine Down Wednesday
DESCRIPTION:Come to Market Street Grill on the first Wednesday of every month for ~ WINE DOWN WEDNESDAY ~ to get half off select bottles of wine during our dinner hours\, 5-9 pm! 🍷 \n👇 HALF OFF bottles 👇 \nRed\n▪ Sweet Blend\, Gioielli….$10.50 (orig. $21)\n▪ Zinfandel\, Lapis Luna…..$13 (orig. $26)\n▪ Cabernet\, Dell’Italia…..$14 (orig. $28)\n▪ Merlot\, Dell’Italia…..$14 (orig. $28) \nWhite\n▪ Chardonnay\, Lapis Luna…..$12 (orig. $24)\n▪ Sparkling\, Prosecco…..$12.50 (orig. $25)\n▪ Sauvignon Blanc\, Babich…..$13 (orig. $26)\n▪ Moscato\, Bricco Riella…..$16 (orig. $32) \n…relax\, sip\, & enjoy 🥂
URL:https://downtownwabash.org/event/wine-down-wednesday/
CATEGORIES:Wabash Community Event
ATTACH;FMTTYPE=image/png:https://downtownwabash.org/wp-content/uploads/Downtown-Wabash-Event-Submit-09f1083fc3616d7e792ca00e5ebcadf8.png
END:VEVENT
BEGIN:VEVENT
DTSTART;TZID=America/Indiana/Indianapolis:20220804T193000
DTEND;TZID=America/Indiana/Indianapolis:20220804T213000
DTSTAMP:20260423T183126
CREATED:20220428T154444Z
LAST-MODIFIED:20220509T182733Z
UID:2307-1659641400-1659648600@downtownwabash.org
SUMMARY:The Karens
DESCRIPTION:At a time when we occasionally cross paths with insolent “Karens\,” it’s nice to know that some good Karens exist. Comedians Karen Mills and Karen Morgan join together to bring you an evening of comedy filled with lots of laughter and zero toxic behavior. Unlike the other “Karens” in the news\, these Karens are funny (not fractious)\, intelligent (not ignorant)\, and affable (not angry). They bring a different and hilarious point of view to this clever and clean comedy show.
URL:https://downtownwabash.org/event/the-karens/
LOCATION:Wabash\, IN\, 46992\, United States
CATEGORIES:Wabash Community Event
ATTACH;FMTTYPE=image/jpeg:https://downtownwabash.org/wp-content/uploads/EaglesTheatre-276bc100af231e7cbf893448df7ed18b.jpg
END:VEVENT
BEGIN:VEVENT
DTSTART;TZID=America/Indiana/Indianapolis:20220805T170000
DTEND;TZID=America/Indiana/Indianapolis:20220805T200000
DTSTAMP:20260423T183126
CREATED:20220215T220359Z
LAST-MODIFIED:20220804T180514Z
UID:1076-1659718800-1659729600@downtownwabash.org
SUMMARY:Downtown Wabash First Friday
DESCRIPTION:Monthly street festival jam-packed with food trucks\, vendors\, downtown shopping and more. \nBack-to-School Bash: The school year may be approaching but summer isn’t over! End the summer in Downtown Wabash with the classic jam-packed\, family-friendly First Friday event focused on teachers and students. \nEnjoy a free concert\, ‘Prevent\, Recover & Rock Together!’ on Miami Street\, presented by Grace Fellowship Church\, area churches\, private donations and the Wabash County Drug Prevention Coalition Committee. \n\n5-8 p.m.: ‘Prevent\, Recover & Rock Together’ performances by Nicky Gracious and 2:8 Ministries will be on Miami Street\n7-9 p.m.: Vendor booths will be inside the Eagles Theatre lobby \n7-8:30 p.m.: Special guest Billy Ballenger will share his recovery story in music at Eagles Theatre\n8:30-9 p.m.: Meet-and-Greet with Billy Ballenger\, Cody Knuckles & John Humphries\n\nIn addition to live music on Miami Street\, First Friday will span the entire downtown district with kid-friendly activities\, vendors and food trucks at Paradise Spring Historical Park\, boutique shopping specials throughout\, free rides on Trolley No. 85 provided by Beacon Credit Union\, more food trucks throughout downtown and drinks and dining specials in local restaurants. \n​Downtown Wabash First Fridays in 2022 are sponsored by Crossroads Bank\, Beacon Credit Union\, 95.9 KISS FM\, Wabash County Museum and Pettit Printing.
URL:https://downtownwabash.org/event/downtown-wabash-first-friday-6/
LOCATION:Wabash\, IN\, 46992\, United States
CATEGORIES:First Friday
ATTACH;FMTTYPE=image/jpeg:https://downtownwabash.org/wp-content/uploads/August-First-Friday-in-Downtown-Wabash.jpg
END:VEVENT
BEGIN:VEVENT
DTSTART;TZID=America/Indiana/Indianapolis:20220805T213000
DTEND;TZID=America/Indiana/Indianapolis:20220805T230000
DTSTAMP:20260423T183126
CREATED:20220525T180821Z
LAST-MODIFIED:20220526T204848Z
UID:2796-1659735000-1659740400@downtownwabash.org
SUMMARY:Forrest Gump
DESCRIPTION:The presidencies of Kennedy and Johnson\, Vietnam\, Watergate\, and other history unfold through the perspective of an Alabama man with an IQ of 75.
URL:https://downtownwabash.org/event/forrest-gump/
CATEGORIES:Wabash Community Event
ATTACH;FMTTYPE=image/jpeg:https://downtownwabash.org/wp-content/uploads/DriveIn-48f14086c2b779713e21ee17b36e69c9.jpg
END:VEVENT
BEGIN:VEVENT
DTSTART;TZID=America/Indiana/Indianapolis:20220806T080000
DTEND;TZID=America/Indiana/Indianapolis:20220806T120000
DTSTAMP:20260423T183126
CREATED:20220216T203128Z
LAST-MODIFIED:20220218T061612Z
UID:1353-1659772800-1659787200@downtownwabash.org
SUMMARY:Downtown Wabash Farmers Market
DESCRIPTION:Spend Saturdays at the Wabash Farmers Market \nStart your weekend at the Wabash Farmers Market with wholesome\, fulfilling\, locally sourced products from some of our most unique vendors in the area. \nFind handmade\, homemade & homegrown products like fresh produce\, organic meats\, homemade ice cream\, hand-poured candles & soaps\, cotton candy\, pottery\, wood & metal works and so much more. \n(All dogs are welcome!)
URL:https://downtownwabash.org/event/downtown-wabash-farmers-market-2022-08-06/
LOCATION:Wabash\, IN\, 46992\, United States
CATEGORIES:Farmers Market
ATTACH;FMTTYPE=image/jpeg:https://downtownwabash.org/wp-content/uploads/Downtown-Wabash-Farmers-Market-19.jpg
END:VEVENT
BEGIN:VEVENT
DTSTART;TZID=America/Indiana/Indianapolis:20220806T193000
DTEND;TZID=America/Indiana/Indianapolis:20220806T213000
DTSTAMP:20260423T183126
CREATED:20220428T154533Z
LAST-MODIFIED:20220509T182726Z
UID:2309-1659814200-1659821400@downtownwabash.org
SUMMARY:Jim Breuer
DESCRIPTION:Freewheeling\, comic storyteller Jim Breuer made the list of Comedy Central’s 100 Greatest Standups of all time. After being a Saturday Night Live regular in the late 90s\, Breuer went on to garner a successful touring standup career\, became a regular on The Howard Stern Show\, and currently hosts The Jim Breuer Podcast. For mature audiences.
URL:https://downtownwabash.org/event/jim-breuer/
LOCATION:Wabash\, IN\, 46992\, United States
CATEGORIES:Wabash Community Event
ATTACH;FMTTYPE=image/jpeg:https://downtownwabash.org/wp-content/uploads/HC-Ford-Theater-d72743a7c4a1469572609111385c4c53.jpg
END:VEVENT
BEGIN:VEVENT
DTSTART;TZID=America/Indiana/Indianapolis:20220806T213000
DTEND;TZID=America/Indiana/Indianapolis:20220806T230000
DTSTAMP:20260423T183126
CREATED:20220525T183008Z
LAST-MODIFIED:20220526T204855Z
UID:2798-1659821400-1659826800@downtownwabash.org
SUMMARY:The Land Before Time
DESCRIPTION:An orphaned brontosaurus teams up with other young dinosaurs in order to reunite with their families in a valley.
URL:https://downtownwabash.org/event/the-land-before-time/
CATEGORIES:Wabash Community Event
ATTACH;FMTTYPE=image/jpeg:https://downtownwabash.org/wp-content/uploads/DriveIn-cab6617965f0d527f2f6e3e0594055ff.jpg
END:VEVENT
BEGIN:VEVENT
DTSTART;TZID=America/Indiana/Indianapolis:20220807T183000
DTEND;TZID=America/Indiana/Indianapolis:20220807T203000
DTSTAMP:20260423T183126
CREATED:20220615T130557Z
LAST-MODIFIED:20220615T140456Z
UID:3087-1659897000-1659904200@downtownwabash.org
SUMMARY:Indiana Wind Symphony
DESCRIPTION:The Indiana Wind Symphony is a 75-piece concert band that is a resident ensemble at the Palladium in Carmel\, IN. The group will play a mix of works including circus selections\, John Philip Sousa\, a modern band masterpiece called “Blue Shades\,” and music by Hoosier composer Hoagy Carmichael. The concert will include local touches such as “Wabash Moon” and “Bluffton Street Fair March.”
URL:https://downtownwabash.org/event/indiana-wind-symphony/
CATEGORIES:Wabash Community Event
ATTACH;FMTTYPE=image/jpeg:https://downtownwabash.org/wp-content/uploads/HC-Ford-Theater-e1513f297278e18e9a179839d0e89b69.jpg
END:VEVENT
BEGIN:VEVENT
DTSTART;TZID=America/Indiana/Indianapolis:20220808T130000
DTEND;TZID=America/Indiana/Indianapolis:20220808T143000
DTSTAMP:20260423T183126
CREATED:20220527T200610Z
LAST-MODIFIED:20220601T150436Z
UID:2877-1659963600-1659969000@downtownwabash.org
SUMMARY:Spirit Untamed
DESCRIPTION:After moving to a sleepy little town\, young Lucky Prescott befriends a wild mustang named Spirit\, who shares her rebellious spirit. When a heartless wrangler plans to capture Spirit and his herd\, Lucky and her new friends embark on the adventure of a lifetime to rescue the horse that forever changed her life. \nThere is a Sensory-Friendly version playing at the same time downstairs in the Ferguson Theatre!
URL:https://downtownwabash.org/event/spirit-untamed/
CATEGORIES:Wabash Community Event
ATTACH;FMTTYPE=image/jpeg:https://downtownwabash.org/wp-content/uploads/EaglesTheatre-6fa5b4cbb2edbca03713d55c8529b063.jpg
END:VEVENT
BEGIN:VEVENT
DTSTART;TZID=America/Indiana/Indianapolis:20220808T190000
DTEND;TZID=America/Indiana/Indianapolis:20220808T203000
DTSTAMP:20260423T183126
CREATED:20220527T200732Z
LAST-MODIFIED:20220601T150444Z
UID:2879-1659985200-1659990600@downtownwabash.org
SUMMARY:Spirit Untamed
DESCRIPTION:After moving to a sleepy little town\, young Lucky Prescott befriends a wild mustang named Spirit\, who shares her rebellious spirit. When a heartless wrangler plans to capture Spirit and his herd\, Lucky and her new friends embark on the adventure of a lifetime to rescue the horse that forever changed her life. \nThere is a Sensory-Friendly version playing at the same time downstairs in the Ferguson Theatre!
URL:https://downtownwabash.org/event/spirit-untamed/
CATEGORIES:Wabash Community Event
ATTACH;FMTTYPE=image/jpeg:https://downtownwabash.org/wp-content/uploads/EaglesTheatre-fa78ffd59948eacc83710ae6966618e0.jpg
END:VEVENT
BEGIN:VEVENT
DTSTART;TZID=America/Indiana/Indianapolis:20220809T120000
DTEND;TZID=America/Indiana/Indianapolis:20220809T130000
DTSTAMP:20260423T183126
CREATED:20220307T060305Z
LAST-MODIFIED:20220307T063403Z
UID:1756-1660046400-1660050000@downtownwabash.org
SUMMARY:Board Meeting - August 2022
DESCRIPTION:
URL:https://downtownwabash.org/event/board-meeting-august-2022/
LOCATION:Wabash\, IN\, 46992\, United States
CATEGORIES:Board Member Meeting
ORGANIZER;CN="Downtown Wabash":MAILTO:(260) 563-0975
END:VEVENT
BEGIN:VEVENT
DTSTART;TZID=America/Indiana/Indianapolis:20220811T173000
DTEND;TZID=America/Indiana/Indianapolis:20220811T190000
DTSTAMP:20260423T183126
CREATED:20220519T183049Z
LAST-MODIFIED:20220524T195818Z
UID:2744-1660239000-1660244400@downtownwabash.org
SUMMARY:Prime Rib Dinner
DESCRIPTION:Chef-attended\, all you can eat prime rib buffet. Limited dinner menu also available.
URL:https://downtownwabash.org/event/prime-rib-dinner/
CATEGORIES:Wabash Community Event
ATTACH;FMTTYPE=image/jpeg:https://downtownwabash.org/wp-content/uploads/ET-Ballroom-90ac92bfdb2febd52e2ca2decc42f976.jpg
END:VEVENT
BEGIN:VEVENT
DTSTART;TZID=America/Indiana/Indianapolis:20220812T213000
DTEND;TZID=America/Indiana/Indianapolis:20220812T230000
DTSTAMP:20260423T183126
CREATED:20220525T183306Z
LAST-MODIFIED:20220526T204901Z
UID:2800-1660339800-1660345200@downtownwabash.org
SUMMARY:Men in Black
DESCRIPTION:A police officer joins a secret organization that polices and monitors extraterrestrial interactions on Earth.
URL:https://downtownwabash.org/event/men-in-black/
CATEGORIES:Wabash Community Event
ATTACH;FMTTYPE=image/jpeg:https://downtownwabash.org/wp-content/uploads/DriveIn-606459450d13b2906180adbad8e92cae.jpg
END:VEVENT
BEGIN:VEVENT
DTSTART;TZID=America/Indiana/Indianapolis:20220813T080000
DTEND;TZID=America/Indiana/Indianapolis:20220813T120000
DTSTAMP:20260423T183126
CREATED:20220216T203128Z
LAST-MODIFIED:20220218T061611Z
UID:1354-1660377600-1660392000@downtownwabash.org
SUMMARY:Downtown Wabash Farmers Market
DESCRIPTION:Spend Saturdays at the Wabash Farmers Market \nStart your weekend at the Wabash Farmers Market with wholesome\, fulfilling\, locally sourced products from some of our most unique vendors in the area. \nFind handmade\, homemade & homegrown products like fresh produce\, organic meats\, homemade ice cream\, hand-poured candles & soaps\, cotton candy\, pottery\, wood & metal works and so much more. \n(All dogs are welcome!)
URL:https://downtownwabash.org/event/downtown-wabash-farmers-market-2022-08-13/
LOCATION:Wabash\, IN\, 46992\, United States
CATEGORIES:Farmers Market
ATTACH;FMTTYPE=image/jpeg:https://downtownwabash.org/wp-content/uploads/Downtown-Wabash-Farmers-Market-19.jpg
END:VEVENT
BEGIN:VEVENT
DTSTART;TZID=America/Indiana/Indianapolis:20220813T193000
DTEND;TZID=America/Indiana/Indianapolis:20220813T213000
DTSTAMP:20260423T183126
CREATED:20220516T190206Z
LAST-MODIFIED:20220516T203947Z
UID:2698-1660419000-1660426200@downtownwabash.org
SUMMARY:Great White & Slaughter
DESCRIPTION:Two of the 80s biggest acts come together in one night! Great White has sold over 10 million albums\, thanks to songs like “Once Bitten\, Twice Shy\,” “Rock Me\,” “Save Your Love\,” and “Call It Rock & Roll. American Music Award winners Slaughter garnered hits including “Fly to the Angels\,” “Up All Night\,” “Spend My Life\,” and more.
URL:https://downtownwabash.org/event/great-white-slaughter/
CATEGORIES:Wabash Community Event
ATTACH;FMTTYPE=image/jpeg:https://downtownwabash.org/wp-content/uploads/HC-Ford-Theater-cad699dc07bcf98bcf62052dcff771ca.jpg
END:VEVENT
BEGIN:VEVENT
DTSTART;TZID=America/Indiana/Indianapolis:20220813T213000
DTEND;TZID=America/Indiana/Indianapolis:20220813T230000
DTSTAMP:20260423T183126
CREATED:20220525T192413Z
LAST-MODIFIED:20220526T204908Z
UID:2802-1660426200-1660431600@downtownwabash.org
SUMMARY:Jumanji
DESCRIPTION:When two kids find and play a magical board game\, they release a man trapped for decades in it and a host of dangers that can only be stopped by finishing the game.
URL:https://downtownwabash.org/event/jumanji/
CATEGORIES:Wabash Community Event
ATTACH;FMTTYPE=image/jpeg:https://downtownwabash.org/wp-content/uploads/DriveIn-4d4271b28f62e97f9c48f0b97d5760b8.jpg
END:VEVENT
BEGIN:VEVENT
DTSTART;TZID=America/Indiana/Indianapolis:20220816T190000
DTEND;TZID=America/Indiana/Indianapolis:20220816T210000
DTSTAMP:20260423T183126
CREATED:20220725T174715Z
LAST-MODIFIED:20220726T142449Z
UID:3341-1660676400-1660683600@downtownwabash.org
SUMMARY:Indiana's Ten Most Endangered Places
DESCRIPTION:Paul Hayden\, Indiana Landmarks Northeast Field Office Director\, will showcase threatened structures on Indiana Landmarks’ annual list as well as the fates – positive and negative – of places that have appeared on the list.
URL:https://downtownwabash.org/event/indianas-ten-most-endangered-places/
CATEGORIES:Wabash Community Event
ATTACH;FMTTYPE=image/jpeg:https://downtownwabash.org/wp-content/uploads/FordHome-c3665ffb5c3dd7de47aaf1e131e0abbf.jpg
END:VEVENT
BEGIN:VEVENT
DTSTART;TZID=America/Indiana/Indianapolis:20220817T123000
DTEND;TZID=America/Indiana/Indianapolis:20220817T130000
DTSTAMP:20260423T183126
CREATED:20220725T175100Z
LAST-MODIFIED:20220726T142456Z
UID:3343-1660739400-1660741200@downtownwabash.org
SUMMARY:Lunch & Learn - The Earth Moved
DESCRIPTION:As our gardens are hard at work\, we will take a fascinating and in-depth look at earthworms. This program is based on the book The Earth Moved by Amy Stewart. Join us for a “subterranean adventure to seek out our planet’s most important gatekeeper: the humble earthworm.” Free admission. Seating is limited\, so reservations are recommended.
URL:https://downtownwabash.org/event/lunch-learn-the-earth-moved/
CATEGORIES:Wabash Community Event
ATTACH;FMTTYPE=image/jpeg:https://downtownwabash.org/wp-content/uploads/Gardens-8bece7c9773bbc00446ce4302d83f4f6.jpg
END:VEVENT
BEGIN:VEVENT
DTSTART;VALUE=DATE:20220819
DTEND;VALUE=DATE:20220820
DTSTAMP:20260423T183126
CREATED:20220216T014531Z
LAST-MODIFIED:20220816T155428Z
UID:1167-1660867200-1660953599@downtownwabash.org
SUMMARY:Downtown Wabash Sidewalk Sales
DESCRIPTION:Weekend-long shopping spree on Downtown Wabash business sidewalks with great deals.
URL:https://downtownwabash.org/event/downtown-wabash-sidewalk-sales-3/
LOCATION:Wabash\, IN\, 46992\, United States
CATEGORIES:Sidewalk Sales
ATTACH;FMTTYPE=image/jpeg:https://downtownwabash.org/wp-content/uploads/Sidewalk-Sales-in-Downtown-Wabash.jpg
ORGANIZER;CN="Downtown Wabash":MAILTO:(260) 563-0975
END:VEVENT
BEGIN:VEVENT
DTSTART;TZID=America/Indiana/Indianapolis:20220819T213000
DTEND;TZID=America/Indiana/Indianapolis:20220819T230000
DTSTAMP:20260423T183126
CREATED:20220525T192927Z
LAST-MODIFIED:20220526T204915Z
UID:2804-1660944600-1660950000@downtownwabash.org
SUMMARY:Pretty in Pink
DESCRIPTION:Andie (Molly Ringwald) is an outcast at her Chicago high school\, hanging out either with her older boss (Annie Potts)\, who owns the record store where she works\, or her quirky classmate Duckie (Jon Cryer)\, who has a crush on her. When one of the rich and popular kids at school\, Blane (Andrew McCarthy)\, asks Andie out\, it seems too good to be true. As Andie starts falling for Blane\, she begins to realizes that dating someone from a different social sphere is not easy.
URL:https://downtownwabash.org/event/pretty-in-pink/
CATEGORIES:Wabash Community Event
ATTACH;FMTTYPE=image/jpeg:https://downtownwabash.org/wp-content/uploads/DriveIn-de937627cf80984fde349fc8e61c8fe5.jpg
END:VEVENT
BEGIN:VEVENT
DTSTART;VALUE=DATE:20220820
DTEND;VALUE=DATE:20220821
DTSTAMP:20260423T183126
CREATED:20220216T014543Z
LAST-MODIFIED:20220216T202710Z
UID:1168-1660953600-1661039999@downtownwabash.org
SUMMARY:Downtown Wabash Sidewalk Sales
DESCRIPTION:Weekend-long shopping spree on Downtown Wabash business sidewalks with great deals.
URL:https://downtownwabash.org/event/downtown-wabash-sidewalk-sales-4/
LOCATION:Wabash\, IN\, 46992\, United States
CATEGORIES:Sidewalk Sales
ATTACH;FMTTYPE=image/jpeg:https://downtownwabash.org/wp-content/uploads/Sidewalk-Sales-in-Downtown-Wabash.jpg
ORGANIZER;CN="Downtown Wabash":MAILTO:(260) 563-0975
END:VEVENT
BEGIN:VEVENT
DTSTART;TZID=America/Indiana/Indianapolis:20220820T080000
DTEND;TZID=America/Indiana/Indianapolis:20220820T120000
DTSTAMP:20260423T183126
CREATED:20220216T203128Z
LAST-MODIFIED:20220218T061607Z
UID:1355-1660982400-1660996800@downtownwabash.org
SUMMARY:Downtown Wabash Farmers Market
DESCRIPTION:Spend Saturdays at the Wabash Farmers Market \nStart your weekend at the Wabash Farmers Market with wholesome\, fulfilling\, locally sourced products from some of our most unique vendors in the area. \nFind handmade\, homemade & homegrown products like fresh produce\, organic meats\, homemade ice cream\, hand-poured candles & soaps\, cotton candy\, pottery\, wood & metal works and so much more. \n(All dogs are welcome!)
URL:https://downtownwabash.org/event/downtown-wabash-farmers-market-2022-08-20/
LOCATION:Wabash\, IN\, 46992\, United States
CATEGORIES:Farmers Market
ATTACH;FMTTYPE=image/jpeg:https://downtownwabash.org/wp-content/uploads/Downtown-Wabash-Farmers-Market-19.jpg
END:VEVENT
BEGIN:VEVENT
DTSTART;TZID=America/Indiana/Indianapolis:20220820T193000
DTEND;TZID=America/Indiana/Indianapolis:20220820T213000
DTSTAMP:20260423T183126
CREATED:20220428T154612Z
LAST-MODIFIED:20220509T182716Z
UID:2311-1661023800-1661031000@downtownwabash.org
SUMMARY:Girl Named Tom
DESCRIPTION:Girl Named Tom have made history as the first ever trio to win NBC’s The Voice. During the 2021 season they landed 4 songs concurrently on the iTunes Top 10 charts\, with 2 songs reaching #1\, plus received praise from both mentor Kelly Clarkson and Ariana Grande – stating “[They are] The most special thing I have seen on this show” and they give “Ethereal\, gorgeous performances\, respectively.”
URL:https://downtownwabash.org/event/girl-named-tom/
LOCATION:Wabash\, IN\, 46992\, United States
CATEGORIES:Wabash Community Event
ATTACH;FMTTYPE=image/jpeg:https://downtownwabash.org/wp-content/uploads/HC-Ford-Theater-7d62de2f41adb07320896d892dc61d00.jpg
END:VEVENT
BEGIN:VEVENT
DTSTART;TZID=America/Indiana/Indianapolis:20220820T213000
DTEND;TZID=America/Indiana/Indianapolis:20220820T230000
DTSTAMP:20260423T183126
CREATED:20220525T193837Z
LAST-MODIFIED:20220526T204921Z
UID:2806-1661031000-1661036400@downtownwabash.org
SUMMARY:Matilda
DESCRIPTION:Matilda Wormwood is an exquisite and intelligent little girl. Unfortunately\, her parents misunderstand her because they think she is so different. As time passes\, Matilda finally starts school and has a kind teacher\, loyal friends\, and a sadistic principal. As she gets fed up with the constant cruelty\, Matilda begins to realize that she has a gift of telekinetic powers. After some days of practice\, Matilda suddenly turns the tables to stand up to her parents and outwit the principal.
URL:https://downtownwabash.org/event/matilda/
CATEGORIES:Wabash Community Event
ATTACH;FMTTYPE=image/jpeg:https://downtownwabash.org/wp-content/uploads/DriveIn-74dda49420c6039058671082422cf6da.jpg
END:VEVENT
BEGIN:VEVENT
DTSTART;TZID=America/Indiana/Indianapolis:20220825T080000
DTEND;TZID=America/Indiana/Indianapolis:20220926T170000
DTSTAMP:20260423T183126
CREATED:20220810T212438Z
LAST-MODIFIED:20220811T142259Z
UID:3426-1661414400-1664211600@downtownwabash.org
SUMMARY:Photography Show
DESCRIPTION:Welcome to the Clark Gallery’s Photography Show! This juried competition has been an annual tradition for decades. This competition is just one way that the Clark Gallery supports the visual arts. The Clark Gallery hosts more than ten exhibits per year and features students\, amateurs\, and professionals. Because the Gallery encompasses the semi-circle of the Honeywell Center Porter Lobby\, foot traffic exceeds 170\,000 guests per year! All of this is done free of charge because the Clark Gallery is a part of the mission of The Honeywell Foundation.
URL:https://downtownwabash.org/event/photography-show/
CATEGORIES:Wabash Community Event
ATTACH;FMTTYPE=image/jpeg:https://downtownwabash.org/wp-content/uploads/HoneywellCenter-700148836e71f71050d0abbd78367268.jpg
END:VEVENT
BEGIN:VEVENT
DTSTART;TZID=America/Indiana/Indianapolis:20220825T150000
DTEND;TZID=America/Indiana/Indianapolis:20220825T170000
DTSTAMP:20260423T183126
CREATED:20220725T175405Z
LAST-MODIFIED:20220726T142504Z
UID:3345-1661439600-1661446800@downtownwabash.org
SUMMARY:Eugenia's Table
DESCRIPTION:Enjoy social time and a wonderful dessert around Eugenia’s Table.  Please bring a favorite painting or a loved art object from your home to display\, and share the story.
URL:https://downtownwabash.org/event/eugenias-table/
CATEGORIES:Wabash Community Event
ATTACH;FMTTYPE=image/jpeg:https://downtownwabash.org/wp-content/uploads/HoneywellHouse-1707843150b0db57b1206d70ee57b218.jpg
END:VEVENT
BEGIN:VEVENT
DTSTART;TZID=America/Indiana/Indianapolis:20220825T193000
DTEND;TZID=America/Indiana/Indianapolis:20220825T213000
DTSTAMP:20260423T183126
CREATED:20220428T154658Z
LAST-MODIFIED:20220509T182710Z
UID:2314-1661455800-1661463000@downtownwabash.org
SUMMARY:The Fab Four
DESCRIPTION:With precise attention to detail\, The Fab Four is elevated far above every other Beatles tribute. With three costume changes representing every Beatles era and note-for-note renditions of “Can’t Buy Me Love\,” “Yesterday\,” “Twist And Shout\,” “Here Comes The Sun\,” and “Hey Jude\,” you’ll think you are watching the real thing!
URL:https://downtownwabash.org/event/the-fab-four/
LOCATION:Wabash\, IN\, 46992\, United States
CATEGORIES:Wabash Community Event
ATTACH;FMTTYPE=image/jpeg:https://downtownwabash.org/wp-content/uploads/HC-Ford-Theater-ce53bb568f94ae6b77c269c5262064a5.jpg
END:VEVENT
END:VCALENDAR