BEGIN:VCALENDAR
VERSION:2.0
PRODID:-//Downtown Wabash, Inc. - ECPv6.15.17.1//NONSGML v1.0//EN
CALSCALE:GREGORIAN
METHOD:PUBLISH
X-WR-CALNAME:Downtown Wabash, Inc.
X-ORIGINAL-URL:https://downtownwabash.org
X-WR-CALDESC:Events for Downtown Wabash, Inc.
REFRESH-INTERVAL;VALUE=DURATION:PT1H
X-Robots-Tag:noindex
X-PUBLISHED-TTL:PT1H
BEGIN:VTIMEZONE
TZID:America/Indiana/Indianapolis
BEGIN:DAYLIGHT
TZOFFSETFROM:-0500
TZOFFSETTO:-0400
TZNAME:EDT
DTSTART:20230312T070000
END:DAYLIGHT
BEGIN:STANDARD
TZOFFSETFROM:-0400
TZOFFSETTO:-0500
TZNAME:EST
DTSTART:20231105T060000
END:STANDARD
BEGIN:DAYLIGHT
TZOFFSETFROM:-0500
TZOFFSETTO:-0400
TZNAME:EDT
DTSTART:20240310T070000
END:DAYLIGHT
BEGIN:STANDARD
TZOFFSETFROM:-0400
TZOFFSETTO:-0500
TZNAME:EST
DTSTART:20241103T060000
END:STANDARD
BEGIN:DAYLIGHT
TZOFFSETFROM:-0500
TZOFFSETTO:-0400
TZNAME:EDT
DTSTART:20250309T070000
END:DAYLIGHT
BEGIN:STANDARD
TZOFFSETFROM:-0400
TZOFFSETTO:-0500
TZNAME:EST
DTSTART:20251102T060000
END:STANDARD
END:VTIMEZONE
BEGIN:VEVENT
DTSTART;TZID=America/Indiana/Indianapolis:20240429T183000
DTEND;TZID=America/Indiana/Indianapolis:20240429T193000
DTSTAMP:20260425T062409
CREATED:20240221T163849Z
LAST-MODIFIED:20240221T163849Z
UID:8209-1714415400-1714419000@downtownwabash.org
SUMMARY:Class: Graphic Storytelling & Comic Arts
DESCRIPTION:From cave drawings to comics\, animation\, and beyond\, art and stories have been inseparably inked. In this class we will learn basic techniques\, practices\, and philosophy of creating comics and other graphic narratives.
URL:https://downtownwabash.org/event/class-graphic-storytelling-comic-arts-2024-04-29/
LOCATION:Wabash\, IN\, 46992\, United States
ATTACH;FMTTYPE=image/jpeg:https://downtownwabash.org/wp-content/uploads/EaglesTheatre-db64569ae0464721ddc09a324bf58080.jpg
END:VEVENT
BEGIN:VEVENT
DTSTART;TZID=America/Indiana/Indianapolis:20240427T193000
DTEND;TZID=America/Indiana/Indianapolis:20240427T213000
DTSTAMP:20260425T062409
CREATED:20231009T180157Z
LAST-MODIFIED:20231009T180157Z
UID:6118-1714246200-1714253400@downtownwabash.org
SUMMARY:Alice - Dreaming of Wonderland
DESCRIPTION:Get ready to experience an amazing journey in the crazy world of Wonderland! Based on the classic by Lewis Carroll\, the show is an action-packed theatrical circus full of surprises\, amazing acts\, video projection with 3-D mapping\, and live music. Featuring an international cast of veteran performers from across Europe and North America\, the show amazes audiences with acrobats\, a 3-member hand-to-hand balancing act\, a one-man band\, and a new art form creating original creations with smoke and bubbles. Follow the White Rabbit\, pass through the keyhole\, and join us at the Tea Party. Remember that you don’t need to look for meaning; after all\, “we’re all mad here!”
URL:https://downtownwabash.org/event/alice-dreaming-of-wonderland/
LOCATION:Wabash\, IN\, 46992\, United States
ATTACH;FMTTYPE=image/jpeg:https://downtownwabash.org/wp-content/uploads/Alice-Dreaming-of-Wonderland-db9fdb02ebee367216613c0ca6a7192c.jpg
END:VEVENT
BEGIN:VEVENT
DTSTART;TZID=America/Indiana/Indianapolis:20240427T190000
DTEND;TZID=America/Indiana/Indianapolis:20240427T220000
DTSTAMP:20260425T062409
CREATED:20231130T145441Z
LAST-MODIFIED:20231130T145441Z
UID:6654-1714244400-1714255200@downtownwabash.org
SUMMARY:Matt Record
DESCRIPTION:Matt Record is a powerful singer\, songwriter\, expert guitar player and casual loopist based in Indianapolis who specializes in a variety of genres including Americana/Folk\, 70s\, 80s current and original songs.
URL:https://downtownwabash.org/event/matt-record/
LOCATION:Wabash\, IN\, 46992\, United States
ATTACH;FMTTYPE=image/jpeg:https://downtownwabash.org/wp-content/uploads/Matt-Record-37496ec82d187ca79322a79ffc708854.jpg
END:VEVENT
BEGIN:VEVENT
DTSTART;TZID=America/Indiana/Indianapolis:20240427T150000
DTEND;TZID=America/Indiana/Indianapolis:20240427T163000
DTSTAMP:20260425T062409
CREATED:20240222T144806Z
LAST-MODIFIED:20240222T144806Z
UID:7511-1714230000-1714235400@downtownwabash.org
SUMMARY:Workshop: Adult Improv
DESCRIPTION:Awaken your spontaneity with cooperative games and exercises designed to open your mind to the creativity of free-form\, small-group improv. Whether you’re looking to improve your public speaking skills\, meet new people\, or just have a great time and try something new\, we’d love to have you. Designed for beginners; previous theatre experience is not necessary! This workshop is buy one\, get one free! Add a second person to your registration and the second fee will be removed during check out.
URL:https://downtownwabash.org/event/workshop-adult-improv/
LOCATION:Wabash\, IN\, 46992\, United States
ATTACH;FMTTYPE=image/jpeg:https://downtownwabash.org/wp-content/uploads/Eagles-ec13381b3f55dcb1391fce76c48f4856.jpg
END:VEVENT
BEGIN:VEVENT
DTSTART;TZID=America/Indiana/Indianapolis:20240427T130000
DTEND;TZID=America/Indiana/Indianapolis:20240427T130000
DTSTAMP:20260425T062409
CREATED:20240222T144841Z
LAST-MODIFIED:20240222T144841Z
UID:7507-1714222800-1714222800@downtownwabash.org
SUMMARY:Workshop: Grades 7-12 Improv
DESCRIPTION:Explore the basic foundations of improvisational theatre through cooperative games and exercises. Focusing on fun and spontaneity\, improvisation teaches skills that are important in any setting: listening\, observing\, being in the moment\, thinking on your feet. Designed for beginners; previous theatre experience is not necessary! This workshop is buy one\, get one free! Add a second person to your registration and the second fee will be removed during check out.
URL:https://downtownwabash.org/event/workshop-grades-7-12-improv/
LOCATION:Wabash\, IN\, 46992\, United States
ATTACH;FMTTYPE=image/jpeg:https://downtownwabash.org/wp-content/uploads/Eagles-155193e1079108c995c883e451ddce4b.jpg
END:VEVENT
BEGIN:VEVENT
DTSTART;TZID=America/Indiana/Indianapolis:20240427T100000
DTEND;TZID=America/Indiana/Indianapolis:20240427T140000
DTSTAMP:20260425T062409
CREATED:20240412T135238Z
LAST-MODIFIED:20240412T135238Z
UID:8189-1714212000-1714226400@downtownwabash.org
SUMMARY:Spring Swing: Pop Up Mini Golf @ the Museum
DESCRIPTION:Play a round on our flowery 9-hole regulation golf course set inside the museum. \nMini golf tickets include full access to the Museum and can be purchased at the Museum welcome desk. Non-member tickets are $9 for ages 12+ and $6 for ages 2-11. Member tickets are $5 for ages 12+ and $3 for ages 2-11.
URL:https://downtownwabash.org/event/spring-swing-pop-up-mini-golf-the-museum-2024-04-27/
LOCATION:Wabash\, IN\, 46992\, United States
ATTACH;FMTTYPE=image/png:https://downtownwabash.org/wp-content/uploads/Downtown-Wabash-Event-Format-614cd3534f5311882ac117188f19a7f8.png
END:VEVENT
BEGIN:VEVENT
DTSTART;TZID=America/Indiana/Indianapolis:20240427T100000
DTEND;TZID=America/Indiana/Indianapolis:20240427T113000
DTSTAMP:20260425T062409
CREATED:20240222T144823Z
LAST-MODIFIED:20240222T144823Z
UID:7509-1714212000-1714217400@downtownwabash.org
SUMMARY:Workshop: Grades 3-6 Improv
DESCRIPTION:Explore the basic foundations of improvisational theatre through cooperative games and exercises. Focusing on fun and spontaneity\, improvisation teaches skills that are important in any setting: listening\, observing\, being in the moment\, thinking on your feet. Designed for beginners; previous theatre experience is not necessary! This workshop is buy one\, get one free! Add a second person to your registration and the second fee will be removed during check out.
URL:https://downtownwabash.org/event/workshop-grades-3-6-improv/
LOCATION:Wabash\, IN\, 46992\, United States
ATTACH;FMTTYPE=image/jpeg:https://downtownwabash.org/wp-content/uploads/Eagles-ecba0da8b6147e3e153800c50b6a6fcf.jpg
END:VEVENT
BEGIN:VEVENT
DTSTART;TZID=America/Indiana/Indianapolis:20240426T173000
DTEND;TZID=America/Indiana/Indianapolis:20240426T193000
DTSTAMP:20260425T062409
CREATED:20240404T135646Z
LAST-MODIFIED:20240404T135646Z
UID:7691-1714152600-1714159800@downtownwabash.org
SUMMARY:Here Comes the Sun
DESCRIPTION:Celebrate spring with a multi-course fine dining experience and wine pairing featuring Northern California wines from Long Meadow Ranch.
URL:https://downtownwabash.org/event/here-comes-the-sun/
LOCATION:Wabash\, IN\, 46992\, United States
ATTACH;FMTTYPE=image/jpeg:https://downtownwabash.org/wp-content/uploads/HC-Eugenias-64bd3e5bfac42e24b139ad392c0c48c8.jpg
END:VEVENT
BEGIN:VEVENT
DTSTART;TZID=America/Indiana/Indianapolis:20240426T100000
DTEND;TZID=America/Indiana/Indianapolis:20240426T140000
DTSTAMP:20260425T062409
CREATED:20240412T135238Z
LAST-MODIFIED:20240412T135238Z
UID:8188-1714125600-1714140000@downtownwabash.org
SUMMARY:Spring Swing: Pop Up Mini Golf @ the Museum
DESCRIPTION:Play a round on our flowery 9-hole regulation golf course set inside the museum. \nMini golf tickets include full access to the Museum and can be purchased at the Museum welcome desk. Non-member tickets are $9 for ages 12+ and $6 for ages 2-11. Member tickets are $5 for ages 12+ and $3 for ages 2-11.
URL:https://downtownwabash.org/event/spring-swing-pop-up-mini-golf-the-museum-2024-04-26/
LOCATION:Wabash\, IN\, 46992\, United States
ATTACH;FMTTYPE=image/png:https://downtownwabash.org/wp-content/uploads/Downtown-Wabash-Event-Format-614cd3534f5311882ac117188f19a7f8.png
END:VEVENT
BEGIN:VEVENT
DTSTART;TZID=America/Indiana/Indianapolis:20240425T193000
DTEND;TZID=America/Indiana/Indianapolis:20240425T210000
DTSTAMP:20260425T062409
CREATED:20240222T145132Z
LAST-MODIFIED:20240222T145132Z
UID:7501-1714073400-1714078800@downtownwabash.org
SUMMARY:Workshop: Grades 7-12 Improv
DESCRIPTION:Explore the basic foundations of improvisational theatre through cooperative games and exercises. Focusing on fun and spontaneity\, improvisation teaches skills that are important in any setting: listening\, observing\, being in the moment\, thinking on your feet. Designed for beginners; previous theatre experience is not necessary!\nThis workshop is buy one\, get one free! Add a second person to your registration and the second fee will be removed during check out.
URL:https://downtownwabash.org/event/workshop-grades-7-12-improv/
LOCATION:Wabash\, IN\, 46992\, United States
ATTACH;FMTTYPE=image/jpeg:https://downtownwabash.org/wp-content/uploads/Eagles-cb435aa39b2bab1747a45f9be3733dd3.jpg
END:VEVENT
BEGIN:VEVENT
DTSTART;TZID=America/Indiana/Indianapolis:20240425T193000
DTEND;TZID=America/Indiana/Indianapolis:20240425T220000
DTSTAMP:20260425T062409
CREATED:20230809T154908Z
LAST-MODIFIED:20230809T185553Z
UID:5675-1714073400-1714082400@downtownwabash.org
SUMMARY:Time for Three
DESCRIPTION:Bonded by an uncommon blend of instruments and vocals\, Charles Yang (violin)\, Nick Kendall (violin)\, and Ranaan Meyer (double bass) have found a unique voice of expression. To experience the GRAMMY-winning ensemble Time For Three live is to hear the various eras\, styles\, and traditions of Western music fold in on themselves and emerge anew.
URL:https://downtownwabash.org/event/time-for-three/
CATEGORIES:Wabash Community Event,Wabash Cultural District
ATTACH;FMTTYPE=image/jpeg:https://downtownwabash.org/wp-content/uploads/TimeForThree-068b55c5bbdfd8ae863697bd74ebd819.jpg
END:VEVENT
BEGIN:VEVENT
DTSTART;TZID=America/Indiana/Indianapolis:20240425T180000
DTEND;TZID=America/Indiana/Indianapolis:20240425T200000
DTSTAMP:20260425T062409
CREATED:20240415T154021Z
LAST-MODIFIED:20240415T154021Z
UID:8243-1714068000-1714075200@downtownwabash.org
SUMMARY:Class: Leaded Stained Glass
DESCRIPTION:Experience the oldest method of stained glass construction as you create a moderate sized hanging panel. Review glass cutting and shaping basics and learn the lead cane construction method to build a beautiful stained glass panel. Several patterns will be provided as well as many attractive glass colors. Finished piece will be between 10×10 and 11×14 depending on the pattern chosen. Previous experience is required. Ages 18+
URL:https://downtownwabash.org/event/class-leaded-stained-glass-2024-04-25/
LOCATION:Wabash\, IN\, 46992\, United States
ATTACH;FMTTYPE=image/jpeg:https://downtownwabash.org/wp-content/uploads/Gardens-3d7da0800823f2e7c8af58380a712f98.jpg
END:VEVENT
BEGIN:VEVENT
DTSTART;TZID=America/Indiana/Indianapolis:20240425T180000
DTEND;TZID=America/Indiana/Indianapolis:20240425T190000
DTSTAMP:20260425T062409
CREATED:20240415T153835Z
LAST-MODIFIED:20240415T153835Z
UID:8229-1714068000-1714071600@downtownwabash.org
SUMMARY:Class: Mixed Media Exploration
DESCRIPTION:Students will explore sculpture\, color\, and a variety of media in connection with contemporary and modern artists. Students will build independent thinking\, collaboration\, and gross-motor skills through this introduction to the creative process. Grades 4-7.
URL:https://downtownwabash.org/event/class-mixed-media-exploration-2024-04-25/
LOCATION:Wabash\, IN\, 46992\, United States
ATTACH;FMTTYPE=image/jpeg:https://downtownwabash.org/wp-content/uploads/Gardens-e0795e27d99790e2f2f275cb4d7e4fe3.jpg
END:VEVENT
BEGIN:VEVENT
DTSTART;TZID=America/Indiana/Indianapolis:20240425T173000
DTEND;TZID=America/Indiana/Indianapolis:20240425T190000
DTSTAMP:20260425T062409
CREATED:20240222T145038Z
LAST-MODIFIED:20240222T145038Z
UID:7499-1714066200-1714071600@downtownwabash.org
SUMMARY:Workshop: Grades 3-6 Improv
DESCRIPTION:Explore the basic foundations of improvisational theatre through cooperative games and exercises. Focusing on fun and spontaneity\, improvisation teaches skills that are important in any setting: listening\, observing\, being in the moment\, thinking on your feet. Designed for beginners; previous theatre experience is not necessary!\nThis workshop is buy one\, get one free! Add a second person to your registration and the second fee will be removed during check out.
URL:https://downtownwabash.org/event/workshop-grades-3-6-improv/
LOCATION:Wabash\, IN\, 46992\, United States
ATTACH;FMTTYPE=image/jpeg:https://downtownwabash.org/wp-content/uploads/Eagles-58aeb2ef22a3a852d9c1e99a68128fa3.jpg
END:VEVENT
BEGIN:VEVENT
DTSTART;TZID=America/Indiana/Indianapolis:20240425T163000
DTEND;TZID=America/Indiana/Indianapolis:20240425T173000
DTSTAMP:20260425T062409
CREATED:20240415T153746Z
LAST-MODIFIED:20240415T153746Z
UID:8220-1714062600-1714066200@downtownwabash.org
SUMMARY:Class: Little Picassos
DESCRIPTION:Integrating art making with art history\, each session is focused on identifying and stimulating children’s artistic abilities. We’ll draw\, paint\, and create nature and abstract art using a variety of techniques and materials. Grades 1-3.
URL:https://downtownwabash.org/event/class-little-picassos-2024-04-25/
LOCATION:Wabash\, IN\, 46992\, United States
ATTACH;FMTTYPE=image/jpeg:https://downtownwabash.org/wp-content/uploads/Gardens-e1c84e1d5ad5725bba22276b31b0341e.jpg
END:VEVENT
BEGIN:VEVENT
DTSTART;TZID=America/Indiana/Indianapolis:20240425T100000
DTEND;TZID=America/Indiana/Indianapolis:20240425T140000
DTSTAMP:20260425T062409
CREATED:20240412T135238Z
LAST-MODIFIED:20240412T135238Z
UID:8187-1714039200-1714053600@downtownwabash.org
SUMMARY:Spring Swing: Pop Up Mini Golf @ the Museum
DESCRIPTION:Play a round on our flowery 9-hole regulation golf course set inside the museum. \nMini golf tickets include full access to the Museum and can be purchased at the Museum welcome desk. Non-member tickets are $9 for ages 12+ and $6 for ages 2-11. Member tickets are $5 for ages 12+ and $3 for ages 2-11.
URL:https://downtownwabash.org/event/spring-swing-pop-up-mini-golf-the-museum-2024-04-25/
LOCATION:Wabash\, IN\, 46992\, United States
ATTACH;FMTTYPE=image/png:https://downtownwabash.org/wp-content/uploads/Downtown-Wabash-Event-Format-614cd3534f5311882ac117188f19a7f8.png
END:VEVENT
BEGIN:VEVENT
DTSTART;TZID=America/Indiana/Indianapolis:20240425T090000
DTEND;TZID=America/Indiana/Indianapolis:20240425T110000
DTSTAMP:20260425T062409
CREATED:20240415T153932Z
LAST-MODIFIED:20240415T153932Z
UID:8238-1714035600-1714042800@downtownwabash.org
SUMMARY:Class: Acrylic Painting
DESCRIPTION:Whether you’re a complete beginner or an experienced artist\, join us for self-expression and creativity. Our instructors will guide you through various techniques\, from brushstrokes to color mixing\, as you explore your unique artistic style. Enjoy a relaxed and supportive atmosphere\, connect with fellow art enthusiasts\, and bring your imagination to life on canvas. Unwind\, create\, and discover the joy of painting in our inspiring adult art sessions! \nThis class requires that you purchase a “class pass” or “multi pass”.\nOnce you have purchased the pass\, which is sort of like digital punch card\, you will need to register for the individual days you plan on attending.\nPlease contact Carolyn Stoner if you have any questions or need assistance completing the registration.
URL:https://downtownwabash.org/event/class-acrylic-painting-2024-04-25/
LOCATION:Wabash\, IN\, 46992\, United States
ATTACH;FMTTYPE=image/jpeg:https://downtownwabash.org/wp-content/uploads/Gardens-a2957d14d669f5698b5a32780f9c0066.jpg
END:VEVENT
BEGIN:VEVENT
DTSTART;TZID=America/Indiana/Indianapolis:20240424T100000
DTEND;TZID=America/Indiana/Indianapolis:20240424T140000
DTSTAMP:20260425T062409
CREATED:20240412T135238Z
LAST-MODIFIED:20240412T135238Z
UID:8186-1713952800-1713967200@downtownwabash.org
SUMMARY:Spring Swing: Pop Up Mini Golf @ the Museum
DESCRIPTION:Play a round on our flowery 9-hole regulation golf course set inside the museum. \nMini golf tickets include full access to the Museum and can be purchased at the Museum welcome desk. Non-member tickets are $9 for ages 12+ and $6 for ages 2-11. Member tickets are $5 for ages 12+ and $3 for ages 2-11.
URL:https://downtownwabash.org/event/spring-swing-pop-up-mini-golf-the-museum-2024-04-24/
LOCATION:Wabash\, IN\, 46992\, United States
ATTACH;FMTTYPE=image/png:https://downtownwabash.org/wp-content/uploads/Downtown-Wabash-Event-Format-614cd3534f5311882ac117188f19a7f8.png
END:VEVENT
BEGIN:VEVENT
DTSTART;TZID=America/Indiana/Indianapolis:20240423T173000
DTEND;TZID=America/Indiana/Indianapolis:20240423T203000
DTSTAMP:20260425T062409
CREATED:20240220T200850Z
LAST-MODIFIED:20240220T200850Z
UID:7379-1713893400-1713904200@downtownwabash.org
SUMMARY:Eugenia's Parlor Music Series- Honeywell Arts Academy Alumni
DESCRIPTION:Gather in the beautiful former home of Mrs. Eugenia Honeywell for an intimate evening of music and cuisine. Start the evening with a cocktail\, followed by a musical performance. After the concert\, mingle with the artists and enjoy heavy hors d’oeuvres.
URL:https://downtownwabash.org/event/eugenias-parlor-music-series-honeywell-arts-academy-alumni/
LOCATION:Wabash\, IN\, 46992\, United States
ATTACH;FMTTYPE=image/jpeg:https://downtownwabash.org/wp-content/uploads/HoneywellHouse-80061bab75331e33a1e37954c87c6328.jpg
END:VEVENT
BEGIN:VEVENT
DTSTART;TZID=America/Indiana/Indianapolis:20240423T100000
DTEND;TZID=America/Indiana/Indianapolis:20240423T140000
DTSTAMP:20260425T062409
CREATED:20240412T135238Z
LAST-MODIFIED:20240412T135238Z
UID:8185-1713866400-1713880800@downtownwabash.org
SUMMARY:Spring Swing: Pop Up Mini Golf @ the Museum
DESCRIPTION:Play a round on our flowery 9-hole regulation golf course set inside the museum. \nMini golf tickets include full access to the Museum and can be purchased at the Museum welcome desk. Non-member tickets are $9 for ages 12+ and $6 for ages 2-11. Member tickets are $5 for ages 12+ and $3 for ages 2-11.
URL:https://downtownwabash.org/event/spring-swing-pop-up-mini-golf-the-museum-2024-04-23/
LOCATION:Wabash\, IN\, 46992\, United States
ATTACH;FMTTYPE=image/png:https://downtownwabash.org/wp-content/uploads/Downtown-Wabash-Event-Format-614cd3534f5311882ac117188f19a7f8.png
END:VEVENT
BEGIN:VEVENT
DTSTART;TZID=America/Indiana/Indianapolis:20240422T183000
DTEND;TZID=America/Indiana/Indianapolis:20240422T193000
DTSTAMP:20260425T062409
CREATED:20240221T163849Z
LAST-MODIFIED:20240221T163849Z
UID:8208-1713810600-1713814200@downtownwabash.org
SUMMARY:Class: Graphic Storytelling & Comic Arts
DESCRIPTION:From cave drawings to comics\, animation\, and beyond\, art and stories have been inseparably inked. In this class we will learn basic techniques\, practices\, and philosophy of creating comics and other graphic narratives.
URL:https://downtownwabash.org/event/class-graphic-storytelling-comic-arts-2024-04-22/
LOCATION:Wabash\, IN\, 46992\, United States
ATTACH;FMTTYPE=image/jpeg:https://downtownwabash.org/wp-content/uploads/EaglesTheatre-db64569ae0464721ddc09a324bf58080.jpg
END:VEVENT
BEGIN:VEVENT
DTSTART;TZID=America/Indiana/Indianapolis:20240422T100000
DTEND;TZID=America/Indiana/Indianapolis:20240422T130000
DTSTAMP:20260425T062409
CREATED:20230622T143009Z
LAST-MODIFIED:20230622T170947Z
UID:5289-1713780000-1713790800@downtownwabash.org
SUMMARY:Dot Dot Dot
DESCRIPTION:When Marisol\, a young artist and curator of the Musee de Marisol\, decides that her gallery requires more than her own art\, her search for talent leads her to Vashti\, whose dots inspire Ramon to become an artist in his own right. This exciting new musical follows Marisol’s journey to help her new friends and her community break free from self-criticism and learn to let their imaginations soar. The performance is based on the Creatrilogy trio of award-winning picture books by New York Times bestselling author Peter H. Reynolds – The Dot\, Ish\, and Sky Color. Student matinees are held during the school day as field trip opportunities\, but are open to the public as well.
URL:https://downtownwabash.org/event/dot-dot-dot/
CATEGORIES:Wabash Community Event,Wabash Cultural District
ATTACH;FMTTYPE=image/jpeg:https://downtownwabash.org/wp-content/uploads/HC-Ford-Theater-203371fed54c146c31b07175ce997621.jpg
END:VEVENT
BEGIN:VEVENT
DTSTART;TZID=America/Indiana/Indianapolis:20240421T190000
DTEND;TZID=America/Indiana/Indianapolis:20240421T210000
DTSTAMP:20260425T062409
CREATED:20240229T212109Z
LAST-MODIFIED:20240229T212109Z
UID:7606-1713726000-1713733200@downtownwabash.org
SUMMARY:Jason Bonham's Led Zeppelin Evening
DESCRIPTION:Encompassing hits from the iconic band’s entire career\, including albums Led Zeppelin\, Led Zeppelin II\, Led Zeppelin IV and Physical Graffiti\, the concert event celebrates the life and music of Jason’s father\, the legendary Led Zeppelin drummer John Bonham\, with “…a band that recreates Led Zeppelin’s music to such a degree that one can’t help but close their eyes and simply listen…” [-Classic Rock Revisited].
URL:https://downtownwabash.org/event/jason-bonhams-led-zeppelin-evening/
LOCATION:Wabash\, IN\, 46992\, United States
ATTACH;FMTTYPE=image/jpeg:https://downtownwabash.org/wp-content/uploads/HC-Ford-Theater-51cafb7cd1604b42cb174a5991ea238c.jpg
END:VEVENT
BEGIN:VEVENT
DTSTART;TZID=America/Indiana/Indianapolis:20240420T190000
DTEND;TZID=America/Indiana/Indianapolis:20240420T220000
DTSTAMP:20260425T062409
CREATED:20231130T150626Z
LAST-MODIFIED:20231130T150626Z
UID:6638-1713639600-1713650400@downtownwabash.org
SUMMARY:Abbie Thomas
DESCRIPTION:Fresh off of her 2023 JMA Artist of the Year award at The Grand Ole Opry\, Abbie Thomas\, is a rising singer songwriter who is gaining international attention and nominations for live performances\, lyricism and visual content. Mixing genre-bending arrangements with soulful vocals and hints of Blues\, Jazz\, and a vibe from the songwriters of the 70’s\, she is currently touring regionally; most recently opening for Clint Black\, Laine Hardy\, and Girl Named Tom. Influenced by artists such as Carole King\, Lauryn Hill\, John Mayer and Ella Fitzgerald\, versatility has her playing throughout Midwest USA in acoustic listening rooms to clubs with her full backing band\, recently dubbed ‘The Crazy Hearts’; who were just nominated for a 2023 Hollywood Independent Music Award for Best Live Performance for Thomas’ original\, “Try.” You can listen to Thomas’ original music on all major streaming platforms.
URL:https://downtownwabash.org/event/abbie-thomas/
LOCATION:Wabash\, IN\, 46992\, United States
ATTACH;FMTTYPE=image/jpeg:https://downtownwabash.org/wp-content/uploads/Abbie-Thomas-2023-web-dcecb8d43009eb2f3fb6478453f2bc62-scaled.jpg
END:VEVENT
BEGIN:VEVENT
DTSTART;TZID=America/Indiana/Indianapolis:20240420T150000
DTEND;TZID=America/Indiana/Indianapolis:20240420T170000
DTSTAMP:20260425T062409
CREATED:20231009T180108Z
LAST-MODIFIED:20231009T180108Z
UID:6116-1713625200-1713632400@downtownwabash.org
SUMMARY:Mutts Gone Nuts
DESCRIPTION:Imagine eight of the world’s most talented 4-legged performers in an uproariously funny\, comedy dog spectacular that leaves audiences everywhere howling for more. The all-star lineup includes a two-time world champion frisbee dog\, a hilarious six-pound Pomeranian Pikachu mix\, and a host of rescued dogs that will dance\, prance\, flip\, and skip their way right into your heart. Deemed “A must see!” by the Washington Post\, Mutts Gone Nuts is sure to win “Best in Show!”
URL:https://downtownwabash.org/event/mutts-gone-nuts/
LOCATION:Wabash\, IN\, 46992\, United States
ATTACH;FMTTYPE=image/jpeg:https://downtownwabash.org/wp-content/uploads/Mutts-Gone-Nuts-86d02e8765cf895d7ee6893abd66044e.jpg
END:VEVENT
BEGIN:VEVENT
DTSTART;TZID=America/Indiana/Indianapolis:20240420T123000
DTEND;TZID=America/Indiana/Indianapolis:20240420T163000
DTSTAMP:20260425T062409
CREATED:20240222T145020Z
LAST-MODIFIED:20240222T145020Z
UID:7497-1713616200-1713630600@downtownwabash.org
SUMMARY:Workshop: Auditions
DESCRIPTION:This workshop will help both aspiring and experienced performers feel confident walking into any audition! Students will learn what to expect and how to prepare in the areas of personal presentation\, audition techniques\, “cold readings\,” and more. Ages 12-18.
URL:https://downtownwabash.org/event/workshop-auditions/
LOCATION:Wabash\, IN\, 46992\, United States
ATTACH;FMTTYPE=image/jpeg:https://downtownwabash.org/wp-content/uploads/Eagles-c8d3a24bcb4e76ece1ffbc8168f037a7.jpg
END:VEVENT
BEGIN:VEVENT
DTSTART;TZID=America/Indiana/Indianapolis:20240420T100000
DTEND;TZID=America/Indiana/Indianapolis:20240420T140000
DTSTAMP:20260425T062409
CREATED:20240412T135238Z
LAST-MODIFIED:20240412T135238Z
UID:8184-1713607200-1713621600@downtownwabash.org
SUMMARY:Spring Swing: Pop Up Mini Golf @ the Museum
DESCRIPTION:Play a round on our flowery 9-hole regulation golf course set inside the museum. \nMini golf tickets include full access to the Museum and can be purchased at the Museum welcome desk. Non-member tickets are $9 for ages 12+ and $6 for ages 2-11. Member tickets are $5 for ages 12+ and $3 for ages 2-11.
URL:https://downtownwabash.org/event/spring-swing-pop-up-mini-golf-the-museum-2024-04-20/
LOCATION:Wabash\, IN\, 46992\, United States
ATTACH;FMTTYPE=image/png:https://downtownwabash.org/wp-content/uploads/Downtown-Wabash-Event-Format-614cd3534f5311882ac117188f19a7f8.png
END:VEVENT
BEGIN:VEVENT
DTSTART;TZID=America/Indiana/Indianapolis:20240420T100000
DTEND;TZID=America/Indiana/Indianapolis:20240420T120000
DTSTAMP:20260425T062409
CREATED:20240222T144957Z
LAST-MODIFIED:20240222T144957Z
UID:7495-1713607200-1713614400@downtownwabash.org
SUMMARY:Workshop: Embroidery Embellished Photograph
DESCRIPTION:Explore the delicate artistry of enhancing photos with intricate stitching techniques. You’ll create unique and beautiful designs that blend traditional embroidery with photography. Elevate your creativity as you transform images into unique\, textured masterpieces. Ages 12+
URL:https://downtownwabash.org/event/workshop-embroidery-embellished-photograph/
LOCATION:Wabash\, IN\, 46992\, United States
ATTACH;FMTTYPE=image/jpeg:https://downtownwabash.org/wp-content/uploads/Eagles-d565c46d99526a11cd1c77bd51436600.jpg
END:VEVENT
BEGIN:VEVENT
DTSTART;TZID=America/Indiana/Indianapolis:20240420T080000
DTEND;TZID=America/Indiana/Indianapolis:20240420T170000
DTSTAMP:20260425T062409
CREATED:20240415T154228Z
LAST-MODIFIED:20240415T154228Z
UID:8258-1713600000-1713632400@downtownwabash.org
SUMMARY:Wabash Co. Schools & Peru High School Exhibit
DESCRIPTION:Featuring works from all Wabash County Schools and Peru High School students.
URL:https://downtownwabash.org/event/wabash-co-schools-peru-high-school-exhibit-2024-04-20/
LOCATION:Wabash\, IN\, 46992\, United States
ATTACH;FMTTYPE=image/jpeg:https://downtownwabash.org/wp-content/uploads/HC-Gallery2-34356bf000fe97592b7b8688c0269d8e.jpg
END:VEVENT
BEGIN:VEVENT
DTSTART;TZID=America/Indiana/Indianapolis:20240419T193000
DTEND;TZID=America/Indiana/Indianapolis:20240419T210000
DTSTAMP:20260425T062409
CREATED:20231009T180020Z
LAST-MODIFIED:20231009T180020Z
UID:6114-1713555000-1713560400@downtownwabash.org
SUMMARY:Warrant with Special Guest FireHouse
DESCRIPTION:Get ready to “Let The Good Times ROCK” with an electrifying rock experience! WARRANT has unleashed hits like “Cherry Pie\,” “Heaven\,” “Sometimes She Cries\,” and “Uncle Tom’s Cabin.” FireHouse has ignited countless stages with classics like “Love of a Lifetime\,” “Don’t Treat Me Bad\,” “When I Look into Your Eyes\,” and “Reach for the Sky.” Don’t miss a night of chart-topping anthems and high-energy performances from these bands that will have you singing along and rocking out\, bringing the best of rock to the forefront.
URL:https://downtownwabash.org/event/warrant-with-special-guest-firehouse/
LOCATION:Wabash\, IN\, 46992\, United States
ATTACH;FMTTYPE=image/jpeg:https://downtownwabash.org/wp-content/uploads/Warrant-476dea14330524532027680fa37912eb.jpg
END:VEVENT
END:VCALENDAR